BEGIN:VCALENDAR
VERSION:2.0
PRODID:-//singingcreekcenter.org - ECPv6.15.20//NONSGML v1.0//EN
CALSCALE:GREGORIAN
METHOD:PUBLISH
X-ORIGINAL-URL:https://www.singingcreekcenter.org
X-WR-CALDESC:Events for singingcreekcenter.org
REFRESH-INTERVAL;VALUE=DURATION:PT1H
X-Robots-Tag:noindex
X-PUBLISHED-TTL:PT1H
BEGIN:VTIMEZONE
TZID:UTC
BEGIN:STANDARD
TZOFFSETFROM:+0000
TZOFFSETTO:+0000
TZNAME:UTC
DTSTART:20180101T000000
END:STANDARD
END:VTIMEZONE
BEGIN:VEVENT
DTSTART;TZID=UTC:20190904T183000
DTEND;TZID=UTC:20190904T203000
DTSTAMP:20260422T045752
CREATED:20190617T103347Z
LAST-MODIFIED:20190904T022010Z
UID:3635-1567621800-1567629000@www.singingcreekcenter.org
SUMMARY:Spinning Yarns: Storytelling and Fiber Arts with Karen Haas
DESCRIPTION:Join us for a wonderful evening of pioneer stories told by Karen Haas\, a remarkable storyteller also know as “Many Voices”. Then we will make cute needle felted figures\, and you can try the loom and the drop spindle. All supplies are provided and you will leave with a smile and a felted creature or two! To hear more about Karen’s storytelling and more on her website\, click here. \n			\n				\n				\n				\n				\n				About Karen Haas\nKaren Haas enjoys both telling in modern times and bringing the past to life with living history presentations. Her effervescent style engages emotions\, from the sublime to the ridiculous\, in audiences both young and old. Her stories\, both traditional and new\, may bring laughter\, tears\, shivers\, or a deep thought or two\, but will always entertain. \nKaren can often be found bringing the past to life at Northwest historic sites such as Job Carr Cabin Museum\, Champoeg State Heritage Area and San Juan Islands National Historic Park. Her living history presentations have been featured at National Historic Oregon Trail Interpretive Center\, End of the Oregon Trail Interpretive Center and Fort Clatsop. She feels especially rewarded telling the tales of those whose voices are usually silent in history — women. \nDrawing on her experiences as a K-12 music educator\, she incorporates music and sing-alongs into many of her presentations\, often bringing along folk instruments. \nAs well as weaving words\, Karen spins and weaves fibers as she brings traditional crafts to reenactments and presentations. \nShe firmly believes that our stories tell who we are\, where we’ve come from\, and where we’re going. \n			\n			\n				\n				\n				\n				\n			\n				\n				\n				\n				\n				\n				\n				\n				\n				\n				\n				Oops! We could not locate your form.
URL:https://www.singingcreekcenter.org/event/spinning-yarns-storytelling-and-fiber-arts-with-karen-haas/
LOCATION:Dr. Snapp House\, 360 S. River Rd.\, Cottage Grove\, OR
CATEGORIES:Classes,Community Event
ATTACH;FMTTYPE=image/jpeg:https://www.singingcreekcenter.org/wp-content/uploads/2019/06/kids-needle-felting.jpg
ORGANIZER;CN="Karen Rainsong":MAILTO:director@singingcreekcenter.org
END:VEVENT
END:VCALENDAR