BEGIN:VCALENDAR
VERSION:2.0
PRODID:-//singingcreekcenter.org - ECPv6.15.20//NONSGML v1.0//EN
CALSCALE:GREGORIAN
METHOD:PUBLISH
X-ORIGINAL-URL:https://www.singingcreekcenter.org
X-WR-CALDESC:Events for singingcreekcenter.org
REFRESH-INTERVAL;VALUE=DURATION:PT1H
X-Robots-Tag:noindex
X-PUBLISHED-TTL:PT1H
BEGIN:VTIMEZONE
TZID:UTC
BEGIN:STANDARD
TZOFFSETFROM:+0000
TZOFFSETTO:+0000
TZNAME:UTC
DTSTART:20170101T000000
END:STANDARD
END:VTIMEZONE
BEGIN:VEVENT
DTSTART;TZID=UTC:20180310T130000
DTEND;TZID=UTC:20180310T150000
DTSTAMP:20260423T110131
CREATED:20171229T024410Z
LAST-MODIFIED:20180309T130057Z
UID:2900-1520686800-1520694000@www.singingcreekcenter.org
SUMMARY:Homestead Arts: Rag Rug Making Class - March 2018
DESCRIPTION:Come learn how to make your own braided rag rug at the Granary at Singing Creek Center! Bring some old sheets to tear into strips to make the rug. You can find them easily at Goodwill or thrift stores. Our class is taught by Carolyn Bard\, and we will have “starts” for you to use so you can dive right in. Adults can register for this class as well (no need to have a child with you.) \nThe granary building is not wheelchair accessible at this time; there are two steps up to the front door. \n$10 fee per rug made. The whole family can come out for just $10 and make a rug! \nIf you prefer not to use Paypal and pay at the door\, please contact our Director\, Karen at karen@singingcreekcenter.org or 541 968-1986. \nPre-registration is required using the form below. See you there! \n 
URL:https://www.singingcreekcenter.org/event/homestead-arts-rag-rug-making-class-march-2018/
LOCATION:the Granary building at S.C.\, 92194 Purkerson Rd.\, Junction City\, OR\, 97448\, United States
CATEGORIES:Classes
ATTACH;FMTTYPE=image/jpeg:https://www.singingcreekcenter.org/wp-content/uploads/2017/12/rag-rug-featured-image.jpg
ORGANIZER;CN="Karen Rainsong":MAILTO:director@singingcreekcenter.org
END:VEVENT
END:VCALENDAR