BEGIN:VCALENDAR
VERSION:2.0
PRODID:-//singingcreekcenter.org - ECPv6.15.20//NONSGML v1.0//EN
CALSCALE:GREGORIAN
METHOD:PUBLISH
X-WR-CALNAME:singingcreekcenter.org
X-ORIGINAL-URL:https://www.singingcreekcenter.org
X-WR-CALDESC:Events for singingcreekcenter.org
REFRESH-INTERVAL;VALUE=DURATION:PT1H
X-Robots-Tag:noindex
X-PUBLISHED-TTL:PT1H
BEGIN:VTIMEZONE
TZID:UTC
BEGIN:STANDARD
TZOFFSETFROM:+0000
TZOFFSETTO:+0000
TZNAME:UTC
DTSTART:20180101T000000
END:STANDARD
END:VTIMEZONE
BEGIN:VEVENT
DTSTART;TZID=UTC:20191214T130000
DTEND;TZID=UTC:20191214T150000
DTSTAMP:20260419T145825
CREATED:20190615T015008Z
LAST-MODIFIED:20191116T025614Z
UID:3631-1576328400-1576335600@www.singingcreekcenter.org
SUMMARY:Winter Crafts: Candle Making and Mini Wreaths
DESCRIPTION:Girls only!\nThis class is now FULL\, see you next year! \nMake some holiday cheer with your own homemade crafts!  You will create gifts the old-fashioned way\, like dipping beeswax candles and pouring wax into little tins for candles. Also adorn mini grapevine wreaths with natural objects and ribbons to give as gifts or decorate your home. All supplies and instruction provided. Sign up on the Girl Scouts website if you are a Girl Scout here: http://www.girlscoutsosw.org/. Otherwise please email Karen Rainsong at director@singingcreekcenter.org. \nThis class is offered to Girl Scouts through their website and also for other girls in our community. \nLocation: Cottage Grove Community Center
URL:https://www.singingcreekcenter.org/event/winter-crafts-candle-making-and-mini-wreaths/
CATEGORIES:Classes,pioneer events
ATTACH;FMTTYPE=image/jpeg:https://www.singingcreekcenter.org/wp-content/uploads/2019/06/beeswax-candles.jpg
ORGANIZER;CN="Karen Rainsong":MAILTO:director@singingcreekcenter.org
END:VEVENT
END:VCALENDAR