BEGIN:VCALENDAR
VERSION:2.0
PRODID:-//singingcreekcenter.org - ECPv6.15.20//NONSGML v1.0//EN
CALSCALE:GREGORIAN
METHOD:PUBLISH
X-WR-CALNAME:singingcreekcenter.org
X-ORIGINAL-URL:https://www.singingcreekcenter.org
X-WR-CALDESC:Events for singingcreekcenter.org
REFRESH-INTERVAL;VALUE=DURATION:PT1H
X-Robots-Tag:noindex
X-PUBLISHED-TTL:PT1H
BEGIN:VTIMEZONE
TZID:America/Los_Angeles
BEGIN:DAYLIGHT
TZOFFSETFROM:-0800
TZOFFSETTO:-0700
TZNAME:PDT
DTSTART:20240310T100000
END:DAYLIGHT
BEGIN:STANDARD
TZOFFSETFROM:-0700
TZOFFSETTO:-0800
TZNAME:PST
DTSTART:20241103T090000
END:STANDARD
BEGIN:DAYLIGHT
TZOFFSETFROM:-0800
TZOFFSETTO:-0700
TZNAME:PDT
DTSTART:20250309T100000
END:DAYLIGHT
BEGIN:STANDARD
TZOFFSETFROM:-0700
TZOFFSETTO:-0800
TZNAME:PST
DTSTART:20251102T090000
END:STANDARD
BEGIN:DAYLIGHT
TZOFFSETFROM:-0800
TZOFFSETTO:-0700
TZNAME:PDT
DTSTART:20260308T100000
END:DAYLIGHT
BEGIN:STANDARD
TZOFFSETFROM:-0700
TZOFFSETTO:-0800
TZNAME:PST
DTSTART:20261101T090000
END:STANDARD
END:VTIMEZONE
BEGIN:VEVENT
DTSTART;TZID=America/Los_Angeles:20250215T090000
DTEND;TZID=America/Los_Angeles:20250216T170000
DTSTAMP:20260423T041651
CREATED:20241208T042622Z
LAST-MODIFIED:20250108T014600Z
UID:10745-1739610000-1739725200@www.singingcreekcenter.org
SUMMARY:Frontier Heritage Fair SCEC booth 2025
DESCRIPTION:Join us Feb 15th and 16th at the Lane County Fairgrounds at the annual Frontier Heritage Fair!9am to 5pm on Saturday9am to 4pm on Sunday \nThis indoor family-friendly event features booths\, exhibits\, crafts\, artisans and live music! See the  the frontier\, wild west and Civil War era goods and demonstrations.We will be doing our always popular corn dollie making craft! Create your own boy or girl doll and dress it up with clothing you create. (Suggested Donation $1 per doll) \nThere is a small entrance fee to come into the fair but it’s well worth it! \nAdmission $5\, Kids 12 and under Free\, when accompanied by an adult. \nWe hope to see you there. \nIf you want to volunteer for a shift at our booth you can get in free. Your kids can come along and help if you volunteer. Contact our Director\, Karen Rainsong\, for more info: director@singingcreekcenter.org. \nPLEASE NOTE:  Singing Creek is a participant only\, not part of the management.  The event has a limited scope with displays and merchandise relating to the Fur Trade\, Civil War\, Old West and pre-1898 period in general.  It is not a craft fair.  For more information call the director Melody Morrell at 541-689-4281
URL:https://www.singingcreekcenter.org/event/frontier-heritage-fair-scec-booth-2025/
LOCATION:Lane County History Museum
CATEGORIES:Community Event
ATTACH;FMTTYPE=image/jpeg:https://www.singingcreekcenter.org/wp-content/uploads/2019/12/frontier-fair-for-web.jpg
END:VEVENT
BEGIN:VEVENT
DTSTART;TZID=America/Los_Angeles:20250219T150000
DTEND;TZID=America/Los_Angeles:20250219T160000
DTSTAMP:20260423T041651
CREATED:20250205T235335Z
LAST-MODIFIED:20250205T235343Z
UID:11022-1739977200-1739980800@www.singingcreekcenter.org
SUMMARY:Draw a Barn Owl: Free Class for Kids
DESCRIPTION:Raptor Art Challenge: Draw an Owl\n \nWed Feb 19th 3pm\, FREE\nLocation: Adventure! Children’s Museum inside the Valley River Center Mall\n \nLearn how to draw a Barn owl step-by-step in this art class for ages 8 and up. Children’s art will be eligible for parents to enter in an art contest by the Cascades Raptor Center (deadline to enter is March 23rd). We provide all the supplies. Instruction provided by Singing Creek Educational Center\, a nonprofit in Lane County. This is NOT a drop-off activity\, parents must stay with their children at all times.\nLearn more about the art contest here:https://cascadesraptorcenter.org/youth-art-challenge-information/
URL:https://www.singingcreekcenter.org/event/draw-a-barn-owl-free-class-for-kids/
LOCATION:Adventure! Children’s Museum
CATEGORIES:Classes
ATTACH;FMTTYPE=image/jpeg:https://www.singingcreekcenter.org/wp-content/uploads/2025/02/how-to-draw-a-barn-owl-picturejpg.jpg
END:VEVENT
END:VCALENDAR