BEGIN:VCALENDAR
VERSION:2.0
PRODID:-//singingcreekcenter.org - ECPv6.15.20//NONSGML v1.0//EN
CALSCALE:GREGORIAN
METHOD:PUBLISH
X-WR-CALNAME:singingcreekcenter.org
X-ORIGINAL-URL:https://www.singingcreekcenter.org
X-WR-CALDESC:Events for singingcreekcenter.org
REFRESH-INTERVAL;VALUE=DURATION:PT1H
X-Robots-Tag:noindex
X-PUBLISHED-TTL:PT1H
BEGIN:VTIMEZONE
TZID:America/Los_Angeles
BEGIN:DAYLIGHT
TZOFFSETFROM:-0800
TZOFFSETTO:-0700
TZNAME:PDT
DTSTART:20230312T100000
END:DAYLIGHT
BEGIN:STANDARD
TZOFFSETFROM:-0700
TZOFFSETTO:-0800
TZNAME:PST
DTSTART:20231105T090000
END:STANDARD
BEGIN:DAYLIGHT
TZOFFSETFROM:-0800
TZOFFSETTO:-0700
TZNAME:PDT
DTSTART:20240310T100000
END:DAYLIGHT
BEGIN:STANDARD
TZOFFSETFROM:-0700
TZOFFSETTO:-0800
TZNAME:PST
DTSTART:20241103T090000
END:STANDARD
BEGIN:DAYLIGHT
TZOFFSETFROM:-0800
TZOFFSETTO:-0700
TZNAME:PDT
DTSTART:20250309T100000
END:DAYLIGHT
BEGIN:STANDARD
TZOFFSETFROM:-0700
TZOFFSETTO:-0800
TZNAME:PST
DTSTART:20251102T090000
END:STANDARD
END:VTIMEZONE
BEGIN:VEVENT
DTSTART;TZID=America/Los_Angeles:20241207T120000
DTEND;TZID=America/Los_Angeles:20241207T130000
DTSTAMP:20260423T012020
CREATED:20240816T204658Z
LAST-MODIFIED:20241120T014103Z
UID:10417-1733572800-1733576400@www.singingcreekcenter.org
SUMMARY:Native American Cultural Presentation at Fern Ridge Library
DESCRIPTION:Deitrich peters\, photo by Karen Rainsong \n			\n				\n				\n				\n				\n				See the entire Acorn Circle listing of events for kids and adults\n				Learn More\n			\n			\n				\n				\n				\n				\n				\n				\n				\n				\n				\n				Join us for a wonderful cultural presentation with Deitrich Peters of the Confederated Tribes of Grand Ronde!\nJoin us at the Fern Ridge Library in December\, in honor of Native American Heritage Month (which was in November)\, with Deitrich Peters of the Grand Ronde Tribe. Deitrich (Deitz) has graciously agreed to share elements of his regalia and will play flute music\, talk about his culture\, and answer questions. SCEC Executive Director Karen Rainsong will attend and display items of Kalapuya material culture. Best for ages 8 and up. \nFREESeating is limited\, please arrive 10 minutes early. \nDate: Saturday  Dec 7th\, Noon – 1pmLocation: Fern Ridge Library\, 88026 Territorial Hwy\, Veneta\, OR 97487 \nThank you to our generous funders: Spirit Mountain Community Fund\, Three Rivers Foundation\, The Woodard Family Foundation\, the City of Cottage Grove. \n			\n			\n				\n				\n				\n				\n			\n				\n				\n				\n				\n				\n				\n				\n				\n				\n				\n				Deitrich Peters BioI was born in Dallas\, Oregon and I'm a member of the Confederated Tribes of Grand Ronde. I am Kalapuya\, Rouge River\, and Umpqua. My given name is Cosa Tance\, meaning "Sky Dancer". My English name is Deitrich David Peters. I was given both my grandfather's middle names. I grew up in Oregon and love to travel to as many cultural events as I can.I love my culture and traditions - making things with my hands\, working with feathers\, beadwork\, traditional dancing\, storytelling and of course my all time favorite\, flute playing. I have learned these many things from our elders\, and have been gifted these things by the Creator.
URL:https://www.singingcreekcenter.org/event/native-presentation-fern-ridge-library/
LOCATION:Fern Ridge Public Library\, 88026 Territorial Hwy\, Veneta\, OR\, 97487
CATEGORIES:Community Event
ATTACH;FMTTYPE=image/png:https://www.singingcreekcenter.org/wp-content/uploads/2024/01/Deitz-teaching-small-for-web.png
END:VEVENT
END:VCALENDAR