BEGIN:VCALENDAR
VERSION:2.0
PRODID:-//singingcreekcenter.org - ECPv6.15.20//NONSGML v1.0//EN
CALSCALE:GREGORIAN
METHOD:PUBLISH
X-WR-CALNAME:singingcreekcenter.org
X-ORIGINAL-URL:https://www.singingcreekcenter.org
X-WR-CALDESC:Events for singingcreekcenter.org
REFRESH-INTERVAL;VALUE=DURATION:PT1H
X-Robots-Tag:noindex
X-PUBLISHED-TTL:PT1H
BEGIN:VTIMEZONE
TZID:America/Los_Angeles
BEGIN:DAYLIGHT
TZOFFSETFROM:-0800
TZOFFSETTO:-0700
TZNAME:PDT
DTSTART:20230312T100000
END:DAYLIGHT
BEGIN:STANDARD
TZOFFSETFROM:-0700
TZOFFSETTO:-0800
TZNAME:PST
DTSTART:20231105T090000
END:STANDARD
BEGIN:DAYLIGHT
TZOFFSETFROM:-0800
TZOFFSETTO:-0700
TZNAME:PDT
DTSTART:20240310T100000
END:DAYLIGHT
BEGIN:STANDARD
TZOFFSETFROM:-0700
TZOFFSETTO:-0800
TZNAME:PST
DTSTART:20241103T090000
END:STANDARD
BEGIN:DAYLIGHT
TZOFFSETFROM:-0800
TZOFFSETTO:-0700
TZNAME:PDT
DTSTART:20250309T100000
END:DAYLIGHT
BEGIN:STANDARD
TZOFFSETFROM:-0700
TZOFFSETTO:-0800
TZNAME:PST
DTSTART:20251102T090000
END:STANDARD
END:VTIMEZONE
BEGIN:VEVENT
DTSTART;TZID=America/Los_Angeles:20241001T100000
DTEND;TZID=America/Los_Angeles:20241001T170000
DTSTAMP:20260422T221808
CREATED:20240103T205053Z
LAST-MODIFIED:20241030T005910Z
UID:9337-1727776800-1727802000@www.singingcreekcenter.org
SUMMARY:Eugene Library bookcase display opens
DESCRIPTION:Eugene Public Library Children’s Section bookcase display\nFor the months of October and November 2024\, we will be using the large bookcases as you enter the children’s section of the library. We will fill it with Native American artifacts\, cultural items\, stories and descriptions. Come check it out!
URL:https://www.singingcreekcenter.org/event/eugene-library-bookcase-display-opens/
LOCATION:Eugene Public Library\, 100 W 10th Ave\,\, Eugene\, OR\, 97401
CATEGORIES:Community Event
ORGANIZER;CN="Karen Rainsong":MAILTO:director@singingcreekcenter.org
END:VEVENT
BEGIN:VEVENT
DTSTART;TZID=America/Los_Angeles:20241004T153000
DTEND;TZID=America/Los_Angeles:20241004T163000
DTSTAMP:20260422T221808
CREATED:20240731T211858Z
LAST-MODIFIED:20240813T215934Z
UID:10284-1728055800-1728059400@www.singingcreekcenter.org
SUMMARY:Acorn Circle: Let's Go Eeling at Siuslaw Library
DESCRIPTION:SESSION ONE“Let’s Go Eeling” Storybook and Make a Basket \nThis FUN free learning session will include watching a short video\, hearing a storybook about catching eels\, discussion about the main idea of the story\, and a craft where you can make your own small basket with ribbons to take home. Get an acorn for your basket! Curriculum by the Confederated Tribes of Grand Ronde\, adaptation and teaching by the staff of Singing Creek Educational Center. Teachers and parents are welcome to attend. \nSupported by the Woodard Family Foundation\, the City of Cottage Grove\, Spirit Mountain Community Fund\, Three Rivers Foundation and participating libraries. \nBest for ages 6 – 10\, but children of all ages are welcome. \nLocation: Siuslaw LibraryDate: Friday October 4th\, 2024Time: 3:30pm – 4:30pm \nAddress: 1460 9th Street\, Florence\, Oregon
URL:https://www.singingcreekcenter.org/event/acorn-circle-eeling-siuslaw/
LOCATION:Siuslaw Library\, 1460 9th St.\,\, Florence\, Oregon
CATEGORIES:Community Event
ATTACH;FMTTYPE=image/jpeg:https://www.singingcreekcenter.org/wp-content/uploads/2023/10/lets-go-eeling-featured-image.jpg
END:VEVENT
BEGIN:VEVENT
DTSTART;TZID=America/Los_Angeles:20241009T143000
DTEND;TZID=America/Los_Angeles:20241009T153000
DTSTAMP:20260422T221808
CREATED:20240322T195115Z
LAST-MODIFIED:20240731T205351Z
UID:9751-1728484200-1728487800@www.singingcreekcenter.org
SUMMARY:Acorn Circle: "Let's Go Eeling" at Cottage Grove Library
DESCRIPTION:SESSION ONE“Let’s Go Eeling” Storybook and Make a Basket\nThis free learning session will include watching a short video\, hearing a storybook about catching eels\, discussion about the main idea of the story\, and a craft where you can make your own small basket with ribbons to take home. Get an acorn for your basket! Curriculum by the Confederated Tribes of Grand Ronde\, adaptation and teaching by the staff of Singing Creek Educational Center. Teachers and parents are welcome to attend.Supported by the Woodard Family Foundation\, the City of Cottage Grove\, Spirit Mountain Community Fund\, Three Rivers Foundation and participating libraries. \nBest for ages 6 – 10 \nLocation: Cottage Grove LibraryDate: Wednesday October 9th\, 2024Time: 2:30pm – 3:30pm
URL:https://www.singingcreekcenter.org/event/acorn-circle-lets-go-eeling-at-cottage-grove-library/
LOCATION:Cottage Grove Library\, 700 E Gibbs Ave\,\, Cottage Grove\, OR\, 97424
CATEGORIES:Community Event
ATTACH;FMTTYPE=image/jpeg:https://www.singingcreekcenter.org/wp-content/uploads/2023/10/lets-go-eeling-featured-image.jpg
END:VEVENT
BEGIN:VEVENT
DTSTART;TZID=America/Los_Angeles:20241011T133000
DTEND;TZID=America/Los_Angeles:20241011T143000
DTSTAMP:20260422T221808
CREATED:20240731T172932Z
LAST-MODIFIED:20240731T172937Z
UID:10245-1728653400-1728657000@www.singingcreekcenter.org
SUMMARY:Acorn Circle: "Mulak Man" at Springfield Library
DESCRIPTION:SESSION TWO“Mulak Man” and make a leather pouch \nThis learning session will include hearing the story “Mulak Man” about traditional elk hunting\, and a “moving quiz”  testing comprehension\, then make your own leather pouch to take home. Get an acorn for your pouch! Curriculum by the Confederated Tribes of Grand Ronde\, adaptation and teaching by the staff of Singing Creek Educational Center. Teachers and parents are welcome to attend. \nSupported by the Woodard Family Foundation\, the City of Cottage Grove\, Spirit Mountain Community Fund\, Three Rivers Foundation and participating libraries. \nBest for ages 6 – 10\, but children of all ages are welcome. \nLocation: Springfield LibraryDate: Friday\, October 11\, 2024Time: 1:30pm – 2:30pm
URL:https://www.singingcreekcenter.org/event/acorn-circle-mulak-man-springfield/
LOCATION:Springfield Public Library\, 225 5th Street\, Springfield\, OR\, 97477-4636
CATEGORIES:Community Event
ATTACH;FMTTYPE=image/jpeg:https://www.singingcreekcenter.org/wp-content/uploads/2023/10/mulak-man-featured.jpg
END:VEVENT
BEGIN:VEVENT
DTSTART;TZID=America/Los_Angeles:20241012T140000
DTEND;TZID=America/Los_Angeles:20241012T150000
DTSTAMP:20260422T221808
CREATED:20240903T221249Z
LAST-MODIFIED:20240904T012644Z
UID:10495-1728741600-1728745200@www.singingcreekcenter.org
SUMMARY:Acorn Circle: Coyote and the Fish Trap in Oakridge
DESCRIPTION:“Coyote and the Fish Trap” storybook\, Past/Present tense verbs\, and Make Your Own Coyote Mask\nThis free learning session will include hearing the story “Coyote and the Fish Trap”\, learning about tenses in verbs\, learning a few words in Chinuk wawa and making a paper coyote mask to take home.  Curriculum by the Confederated Tribes of Grand Ronde\, adaptation and teaching by the staff of Singing Creek Educational Center. Teachers and parents are welcome to attend. \nSupported by the Woodard Family Foundation\, the City of Cottage Grove\, Spirit Mountain Community Fund\, and the Three Rivers Foundation. \nBest for ages 5 – 10. \nLocation: Oakridge Community CenterDate: Saturday October 12\, 2024Time: 2pm – 3pm
URL:https://www.singingcreekcenter.org/event/acorn-circle-coyote-and-the-fish-trap-in-oakridge/
LOCATION:OR
CATEGORIES:Community Event
ATTACH;FMTTYPE=image/jpeg:https://www.singingcreekcenter.org/wp-content/uploads/2023/10/coyote-trap-featured.jpg
END:VEVENT
BEGIN:VEVENT
DTSTART;TZID=America/Los_Angeles:20241012T170000
DTEND;TZID=America/Los_Angeles:20241012T180000
DTSTAMP:20260422T221808
CREATED:20240903T220645Z
LAST-MODIFIED:20240903T220915Z
UID:10486-1728752400-1728756000@www.singingcreekcenter.org
SUMMARY:Native American Cultural Presentation in Oakridge
DESCRIPTION:Deitrich Peters\, photo by Karen Rainsong \n			\n				\n				\n				\n				\n				See the entire Acorn Circle listing of events for kids and adults\n				Learn More\n			\n			\n				\n				\n				\n				\n				\n				\n				\n				\n				\n				Join us for a wonderful cultural presentation with Deitrich Peters of the Confederated Tribes of Grand Ronde!\nJoin us at the Oakridge community center in October\, in honor of Native American Heritage Month (which occurs in November)\, with Deitrich Peters of the Grand Ronde Tribe. Deitrich (Deitz) has graciously agreed to share elements of his regalia and will play flute music\, talk about his culture\, and answer questions. SCEC Executive Director Karen Rainsong will attend and display items of Kalapuya material culture. Best for ages 8 and up. \n—-Also attend a Free children’s educational session at 2pm at the community center\, focused on the Grand Ronde tribal curriculum “Coyote and the Fish Trap”. Kids ages 5 to 10 will get the most out of this and will color a coyote paper mask to take home. —— \nFREESeating is limited\, please arrive 10 minutes early. \nDate: Saturday  October 12th\, 5pm – 6pmLocation: Oakridge community center\, Oregon \n			\n			\n				\n				\n				\n				\n			\n				\n				\n				\n				\n				\n				\n				\n				\n				\n				\n				Deitrich Peters BioI was born in Dallas\, Oregon and I'm a member of the Confederated Tribes of Grand Ronde. I am Kalapuya\, Rouge River\, and Umpqua. My given name is Cosa Tance\, meaning "Sky Dancer". My English name is Deitrich David Peters. I was given both my grandfather's middle names. I grew up in Oregon and love to travel to as many cultural events as I can.I love my culture and traditions - making things with my hands\, working with feathers\, beadwork\, traditional dancing\, storytelling and of course my all time favorite\, flute playing. I have learned these many things from our elders\, and have been gifted these things by the Creator.
URL:https://www.singingcreekcenter.org/event/native-cultural-oakridge/
LOCATION:OR
CATEGORIES:Community Event
ATTACH;FMTTYPE=image/jpeg:https://www.singingcreekcenter.org/wp-content/uploads/2024/07/Deitz-at-Cottage-Grove.jpg
END:VEVENT
BEGIN:VEVENT
DTSTART;TZID=America/Los_Angeles:20241015T153000
DTEND;TZID=America/Los_Angeles:20241015T163000
DTSTAMP:20260422T221808
CREATED:20240816T202723Z
LAST-MODIFIED:20240816T203921Z
UID:10391-1729006200-1729009800@www.singingcreekcenter.org
SUMMARY:Acorn Circle: “Let’s Go Eeling” at Fern Ridge Library
DESCRIPTION:SESSION ONE“Let’s Go Eeling” Storybook and Make a Basket \nThis FUN free learning session will include watching a short video\, hearing a storybook about catching eels\, discussion about the main idea of the story\, and a craft where you can make your own small basket with ribbons to take home. Get an acorn for your basket! Curriculum by the Confederated Tribes of Grand Ronde\, adaptation and teaching by the staff of Singing Creek Educational Center. Teachers and parents are welcome to attend. \nSupported by the Woodard Family Foundation\, the City of Cottage Grove\, Spirit Mountain Community Fund\, Three Rivers Foundation and participating libraries. \nBest for ages 6 – 10\, but children of all ages are welcome. \nLocation: Fern Ridge Library\, 88026 Territorial Hwy\, Veneta\, OR 97487Date: Tuesday\, October 15\, 2024Time: 3:30pm – 4:30pm
URL:https://www.singingcreekcenter.org/event/acorn-eeling-fern-ridge-library/
LOCATION:Fern Ridge Public Library\, 88026 Territorial Hwy\, Veneta\, OR\, 97487
CATEGORIES:Community Event
ATTACH;FMTTYPE=image/jpeg:https://www.singingcreekcenter.org/wp-content/uploads/2023/10/lets-go-eeling-featured-image.jpg
END:VEVENT
BEGIN:VEVENT
DTSTART;TZID=America/Los_Angeles:20241016T130000
DTEND;TZID=America/Los_Angeles:20241016T140000
DTSTAMP:20260422T221808
CREATED:20240731T173819Z
LAST-MODIFIED:20240821T230641Z
UID:10256-1729083600-1729087200@www.singingcreekcenter.org
SUMMARY:Acorn Circle: "Let's Go Eeling" at Drain Library
DESCRIPTION:SESSION ONE“Let’s Go Eeling” Storybook and Make a Basket \nThis FUN free learning session will include watching a short video\, hearing a storybook about catching eels\, discussion about the main idea of the story\, and a craft where you can make your own small basket with ribbons to take home. Get an acorn for your basket! Curriculum by the Confederated Tribes of Grand Ronde\, adaptation and teaching by the staff of Singing Creek Educational Center. Teachers and parents are welcome to attend. \nSupported by the Woodard Family Foundation\, the City of Cottage Grove\, Spirit Mountain Community Fund\, Three Rivers Foundation and participating libraries. \nBest for ages 6 – 10\, but children of all ages are welcome. \nLocation: Mildred Whipple Library in Drain\, ORDate: Wednesday\, October 16\, 2024Time: 1pm – 2pm
URL:https://www.singingcreekcenter.org/event/acorn-circle-lets-go-eeling-at-drain-library/
LOCATION:Mildred Whipple Public Library\, 205 West A Ave.\, Drain\, Oregon\, 97435
CATEGORIES:Community Event
ATTACH;FMTTYPE=image/jpeg:https://www.singingcreekcenter.org/wp-content/uploads/2023/10/lets-go-eeling-featured-image.jpg
END:VEVENT
BEGIN:VEVENT
DTSTART;TZID=America/Los_Angeles:20241016T143000
DTEND;TZID=America/Los_Angeles:20241016T153000
DTSTAMP:20260422T221808
CREATED:20240322T210721Z
LAST-MODIFIED:20240731T205550Z
UID:9756-1729089000-1729092600@www.singingcreekcenter.org
SUMMARY:Acorn Circle: "Mulak Man" at Cottage Grove Library
DESCRIPTION:SESSION TWO“Mulak Man” and make a leather pouch \nThis learning session will include hearing the story “Mulak Man” about traditional elk hunting\, and a “moving quiz” testing comprehension for prizes\, then make your own leather pouch to take home. Get an acorn for your pouch! Curriculum by the Confederated Tribes of Grand Ronde\, adaptation and teaching by the staff of Singing Creek Educational Center. Teachers and parents are welcome to attend. \nSupported by the Woodard Family Foundation\, the City of Cottage Grove\, Spirit Mountain Community Fund\, Three Rivers Foundation and participating libraries. \nBest for ages 6 – 10\, but children of all ages are welcome. \nLocation: Cottage Grove LibraryDate: Monday October 16th\, 2024Time: 2:30pm – 3:30pm
URL:https://www.singingcreekcenter.org/event/acorn-circle-mulak-man-at-cottage-grove-library/
LOCATION:Cottage Grove Library\, 700 E Gibbs Ave\,\, Cottage Grove\, OR\, 97424
CATEGORIES:Community Event
ATTACH;FMTTYPE=image/jpeg:https://www.singingcreekcenter.org/wp-content/uploads/2023/10/mulak-man-featured.jpg
END:VEVENT
BEGIN:VEVENT
DTSTART;TZID=America/Los_Angeles:20241018T153000
DTEND;TZID=America/Los_Angeles:20241018T163000
DTSTAMP:20260422T221808
CREATED:20240731T212927Z
LAST-MODIFIED:20240813T220006Z
UID:10314-1729265400-1729269000@www.singingcreekcenter.org
SUMMARY:Acorn Circle: "Mulak Man" at Siuslaw Library
DESCRIPTION:SESSION TWO“Mulak Man” and make a leather pouch \nThis learning session will include hearing the story “Mulak Man” about traditional elk hunting\, and a “moving quiz” testing comprehension for prizes\, then make your own leather pouch to take home. Get an acorn for your pouch! Curriculum by the Confederated Tribes of Grand Ronde\, adaptation and teaching by the staff of Singing Creek Educational Center. Teachers and parents are welcome to attend. \nSupported by the Woodard Family Foundation\, the City of Cottage Grove\, Spirit Mountain Community Fund\, Three Rivers Foundation and participating libraries. \nBest for ages 6 – 10\, but children of all ages are welcome. \nLocation: Siuslaw LibraryDate: Friday October 18\, 2024Time: 3:30pm – 4:30pm \nAddress: 1460 9th Street\, Florence\, Oregon
URL:https://www.singingcreekcenter.org/event/acorn-circle-mulak-siuslaw/
LOCATION:Siuslaw Library\, 1460 9th St.\,\, Florence\, Oregon
CATEGORIES:Community Event
ATTACH;FMTTYPE=image/jpeg:https://www.singingcreekcenter.org/wp-content/uploads/2023/10/mulak-man-featured.jpg
END:VEVENT
BEGIN:VEVENT
DTSTART;TZID=America/Los_Angeles:20241022T153000
DTEND;TZID=America/Los_Angeles:20241022T163000
DTSTAMP:20260422T221808
CREATED:20240816T203224Z
LAST-MODIFIED:20240816T204101Z
UID:10398-1729611000-1729614600@www.singingcreekcenter.org
SUMMARY:Acorn Circle: “Mulak Man” at Fern Ridge Library
DESCRIPTION:SESSION TWO“Mulak Man” and make a leather pouch \nThis FUN learning session will include hearing the story “Mulak Man” about traditional elk hunting\, and a “moving quiz”  testing comprehension\, then make your own leather pouch to take home. Get an acorn for your pouch! Curriculum by the Confederated Tribes of Grand Ronde\, adaptation and teaching by the staff of Singing Creek Educational Center. Teachers and parents are welcome to attend. \nSupported by the Woodard Family Foundation\, the City of Cottage Grove\, Spirit Mountain Community Fund\, Three Rivers Foundation and participating libraries. \nBest for ages 6 – 10\, but children of all ages are welcome. \nLocation: Fern Ridge Library\, 88026 Territorial Hwy\, Veneta\, OR 97487Date: Tuesday\, October 22\, 2024Time: 3:30pm – 4:30pm
URL:https://www.singingcreekcenter.org/event/acorn-mulak-fern-ridge-library/
LOCATION:Fern Ridge Public Library\, 88026 Territorial Hwy\, Veneta\, OR\, 97487
CATEGORIES:Community Event
ATTACH;FMTTYPE=image/jpeg:https://www.singingcreekcenter.org/wp-content/uploads/2023/10/mulak-man-featured.jpg
END:VEVENT
BEGIN:VEVENT
DTSTART;TZID=America/Los_Angeles:20241023T130000
DTEND;TZID=America/Los_Angeles:20241023T140000
DTSTAMP:20260422T221808
CREATED:20240731T174141Z
LAST-MODIFIED:20240821T230752Z
UID:10264-1729688400-1729692000@www.singingcreekcenter.org
SUMMARY:Acorn Circle: "Mulak Man" at Drain Library
DESCRIPTION:SESSION TWO“Mulak Man” and make a leather pouch \nThis learning session will include hearing the story “Mulak Man” about traditional elk hunting\, and a “moving quiz” testing comprehension for prizes\, then make your own leather pouch to take home. Get an acorn for your pouch! Curriculum by the Confederated Tribes of Grand Ronde\, adaptation and teaching by the staff of Singing Creek Educational Center. Teachers and parents are welcome to attend. \nSupported by the Woodard Family Foundation\, the City of Cottage Grove\, Spirit Mountain Community Fund\, Three Rivers Foundation and participating libraries. \nBest for ages 6 – 10\, but children of all ages are welcome. \nLocation: Mildred Whipple Library in Drain\, ORDate: Wednesday\, October 23rd\, 2024Time: 1pm – 2pm
URL:https://www.singingcreekcenter.org/event/acorn-circle-mulak-man-at-drain-library/
LOCATION:Mildred Whipple Public Library\, 205 West A Ave.\, Drain\, Oregon\, 97435
CATEGORIES:Community Event
ATTACH;FMTTYPE=image/jpeg:https://www.singingcreekcenter.org/wp-content/uploads/2023/10/mulak-man-featured.jpg
END:VEVENT
BEGIN:VEVENT
DTSTART;TZID=America/Los_Angeles:20241023T143000
DTEND;TZID=America/Los_Angeles:20241023T153000
DTSTAMP:20260422T221808
CREATED:20240322T211005Z
LAST-MODIFIED:20240731T204718Z
UID:9761-1729693800-1729697400@www.singingcreekcenter.org
SUMMARY:Acorn Circle: "Coyote and the Fish Trap": Cottage Grove Library
DESCRIPTION:SESSION THREE“Coyote and the Fish Trap” storybook\, Past/Present tense verbs\, and Make Your Own Coyote Mask\nThis free learning session will include hearing the story “Coyote and the Fish Trap”\, learning about tenses in verbs\, learning a few words in Chinuk wawa and making a paper coyote mask to take home. Bring home an acorn!  Curriculum by the Confederated Tribes of Grand Ronde\, adaptation and teaching by the staff of Singing Creek Educational Center. Teachers and parents are welcome to attend. \nSupported by the Woodard Family Foundation\, the City of Cottage Grove\, Spirit Mountain Community Fund\, Three Rivers Foundation and participating libraries. \nBest for ages 6 – 10 \nLocation: Cottage Grove LibraryDate: Wednesday October 23\, 2024Time: 2:30pm – 3:30pm
URL:https://www.singingcreekcenter.org/event/acorn-circle-coyote-and-the-fish-trap-cottage-grove-library/
LOCATION:Cottage Grove Library\, 700 E Gibbs Ave\,\, Cottage Grove\, OR\, 97424
CATEGORIES:Community Event
ATTACH;FMTTYPE=image/jpeg:https://www.singingcreekcenter.org/wp-content/uploads/2023/10/coyote-trap-featured.jpg
END:VEVENT
BEGIN:VEVENT
DTSTART;TZID=America/Los_Angeles:20241025T133000
DTEND;TZID=America/Los_Angeles:20241025T143000
DTSTAMP:20260422T221808
CREATED:20240731T173328Z
LAST-MODIFIED:20240731T205046Z
UID:10251-1729863000-1729866600@www.singingcreekcenter.org
SUMMARY:Acorn Circle: "Coyote and the Fish Trap" at Springfield Library
DESCRIPTION:SESSION THREE“Coyote and the Fish Trap” storybook\, Past/Present tense verbs\, and Make Your Own Coyote Mask \nThis free learning session will include hearing the story “Coyote and the Fish Trap”\, learning about tenses in verbs\, learning a few words in Chinuk wawa and making a paper coyote mask to take home. Bring home an acorn! Curriculum by the Confederated Tribes of Grand Ronde\, adaptation and teaching by the staff of Singing Creek Educational Center. Teachers and parents are welcome to attend. \nSupported by the Woodard Family Foundation\, the City of Cottage Grove\, Spirit Mountain Community Fund\, Three Rivers Foundation and participating libraries. \nBest for ages 6 – 10\, but children of all ages are welcome. \nLocation: Springfield LibraryDate: Friday\, October 25\, 2024Time: 1:30pm – 2:30pm
URL:https://www.singingcreekcenter.org/event/acorn-circle-coyote-springfield/
LOCATION:Springfield Public Library\, 225 5th Street\, Springfield\, OR\, 97477-4636
CATEGORIES:Community Event
ATTACH;FMTTYPE=image/jpeg:https://www.singingcreekcenter.org/wp-content/uploads/2023/10/coyote-trap-featured.jpg
END:VEVENT
BEGIN:VEVENT
DTSTART;TZID=America/Los_Angeles:20241026T133000
DTEND;TZID=America/Los_Angeles:20241026T143000
DTSTAMP:20260422T221808
CREATED:20230824T173514Z
LAST-MODIFIED:20240821T230908Z
UID:8987-1729949400-1729953000@www.singingcreekcenter.org
SUMMARY:Native American Cultural Presentation at Drain Library
DESCRIPTION:Deitrich peters\, photo by Karen Rainsong \n			\n				\n				\n				\n				\n				See the entire Acorn Circle listing of events for kids and adults\n				Learn More\n			\n			\n				\n				\n				\n				\n				\n				\n				\n				\n				\n				Join us for a wonderful cultural presentation with Deitrich Peters of the Confederated Tribes of Grand Ronde!\nJoin us at the Mildred Whipple Library in October\, in honor of Native American Heritage Month (in November)\, with Deitrich Peters of the Grand Ronde Tribe. Deitrich (Deitz) has graciously agreed to share elements of his regalia and will play flute music\, talk about his culture\, and answer questions. SCEC Executive Director Karen Rainsong will attend and display items of Kalapuya material culture. Best for ages 8 and up. We may have coloring sheets and other items for the kids to take home. \nFREESeating is limited\, please arrive 10 minutes early. \nDate: Saturday October 26\, 1:30pmLocation: Mildred Whipple Library in Drain\, OR \n			\n				\n				\n				\n				\n				\n			\n			\n				\n				\n				\n				\n			\n				\n				\n				\n				\n				\n				\n				\n				\n				\n				\n				Deitrich Peters BioI was born in Dallas\, Oregon and I'm a member of the Confederated Tribes of Grand Ronde. I am Kalapuya\, Rouge River\, and Umpqua. My given name is Cosa Tance\, meaning "Sky Dancer". My English name is Deitrich David Peters. I was given both my grandfather's middle names. I grew up in Oregon and love to travel to as many cultural events as I can.I love my culture and traditions - making things with my hands\, working with feathers\, beadwork\, traditional dancing\, storytelling and of course my all time favorite\, flute playing. I have learned these many things from our elders\, and have been gifted these things by the Creator.
URL:https://www.singingcreekcenter.org/event/native-american-cultural-drain/
LOCATION:Mildred Whipple Public Library\, 205 West A Ave.\, Drain\, Oregon\, 97435
CATEGORIES:Community Event
ATTACH;FMTTYPE=image/png:https://www.singingcreekcenter.org/wp-content/uploads/2024/01/Deitz-teaching-small-for-web.png
END:VEVENT
BEGIN:VEVENT
DTSTART;TZID=America/Los_Angeles:20241030T130000
DTEND;TZID=America/Los_Angeles:20241030T140000
DTSTAMP:20260422T221808
CREATED:20240731T174352Z
LAST-MODIFIED:20240821T231022Z
UID:10269-1730293200-1730296800@www.singingcreekcenter.org
SUMMARY:Acorn Circle: "Coyote and the Fish Trap" at Drain Library
DESCRIPTION:SESSION THREE“Coyote and the Fish Trap” storybook\, Past/Present tense verbs\, and Make Your Own Coyote Mask \nThis free learning session will include hearing the story “Coyote and the Fish Trap”\, learning about tenses in verbs\, learning a few words in Chinuk wawa and making a paper coyote mask to take home. Bring home an acorn! Curriculum by the Confederated Tribes of Grand Ronde\, adaptation and teaching by the staff of Singing Creek Educational Center. Teachers and parents are welcome to attend. \nSupported by the Woodard Family Foundation\, the City of Cottage Grove\, Spirit Mountain Community Fund\, Three Rivers Foundation and participating libraries. \nBest for ages 6 – 10\, but children of all ages are welcome. \nLocation: Mildred Whipple Library in Drain\, ORDate: Wednesday October 30th\, 2024Time: 1pm – 2pm
URL:https://www.singingcreekcenter.org/event/acorn-circle-coyote-and-the-fish-trap-at-drain-library/
LOCATION:Mildred Whipple Public Library\, 205 West A Ave.\, Drain\, Oregon\, 97435
CATEGORIES:Community Event
ATTACH;FMTTYPE=image/jpeg:https://www.singingcreekcenter.org/wp-content/uploads/2023/10/coyote-trap-featured.jpg
END:VEVENT
END:VCALENDAR