BEGIN:VCALENDAR
VERSION:2.0
PRODID:-//singingcreekcenter.org - ECPv6.15.20//NONSGML v1.0//EN
CALSCALE:GREGORIAN
METHOD:PUBLISH
X-WR-CALNAME:singingcreekcenter.org
X-ORIGINAL-URL:https://www.singingcreekcenter.org
X-WR-CALDESC:Events for singingcreekcenter.org
REFRESH-INTERVAL;VALUE=DURATION:PT1H
X-Robots-Tag:noindex
X-PUBLISHED-TTL:PT1H
BEGIN:VTIMEZONE
TZID:America/Los_Angeles
BEGIN:DAYLIGHT
TZOFFSETFROM:-0800
TZOFFSETTO:-0700
TZNAME:PDT
DTSTART:20230312T100000
END:DAYLIGHT
BEGIN:STANDARD
TZOFFSETFROM:-0700
TZOFFSETTO:-0800
TZNAME:PST
DTSTART:20231105T090000
END:STANDARD
BEGIN:DAYLIGHT
TZOFFSETFROM:-0800
TZOFFSETTO:-0700
TZNAME:PDT
DTSTART:20240310T100000
END:DAYLIGHT
BEGIN:STANDARD
TZOFFSETFROM:-0700
TZOFFSETTO:-0800
TZNAME:PST
DTSTART:20241103T090000
END:STANDARD
BEGIN:DAYLIGHT
TZOFFSETFROM:-0800
TZOFFSETTO:-0700
TZNAME:PDT
DTSTART:20250309T100000
END:DAYLIGHT
BEGIN:STANDARD
TZOFFSETFROM:-0700
TZOFFSETTO:-0800
TZNAME:PST
DTSTART:20251102T090000
END:STANDARD
END:VTIMEZONE
BEGIN:VEVENT
DTSTART;TZID=America/Los_Angeles:20240803T123000
DTEND;TZID=America/Los_Angeles:20240803T153000
DTSTAMP:20260422T190147
CREATED:20240212T174751Z
LAST-MODIFIED:20240803T151313Z
UID:9570-1722688200-1722699000@www.singingcreekcenter.org
SUMMARY:Horse Riding Day 2024
DESCRIPTION:Horseback Riding Day at Animal Rescue Teaching\nEvent is FULL \nSign up for this Singing Creek Center event and ride horses and ponies and make some fun horse themed art with us. The staff at ART will be leading a talk about horse care\, teaching you how to brush the horses and giving a riding lesson in the covered corral. We will make some horse art and play horse themed games in the yurt\, including a horse drawing lesson. Learn about how important horses were and still are to Native people and pioneers. Girl Scouts: this event is perfect for earning your horseback riding badge! \nLearn more about Animal Resuce Teaching here: https://www.animalrescueteaching.org/ \nDate: Sat. August 3rd\, 12:30 pm- 3:30pmCost: $65 per child\, parents/guardians are freeAges 5 and up.Pre-registration only.Address: 85671 Chezem Rd.Eugene\, OR 97405 \nSign Up using the form below. Registration is limited. 
URL:https://www.singingcreekcenter.org/event/horse-riding-day-2024/
LOCATION:Animal Rescue Teaching\, 85671 Chezem Rd. \, Eugene\,\, OR\, 97405\, United States
CATEGORIES:Community Event
ATTACH;FMTTYPE=image/jpeg:https://www.singingcreekcenter.org/wp-content/uploads/2018/05/horse.jpg
END:VEVENT
BEGIN:VEVENT
DTSTART;TZID=America/Los_Angeles:20240805T090000
DTEND;TZID=America/Los_Angeles:20240809T150000
DTSTAMP:20260422T190147
CREATED:20240327T024523Z
LAST-MODIFIED:20240327T024536Z
UID:9768-1722848400-1723215600@www.singingcreekcenter.org
SUMMARY:Opal Whiteley Nature Fairies Summer Camp
DESCRIPTION:Learn about the famous pioneer girl\, Opal Whiteley\, as you explore nature! Opal was a nature lover who kept a childhood diary relating her adventures in the woods around Cottage Grove\, including her “explores” with her animal friends. We will make fairy houses\, create a journal and write and sketch in nature\, explore around the park and the river\, and discover pioneer life. \nEnjoy visits from special guests who teach us about eco-friendly living\, how to take care of the Earth and reduce our waste. Opal would appreciate our lessons on how to be kind to all beings and the Earth. \nWe’ll have lots of fun as we learn to appreciate Opal’s youthful relationship to the natural world. You can wear your own dress up clothes or borrow some of ours. \nLocation: the Annex building behind Wildwood Chapel in Eugene\, a country setting out Lorane Hwy. \nAddress: 85780 McBeth Rd. Eugene\, OR 97405 \nLearn more and register here.
URL:https://www.singingcreekcenter.org/event/opal-whiteley-nature-fairies-summer-camp/
LOCATION:Annex behind Wildwood\, 85780 McBeth Rd\,\, Eugene\, OR\, 97405
CATEGORIES:Spring/Summer Camp
ATTACH;FMTTYPE=image/jpeg:https://www.singingcreekcenter.org/wp-content/uploads/2022/07/kids-w-ana-thursday.jpg
END:VEVENT
BEGIN:VEVENT
DTSTART;TZID=America/Los_Angeles:20240823T100000
DTEND;TZID=America/Los_Angeles:20240825T180000
DTSTAMP:20260422T190147
CREATED:20240129T203652Z
LAST-MODIFIED:20240626T214138Z
UID:9524-1724407200-1724608800@www.singingcreekcenter.org
SUMMARY:Cascadia County Park Native Encampment
DESCRIPTION:Join us at the Native American Cultural Encampment in August at Cascacdia County Park in Sweethome\, Oregon\, presented by the Native American Cultural Encampments with Deitrich Peters and friends. Learn how to put up a tipi\, try making your own plant cordage\, make a leather pouch\, buy some Native made items\, buy a raffle ticket\, enjoy a free meal on Sunday afternoon\, and see some amazing pow-wow style dancing! Deitz will explain about elements of the regalia worn by the dancers and what they symbolize (cultural and personal significance). This is a great way to get to know Native people and culture in a relaxed\, informal and friendly way.Learn more here: https://naculturalencampment.org/ \nSCEC will have educational opportunities for children and families from 10 – 6 on Saturday and Sunday ( Aug 24th – 25th). Try the atlatl (spear throwing tool) in the field and do some free crafts like make your own animal mask. We look forward to sharing indigenous culture with you. \nThe public are welcome to attend each day\, 10am – 6pm. \nLocation: Cascadia County Park\, 48241 Cascadia Dr.\, Cascadia\, OR  \nThis is an alcohol and drug-free event. Children are welcome. Please keep pets leashed and under your control at all times.
URL:https://www.singingcreekcenter.org/event/cascadia-county-park-native-encampment/
LOCATION:Cascadia County Park\, 48241 Cascadia Dr\,\, Cascadia\,\, OR\, 97329
CATEGORIES:Community Event
ATTACH;FMTTYPE=image/jpeg:https://www.singingcreekcenter.org/wp-content/uploads/2024/01/teepees-small.jpg
END:VEVENT
END:VCALENDAR