BEGIN:VCALENDAR
VERSION:2.0
PRODID:-//singingcreekcenter.org - ECPv6.15.20//NONSGML v1.0//EN
CALSCALE:GREGORIAN
METHOD:PUBLISH
X-ORIGINAL-URL:https://www.singingcreekcenter.org
X-WR-CALDESC:Events for singingcreekcenter.org
REFRESH-INTERVAL;VALUE=DURATION:PT1H
X-Robots-Tag:noindex
X-PUBLISHED-TTL:PT1H
BEGIN:VTIMEZONE
TZID:America/Los_Angeles
BEGIN:DAYLIGHT
TZOFFSETFROM:-0800
TZOFFSETTO:-0700
TZNAME:PDT
DTSTART:20230312T100000
END:DAYLIGHT
BEGIN:STANDARD
TZOFFSETFROM:-0700
TZOFFSETTO:-0800
TZNAME:PST
DTSTART:20231105T090000
END:STANDARD
BEGIN:DAYLIGHT
TZOFFSETFROM:-0800
TZOFFSETTO:-0700
TZNAME:PDT
DTSTART:20240310T100000
END:DAYLIGHT
BEGIN:STANDARD
TZOFFSETFROM:-0700
TZOFFSETTO:-0800
TZNAME:PST
DTSTART:20241103T090000
END:STANDARD
BEGIN:DAYLIGHT
TZOFFSETFROM:-0800
TZOFFSETTO:-0700
TZNAME:PDT
DTSTART:20250309T100000
END:DAYLIGHT
BEGIN:STANDARD
TZOFFSETFROM:-0700
TZOFFSETTO:-0800
TZNAME:PST
DTSTART:20251102T090000
END:STANDARD
END:VTIMEZONE
BEGIN:VEVENT
DTSTART;TZID=America/Los_Angeles:20240624T090000
DTEND;TZID=America/Los_Angeles:20240628T140000
DTSTAMP:20260422T153150
CREATED:20240104T040311Z
LAST-MODIFIED:20240104T040826Z
UID:9356-1719219600-1719583200@www.singingcreekcenter.org
SUMMARY:Los Pueblos Summer Camp June 24-28
DESCRIPTION:Los Pueblos Summer Camp 2024\nSinging Creek Educational Center\, Cottage Grove\, OR\nThis fun day camp is for Guatemalan children ages 6 – 11 in Cottage Grove and is funded by a grant from the Yarg Family Foundation and the Roundhouse Foundation. Logistical support is provided by the Cottage Grove Family Resource Center. Low income families receive this camp for free. \nKids will be learning about the history and culture of Guatemala and Mexico. Activities include cooking\, music\, dance\, games\, arts\, movement and story time. Transportation and meals are provided. Our instructor is Janet Hernandez\, a Latina mother and community member. Registration is handled through Janet. Please email us for more information. \nMonday – Friday\, 9am to 2pm \nLocation: Prospector’s Park in Cottage Grove\, Oregon
URL:https://www.singingcreekcenter.org/event/los-pueblos-summer-camp-june-24-28/
LOCATION:OR
CATEGORIES:Spring/Summer Camp
ATTACH;FMTTYPE=image/jpeg:https://www.singingcreekcenter.org/wp-content/uploads/2023/07/janet-and-kids-garden-web.jpg
END:VEVENT
BEGIN:VEVENT
DTSTART;TZID=America/Los_Angeles:20240628T100000
DTEND;TZID=America/Los_Angeles:20240630T180000
DTSTAMP:20260422T153150
CREATED:20240129T182339Z
LAST-MODIFIED:20240626T214740Z
UID:9504-1719568800-1719770400@www.singingcreekcenter.org
SUMMARY:Roaring River Park Native Encampment
DESCRIPTION:Join us at the Native American Cultural Encampment in June at Roaring River Park in Scio\, Oregon\, presented by the Native American Cultural Encampments with Deitrich Peters and friends. Learn how to put up a tipi\, try making your own plant cordage\, make a leather pouch\, buy some Native made items\, buy a raffle ticket\, enjoy a free meal on Sunday afternoon\, and see some amazing pow-wow style dancing! Deitz will explain about elements of the regalia worn by the dancers and what they symbolize (cultural and personal significance). This is a great way to get to know Native people and culture in a relaxed\, informal and friendly way.Learn more at: https://naculturalencampment.org/ \nSCEC will have educational opportunities for children and families from 10 – 6 on Saturday and Sunday. Try the atlatl (spear throwing tool) and make an animal mask. We look forward to sharing Indigenous culture with you. \nAddress: 42000 Fish Hatchery Dr I\, Scio\, OR 97374 \nThe public are welcome to attend each day\, 10am – 6pm. \nThis is an alcohol and drug-free event. Children are welcome. Please keep pets leashed and under your control at all times.
URL:https://www.singingcreekcenter.org/event/roaring-river-park-native-encampment/
LOCATION:Roaring River County Park\, 42000 Fish Hatchery Dr I\,\, Scio\, Oregon\, 97374
CATEGORIES:Community Event
ATTACH;FMTTYPE=image/jpeg:https://www.singingcreekcenter.org/wp-content/uploads/2023/06/Dietz-and-Tess-web.jpg
END:VEVENT
END:VCALENDAR