BEGIN:VCALENDAR
VERSION:2.0
PRODID:-//singingcreekcenter.org - ECPv6.15.20//NONSGML v1.0//EN
CALSCALE:GREGORIAN
METHOD:PUBLISH
X-WR-CALNAME:singingcreekcenter.org
X-ORIGINAL-URL:https://www.singingcreekcenter.org
X-WR-CALDESC:Events for singingcreekcenter.org
REFRESH-INTERVAL;VALUE=DURATION:PT1H
X-Robots-Tag:noindex
X-PUBLISHED-TTL:PT1H
BEGIN:VTIMEZONE
TZID:America/Los_Angeles
BEGIN:DAYLIGHT
TZOFFSETFROM:-0800
TZOFFSETTO:-0700
TZNAME:PDT
DTSTART:20220313T100000
END:DAYLIGHT
BEGIN:STANDARD
TZOFFSETFROM:-0700
TZOFFSETTO:-0800
TZNAME:PST
DTSTART:20221106T090000
END:STANDARD
BEGIN:DAYLIGHT
TZOFFSETFROM:-0800
TZOFFSETTO:-0700
TZNAME:PDT
DTSTART:20230312T100000
END:DAYLIGHT
BEGIN:STANDARD
TZOFFSETFROM:-0700
TZOFFSETTO:-0800
TZNAME:PST
DTSTART:20231105T090000
END:STANDARD
BEGIN:DAYLIGHT
TZOFFSETFROM:-0800
TZOFFSETTO:-0700
TZNAME:PDT
DTSTART:20240310T100000
END:DAYLIGHT
BEGIN:STANDARD
TZOFFSETFROM:-0700
TZOFFSETTO:-0800
TZNAME:PST
DTSTART:20241103T090000
END:STANDARD
END:VTIMEZONE
BEGIN:VEVENT
DTSTART;TZID=America/Los_Angeles:20231005T153000
DTEND;TZID=America/Los_Angeles:20231005T163000
DTSTAMP:20260422T190144
CREATED:20230808T213917Z
LAST-MODIFIED:20231004T174352Z
UID:8905-1696519800-1696523400@www.singingcreekcenter.org
SUMMARY:Acorn Circle Native teaching: Creswell Library Oct 5
DESCRIPTION:Join us for the kickoff of our Acorn Circle Program at the Creswell Public Library!\nWe will be teaching curriculum for kids from the Confederated Tribes of Grand Ronde\, including a craft activity to take home. See all the details here: \nAcorn Circle Native American \n \n 
URL:https://www.singingcreekcenter.org/event/acorn-circle-native-teaching-creswell-library-oct-5/
LOCATION:Creswell Public Library\, 64 W Oregon Ave\,\, Creswell\,\, OR\, 97426
CATEGORIES:Classes,Community Event
ATTACH;FMTTYPE=image/jpeg:https://www.singingcreekcenter.org/wp-content/uploads/2023/08/acorn-Circlefeatured-image.jpg
END:VEVENT
BEGIN:VEVENT
DTSTART;TZID=America/Los_Angeles:20231011T153000
DTEND;TZID=America/Los_Angeles:20231011T163000
DTSTAMP:20260422T190144
CREATED:20231004T172144Z
LAST-MODIFIED:20231004T172217Z
UID:9103-1697038200-1697041800@www.singingcreekcenter.org
SUMMARY:Acorn Circle Native American Program: Session One- Let's Go Eeling- Cottage Grove
DESCRIPTION:SESSION ONE“Let’s Go Eeling” Storybook and Make a Basket.\nThis free learning session will include watching a short video\, hearing a storybook about catching eels\, discussion about the main idea of the story\, and a craft where you can make your own small basket with ribbons to take home. Get an acorn for your basket! Curriculum by the Confederated Tribes of Grand Ronde\, adaptation and teaching by the staff of Singing Creek Educational Center. Teachers and parents are welcome to attend. Supported by the Woodard Family Foundation\, the City of Cottage Grove\, and participating libraries. \nBest for ages 6 – 10 \nLocation: Cottage Grove LibraryWednesday October 11th\, 3:30 pm – 4:30pm
URL:https://www.singingcreekcenter.org/event/acorn-circle-native-american-program-session-one-lets-go-eeling-cottage-grove/
LOCATION:Cottage Grove Library\, 700 E Gibbs Ave\,\, Cottage Grove\, OR\, 97424
CATEGORIES:Community Event
ATTACH;FMTTYPE=image/jpeg:https://www.singingcreekcenter.org/wp-content/uploads/2023/10/lets-go-eeling-featured-image.jpg
END:VEVENT
BEGIN:VEVENT
DTSTART;TZID=America/Los_Angeles:20231013T133000
DTEND;TZID=America/Los_Angeles:20231013T143000
DTSTAMP:20260422T190144
CREATED:20231004T172451Z
LAST-MODIFIED:20231004T172455Z
UID:9111-1697203800-1697207400@www.singingcreekcenter.org
SUMMARY:Acorn Circle Native American Program: Session One- Let's Go Eeling- Spfld Library
DESCRIPTION:SESSION ONE“Let’s Go Eeling” Storybook and Make a Basket.\nThis free learning session will include watching a short video\, hearing a storybook about catching eels\, discussion about the main idea of the story\, and a craft where you can make your own small basket with ribbons to take home. Get an acorn for your basket! Curriculum by the Confederated Tribes of Grand Ronde\, adaptation and teaching by the staff of Singing Creek Educational Center. Teachers and parents are welcome to attend. Supported by the Woodard Family Foundation\, the City of Cottage Grove\, and participating libraries. \nBest for ages 6 – 10 \nLocation: Springfield LibraryFriday October 13th\, 1:30 pm – 2:30pm
URL:https://www.singingcreekcenter.org/event/acorn-circle-native-american-program-session-one-lets-go-eeling-spfld-library/
LOCATION:Springfield Public Library\, 225 5th Street\, Springfield\, OR\, 97477-4636
CATEGORIES:Community Event
ATTACH;FMTTYPE=image/jpeg:https://www.singingcreekcenter.org/wp-content/uploads/2023/10/lets-go-eeling-featured-image.jpg
END:VEVENT
BEGIN:VEVENT
DTSTART;TZID=America/Los_Angeles:20231014T130000
DTEND;TZID=America/Los_Angeles:20231014T153000
DTSTAMP:20260422T190144
CREATED:20230726T212503Z
LAST-MODIFIED:20230726T213121Z
UID:8760-1697288400-1697297400@www.singingcreekcenter.org
SUMMARY:Pioneer Homesteading for Girl Scouts Fall 2023
DESCRIPTION:Learn what it was like to be an Oregon settler in 1890 at the Shelton McMurphey Johnson House in Eugene.  Pioneer dress-up clothes and bonnets are available or bring your own. Fun activities and authentic “chores” and crafts await you in this class where you can earn your Playing the Past badge in a truly unique and hands-on way. Activities may include: churning butter\, grinding grain\, finger crocheting\, sewing\, square dancing\, quill pen writing\, etc. Girl Scout badge earned: Junior Playing the Past (badge not included with registration). \nFor JuniorsAll supplies included \nRegister on the website for the Girl Scouts of Oregonhttps://www.girlscoutsosw.org/ \n			\n			\n				\n				\n				\n				\n				\n				\n				\n				\n				\n				\n			\n			\n				\n				\n				\n				\n			\n				\n				\n				\n				\n				\n				\n				\n				\n				\n				\n				\n			\n			\n				\n				\n				\n				\n				\n				\n				\n				\n				\n				About the Venue\nShelton McMurphey Johnson House is a 7\,000 square foot Victorian House that is owned by the City of Eugene and operated as a museum by Shelton McMurphey Johnson Associates\, a 501c3 non-profit organization. The Museum was opened in 1994 with just one floor available for viewing by the public. Now open 6 days a week and furnished on all three floors\, the Museum is a beautiful example of what life might have looked like in the 1930’s for the Shelton McMurphey Family. \n 
URL:https://www.singingcreekcenter.org/event/homesteading-for-girl-scouts-fall-2023/
LOCATION:SMJ House\, 303 Willamette St.\, Eugene\,\, OR\, 97401\, United States
CATEGORIES:Classes,pioneer events
ATTACH;FMTTYPE=image/jpeg:https://www.singingcreekcenter.org/wp-content/uploads/2023/07/ann-teaching-smj-house-2023.jpg
END:VEVENT
BEGIN:VEVENT
DTSTART;TZID=America/Los_Angeles:20231017T160000
DTEND;TZID=America/Los_Angeles:20231017T183000
DTSTAMP:20260422T190144
CREATED:20230727T203148Z
LAST-MODIFIED:20230909T181054Z
UID:8851-1697558400-1697567400@www.singingcreekcenter.org
SUMMARY:Historic Homes Walking Tour with LCHM
DESCRIPTION:Join us for a wonderful evening in Eugene on a walking tour of historic homes!Afterwards enjoy a reception with wine and appetizers at the Shelton McMurphey Johnson House and hear about latest developements and projects of SCEC\, LCHM and SMJ House. \nCosts \n$30 ea for members of LCHM\, $35 for non-members of LCHM$50 two-person couples (members of LCHM) and $65 for two-person couples (non-members of LCHM) \nSIGN UP HERE \nThis is a joint fundraiser with the Lane County History Museum. They are handling signups on their website. Tour is limited to 20 people. The reception afterwards is a great chance to talk with others who love history\, and find out more about the upcoming projects of Singing Creek Educational Center\, the Lane County History Museum\, and the Shelton McMurphey Johnson House. \nThe walking tour is led by Bob Hart\, former Executive Director of LCHM. Bob is very knowledgeable and approachable and would love to answer your questions about these historic structures. \nTo see and learn about some of the houses that might be on the tour\, enjoy this PDF with color pictures of the houses in that neighborhood\, courtesy of the SMJ House. \n			\n			\n				\n				\n				\n				\n			\n				\n				\n				\n				\n				\n				\n				\n				\n				\n				\n				\n			\n			\n				\n				\n				\n				\n				\n				\n				\n				\n				\n				\n			\n			\n				\n				\n				\n				\n				\n				\n				\n				\n				\n				This event is in partnership with the Lane County History Musuem and Shelton McMurphey Johnson House.
URL:https://www.singingcreekcenter.org/event/historic-homes-walking-tour-2023/
LOCATION:The Mims House\, 330 High St\,\, Eugene\,\, OR\, 97401
CATEGORIES:Community Event
ATTACH;FMTTYPE=image/jpeg:https://www.singingcreekcenter.org/wp-content/uploads/2023/07/mims-house4pm.jpg
END:VEVENT
BEGIN:VEVENT
DTSTART;TZID=America/Los_Angeles:20231018T160000
DTEND;TZID=America/Los_Angeles:20231018T183000
DTSTAMP:20260422T190144
CREATED:20230909T180623Z
LAST-MODIFIED:20230909T180629Z
UID:9035-1697644800-1697653800@www.singingcreekcenter.org
SUMMARY:Historic Homes Walking Tour with LCHM (2nd session)
DESCRIPTION:Join us for a wonderful evening in Eugene on a walking tour of historic homes!Afterwards enjoy a reception with wine and appetizers at the Shelton McMurphey Johnson House and hear about latest developements and projects of SCEC\, LCHM and SMJ House. \nCosts \n$30 ea for members of LCHM\, $35 for non-members of LCHM$50 two-person couples (members of LCHM) and $65 for two-person couples (non-members of LCHM) \nThis is the second session of this walk\, which will be the same as session one. Sign up for either day! \nSIGN UP HERE \nThis is a joint fundraiser with the Lane County History Museum. They are handling signups on their website. Tour is limited to 20 people. The reception afterwards is a great chance to talk with others who love history\, and find out more about the upcoming projects of Singing Creek Educational Center\, the Lane County History Museum\, and the Shelton McMurphey Johnson House. \nThe walking tour is led by Bob Hart\, former Executive Director of LCHM. Bob is very knowledgeable and approachable and would love to answer your questions about these historic structures. \nTo see and learn about some of the houses that might be on the tour\, enjoy this PDF with color pictures of the houses in that neighborhood\, courtesy of the SMJ House. \n			\n			\n				\n				\n				\n				\n			\n				\n				\n				\n				\n				\n				\n				\n				\n				\n				\n				\n			\n			\n				\n				\n				\n				\n				\n				\n				\n				\n				\n				\n			\n			\n				\n				\n				\n				\n				\n				\n				\n				\n				\n				This event is in partnership with the Lane County History Musuem and Shelton McMurphey Johnson House.
URL:https://www.singingcreekcenter.org/event/historic-homes-walking-tour-with-lchm-2nd-session/
LOCATION:The Mims House\, 330 High St\,\, Eugene\,\, OR\, 97401
CATEGORIES:Community Event
ATTACH;FMTTYPE=image/jpeg:https://www.singingcreekcenter.org/wp-content/uploads/2023/07/walking-tour3.jpg
END:VEVENT
BEGIN:VEVENT
DTSTART;TZID=America/Los_Angeles:20231019T153000
DTEND;TZID=America/Los_Angeles:20231019T163000
DTSTAMP:20260422T190144
CREATED:20231004T174705Z
LAST-MODIFIED:20231004T174710Z
UID:9117-1697729400-1697733000@www.singingcreekcenter.org
SUMMARY:Acorn Circle Native American Program: Session Two- Mulak Man- Creswell
DESCRIPTION:SESSION TWO“Mulak Man” storybook\, Quiz Show Game and Make Your Own Leather Pouch.\nThis free learning session will include hearing the story “Mulak Man” about elk hunting\, and a quiz show testing comprehension for prizes\, then make your own leather pouch to take home. Get an acorn for your pouch! Curriculum by the Confederated Tribes of Grand Ronde\, adaptation and teaching by the staff of Singing Creek Educational Center. Teachers and parents are welcome to attend. Supported by the Woodard Family Foundation\, the City of Cottage Grove\, and participating libraries. \nBest for ages 6 – 10 \nLocation: Creswell LibraryThursday October 19th\, 3:30 pm – 4:30pm
URL:https://www.singingcreekcenter.org/event/acorn-circle-native-american-program-session-two-mulak-man-creswell/
LOCATION:Creswell Public Library\, 64 W Oregon Ave\,\, Creswell\,\, OR\, 97426
CATEGORIES:Community Event
ATTACH;FMTTYPE=image/jpeg:https://www.singingcreekcenter.org/wp-content/uploads/2023/10/mulak-man-featured.jpg
END:VEVENT
BEGIN:VEVENT
DTSTART;TZID=America/Los_Angeles:20231023T153000
DTEND;TZID=America/Los_Angeles:20231023T163000
DTSTAMP:20260422T190144
CREATED:20231004T174854Z
LAST-MODIFIED:20231004T174859Z
UID:9122-1698075000-1698078600@www.singingcreekcenter.org
SUMMARY:Acorn Circle Native American Program: Session Two- Mulak Man- Cottage Grove
DESCRIPTION:SESSION TWO“Mulak Man” storybook\, Quiz Show Game and Make Your Own Leather Pouch.\nThis free learning session will include hearing the story “Mulak Man” about elk hunting\, and a quiz show testing comprehension for prizes\, then make your own leather pouch to take home. Get an acorn for your pouch! Curriculum by the Confederated Tribes of Grand Ronde\, adaptation and teaching by the staff of Singing Creek Educational Center. Teachers and parents are welcome to attend. Supported by the Woodard Family Foundation\, the City of Cottage Grove\, and participating libraries. \nBest for ages 6 – 10 \nLocation: Cottage Grove LibraryMonday October 23rd\, 3:30 pm – 4:30pm
URL:https://www.singingcreekcenter.org/event/acorn-circle-native-american-program-session-two-mulak-man-cottage-grove/
LOCATION:Cottage Grove Library\, 700 E Gibbs Ave\,\, Cottage Grove\, OR\, 97424
CATEGORIES:Community Event
ATTACH;FMTTYPE=image/jpeg:https://www.singingcreekcenter.org/wp-content/uploads/2023/10/mulak-man-featured.jpg
END:VEVENT
BEGIN:VEVENT
DTSTART;TZID=America/Los_Angeles:20231026T153000
DTEND;TZID=America/Los_Angeles:20231026T163000
DTSTAMP:20260422T190144
CREATED:20231004T175545Z
LAST-MODIFIED:20231004T175549Z
UID:9131-1698334200-1698337800@www.singingcreekcenter.org
SUMMARY:Acorn Circle Native American Program: Session Three- Coyote- Creswell Library
DESCRIPTION:SESSION THREE“Coyote and the Fish Trap” storybook\, Past/Present tense verbs\, and Make Your Own Coyote Mask\nThis free learning session will include hearing the story “Coyote and the Fish Trap”\, learning about tenses in verbs\, learning a few words in Chinuk wawa and making a paper coyote mask to take home. Bring home an acorn!  Curriculum by the Confederated Tribes of Grand Ronde\, adaptation and teaching by the staff of Singing Creek Educational Center. Teachers and parents are welcome to attend. Supported by the Woodard Family Foundation\, the City of Cottage Grove\, and participating libraries. \nBest for ages 6 – 10 \nLocation: Creswell LibraryThursday October 26th\, 3:30 pm – 4:30pm
URL:https://www.singingcreekcenter.org/event/acorn-circle-native-american-program-session-three-coyote-creswell-library/
LOCATION:Creswell Public Library\, 64 W Oregon Ave\,\, Creswell\,\, OR\, 97426
CATEGORIES:Community Event
ATTACH;FMTTYPE=image/jpeg:https://www.singingcreekcenter.org/wp-content/uploads/2023/10/coyote-trap-featured.jpg
END:VEVENT
BEGIN:VEVENT
DTSTART;TZID=America/Los_Angeles:20231027T133000
DTEND;TZID=America/Los_Angeles:20231027T143000
DTSTAMP:20260422T190144
CREATED:20231004T175051Z
LAST-MODIFIED:20231004T175056Z
UID:9127-1698413400-1698417000@www.singingcreekcenter.org
SUMMARY:Acorn Circle Native American Program: Session Two- Mulak Man- Springfield Library
DESCRIPTION:SESSION TWO“Mulak Man” storybook\, Quiz Show Game and Make Your Own Leather Pouch.\nThis free learning session will include hearing the story “Mulak Man” about elk hunting\, and a quiz show testing comprehension for prizes\, then make your own leather pouch to take home. Get an acorn for your pouch! Curriculum by the Confederated Tribes of Grand Ronde\, adaptation and teaching by the staff of Singing Creek Educational Center. Teachers and parents are welcome to attend. Supported by the Woodard Family Foundation\, the City of Cottage Grove\, and participating libraries. \nBest for ages 6 – 10 \nLocation: Springfield LibraryFriday October 27th\, 1:30 pm – 2:30pm
URL:https://www.singingcreekcenter.org/event/acorn-circle-native-american-program-session-two-mulak-man-springfield-library/
LOCATION:Springfield Public Library\, 225 5th Street\, Springfield\, OR\, 97477-4636
CATEGORIES:Community Event
ATTACH;FMTTYPE=image/jpeg:https://www.singingcreekcenter.org/wp-content/uploads/2023/10/mulak-man-featured.jpg
END:VEVENT
END:VCALENDAR