BEGIN:VCALENDAR
VERSION:2.0
PRODID:-//singingcreekcenter.org - ECPv6.15.20//NONSGML v1.0//EN
CALSCALE:GREGORIAN
METHOD:PUBLISH
X-ORIGINAL-URL:https://www.singingcreekcenter.org
X-WR-CALDESC:Events for singingcreekcenter.org
REFRESH-INTERVAL;VALUE=DURATION:PT1H
X-Robots-Tag:noindex
X-PUBLISHED-TTL:PT1H
BEGIN:VTIMEZONE
TZID:America/Los_Angeles
BEGIN:DAYLIGHT
TZOFFSETFROM:-0800
TZOFFSETTO:-0700
TZNAME:PDT
DTSTART:20220313T100000
END:DAYLIGHT
BEGIN:STANDARD
TZOFFSETFROM:-0700
TZOFFSETTO:-0800
TZNAME:PST
DTSTART:20221106T090000
END:STANDARD
BEGIN:DAYLIGHT
TZOFFSETFROM:-0800
TZOFFSETTO:-0700
TZNAME:PDT
DTSTART:20230312T100000
END:DAYLIGHT
BEGIN:STANDARD
TZOFFSETFROM:-0700
TZOFFSETTO:-0800
TZNAME:PST
DTSTART:20231105T090000
END:STANDARD
BEGIN:DAYLIGHT
TZOFFSETFROM:-0800
TZOFFSETTO:-0700
TZNAME:PDT
DTSTART:20240310T100000
END:DAYLIGHT
BEGIN:STANDARD
TZOFFSETFROM:-0700
TZOFFSETTO:-0800
TZNAME:PST
DTSTART:20241103T090000
END:STANDARD
END:VTIMEZONE
BEGIN:VEVENT
DTSTART;TZID=America/Los_Angeles:20230901T130000
DTEND;TZID=America/Los_Angeles:20230901T160000
DTSTAMP:20260422T203729
CREATED:20230727T180711Z
LAST-MODIFIED:20230824T231306Z
UID:8840-1693573200-1693584000@www.singingcreekcenter.org
SUMMARY:Homeschool Opening Day Group One 2023- 2024
DESCRIPTION:Opening Day: Group One of Hands-On Homeschool for 2023-2024 year!\nWe will be meeting at the SMJ House in Eugene\, the area’s only Victorian Mansion. Class is for kids aged 6 – 11\, pre-registration only. Our fun history homeschool features a different theme each month\, with games\, stories\, songs\, cooking\, and many different kinds of activities. \n1pm to 4pm \nLearn more and register here: https://www.singingcreekcenter.org/hands-on-homeschool/ \n			\n			\n				\n				\n				\n				\n			\n				\n				\n				\n				\n				\n				\n				\n				\n				\n				\n				\n			\n				\n				\n				\n				\n				Jennifer will be leading us in making fresh applesauce\, learning about apples\, and making art prints with cut apples! \n			\n			\n				\n				\n				\n				\n				\n				\n				\n				\n				\n				With Special Guest\nJennifer Ferraez\, LCSW \nJennifer is a licensed clinical social worker who practices in Cottage Grove. She specializes in treating adults recovering from trauma. Her early formative work was with children. This background has helped her understand what is necessary in supporting adults with their healing journey in recovering what may have been lost through life circumstances. In her free time\, Jennifer enjoys studying the history of Cottage Grove and the surrounding area\, as well as wild foraging for food (herbs\, fruit\, and vegetables). Jennifer began walking with her grandfather as a young child\, picking gleanings from the fields and finding food available in nature. She continues to enjoy this delightful treasure hunt and making healthy food for people to enjoy.
URL:https://www.singingcreekcenter.org/event/homeschool-opening-day-group-one/
LOCATION:SMJ House\, 303 Willamette St.\, Eugene\,\, OR\, 97401\, United States
CATEGORIES:Classes
ATTACH;FMTTYPE=image/jpeg:https://www.singingcreekcenter.org/wp-content/uploads/2023/07/kids-at-smjhouse-featured.jpg
END:VEVENT
BEGIN:VEVENT
DTSTART;TZID=America/Los_Angeles:20230908T130000
DTEND;TZID=America/Los_Angeles:20230908T160000
DTSTAMP:20260422T203729
CREATED:20230824T193805Z
LAST-MODIFIED:20230824T193809Z
UID:9003-1694178000-1694188800@www.singingcreekcenter.org
SUMMARY:Homeschool Opening Day for Group Two 2023-2024
DESCRIPTION:Opening Day: Group Two of Hands-On Homeschool for 2023-2024 year!\nWe will be meeting at the SMJ House in Eugene\, the area’s only Victorian Mansion. Class is for kids aged 6 – 11\, pre-registration only. Our fun history homeschool features a different theme each month\, with games\, stories\, songs\, cooking\, and many different kinds of activities. \n1pm to 4pm \nLearn more and register here: https://www.singingcreekcenter.org/hands-on-homeschool/ \n 
URL:https://www.singingcreekcenter.org/event/homeschool-opening-day-2023/
LOCATION:SMJ House\, 303 Willamette St.\, Eugene\,\, OR\, 97401\, United States
CATEGORIES:Classes
ATTACH;FMTTYPE=image/jpeg:https://www.singingcreekcenter.org/wp-content/uploads/2023/07/girls-write-letters.jpg
END:VEVENT
BEGIN:VEVENT
DTSTART;TZID=America/Los_Angeles:20230923T140000
DTEND;TZID=America/Los_Angeles:20230923T163000
DTSTAMP:20260422T203729
CREATED:20230727T014912Z
LAST-MODIFIED:20230727T014916Z
UID:8805-1695477600-1695486600@www.singingcreekcenter.org
SUMMARY:Lane Co. History Museum Grand Reopening- kids activities!
DESCRIPTION:LCHM Reopening Day festivities!\nJoin us for a fun day of activities at the Lane County History Museum in Eugene. We will be doing fiber arts like carding wool\, spinning and using the loom. In addition\, we will have a table where you can learn about letter writing and try your hand with a quill pen and ink. \nFREE! \nDate: Saturday\, Sept 23rd\, 2023 \nTime: 2pm -4:30pm \nAddress: 740 W 13th Ave\, Eugene\, OR 97402
URL:https://www.singingcreekcenter.org/event/lchm-grand-reopening/
LOCATION:Lane County History Museum
CATEGORIES:Community Event
END:VEVENT
END:VCALENDAR