BEGIN:VCALENDAR
VERSION:2.0
PRODID:-//singingcreekcenter.org - ECPv6.15.20//NONSGML v1.0//EN
CALSCALE:GREGORIAN
METHOD:PUBLISH
X-WR-CALNAME:singingcreekcenter.org
X-ORIGINAL-URL:https://www.singingcreekcenter.org
X-WR-CALDESC:Events for singingcreekcenter.org
REFRESH-INTERVAL;VALUE=DURATION:PT1H
X-Robots-Tag:noindex
X-PUBLISHED-TTL:PT1H
BEGIN:VTIMEZONE
TZID:America/Los_Angeles
BEGIN:DAYLIGHT
TZOFFSETFROM:-0800
TZOFFSETTO:-0700
TZNAME:PDT
DTSTART:20220313T100000
END:DAYLIGHT
BEGIN:STANDARD
TZOFFSETFROM:-0700
TZOFFSETTO:-0800
TZNAME:PST
DTSTART:20221106T090000
END:STANDARD
BEGIN:DAYLIGHT
TZOFFSETFROM:-0800
TZOFFSETTO:-0700
TZNAME:PDT
DTSTART:20230312T100000
END:DAYLIGHT
BEGIN:STANDARD
TZOFFSETFROM:-0700
TZOFFSETTO:-0800
TZNAME:PST
DTSTART:20231105T090000
END:STANDARD
BEGIN:DAYLIGHT
TZOFFSETFROM:-0800
TZOFFSETTO:-0700
TZNAME:PDT
DTSTART:20240310T100000
END:DAYLIGHT
BEGIN:STANDARD
TZOFFSETFROM:-0700
TZOFFSETTO:-0800
TZNAME:PST
DTSTART:20241103T090000
END:STANDARD
END:VTIMEZONE
BEGIN:VEVENT
DTSTART;TZID=America/Los_Angeles:20230808T173000
DTEND;TZID=America/Los_Angeles:20230808T183000
DTSTAMP:20260422T221800
CREATED:20230727T181207Z
LAST-MODIFIED:20230727T181211Z
UID:8845-1691515800-1691519400@www.singingcreekcenter.org
SUMMARY:History Pub Featuring SCEC Aug 2023
DESCRIPTION:Join us for a fun\, interesting History Pub at the Axe and Fiddle in downtown Cottage Grove. Karen Rainsong of SCEC will be talking about how to engage kids in hands-on history.  \nTues\, Aug 8th\, 5:30 -6:30pm \nAxe and Fiddle: 657 E Main St\, Cottage Grove\, OR 97424
URL:https://www.singingcreekcenter.org/event/history-pub-featuring-scec/
LOCATION:Axe and Fiddle Pub\, 657 E Main St\,\, Cottage Grove\,\, OR\, 97424
CATEGORIES:Community Event
END:VEVENT
BEGIN:VEVENT
DTSTART;TZID=America/Los_Angeles:20230814T090000
DTEND;TZID=America/Los_Angeles:20230818T140000
DTSTAMP:20260422T221800
CREATED:20230324T161541Z
LAST-MODIFIED:20230324T161546Z
UID:8500-1692003600-1692367200@www.singingcreekcenter.org
SUMMARY:Pioneer Homesteading Summer Camp Aug 2023
DESCRIPTION:Pioneer Homesteading Summer Camp Aug 2023\nAugust 14th – 18th \nEach camp will feature crafts\, games\, stories\, outside exploration\, walking field trips in the park and along the river\, cooking\, and more! Enjoy visits from special guests who will teach us\, trade with us\, or share stories.  Read about the values children learn in our summer camps. \nTimes are Monday- Friday 9am to 2pm. Children aged 6-10 are welcome. Eleven year olds may also register if they are really into the theme and motivated- they may be asked to help out a bit with the younger ones. Children bring their own lunches and water bottle each day. \nCost: $230 per weekSiblings in the same camp: $200 each per week. \nScholarships for low income families are available\, see the form below. Instructor is vaccinated for COVID. Camps  are limited to 10 children.  \nLocation: the Dorena GrangeTime: 9am to 2pm each day(After-care may be available for your child if you need it; contact us for info) \nLearn more and signup on this page: https://www.singingcreekcenter.org/summer-camps/
URL:https://www.singingcreekcenter.org/event/pioneer-homesteading-summer-camp-aug-2023/
LOCATION:Dorena Grange\, 34360 Row River Rd\, Cottage Grove\, Oregon\, 97424
CATEGORIES:Spring/Summer Camp
ATTACH;FMTTYPE=image/png:https://www.singingcreekcenter.org/wp-content/uploads/2021/09/pic-of-ann-volunteer-web-tiny.png
END:VEVENT
BEGIN:VEVENT
DTSTART;TZID=America/Los_Angeles:20230823T090000
DTEND;TZID=America/Los_Angeles:20230823T150000
DTSTAMP:20260422T221800
CREATED:20230727T014205Z
LAST-MODIFIED:20230727T215533Z
UID:8797-1692781200-1692802800@www.singingcreekcenter.org
SUMMARY:One-Day Pioneer Homesteading Camp August 2023
DESCRIPTION:Did you miss summer camp this year? No worries\, we’ve got a special event for you!\nLearn what it was like to be an Oregon settler in 1890 at the Shelton McMurphey Johnson House in Eugene. Pioneer dress-up clothes of all types are available or bring your own. Fun activities and authentic “chores”\, games and crafts await you! Activities may include: churning butter\, grinding grain\, finger crocheting\, sewing\, square dancing\, quill pen writing\, outdoor games and more! Perfect for children ages 6 -11. Cost is $90 for one day\, sibling discounts available. \nMore info and signups here.
URL:https://www.singingcreekcenter.org/event/one-day-pioneer-homesteading-camp-august-2023/
LOCATION:SMJ House\, 303 Willamette St.\, Eugene\,\, OR\, 97401\, United States
CATEGORIES:Classes,pioneer events
ATTACH;FMTTYPE=image/jpeg:https://www.singingcreekcenter.org/wp-content/uploads/2023/07/girls-write-letters.jpg
END:VEVENT
BEGIN:VEVENT
DTSTART;TZID=America/Los_Angeles:20230826T100000
DTEND;TZID=America/Los_Angeles:20230827T163000
DTSTAMP:20260422T221800
CREATED:20230727T205729Z
LAST-MODIFIED:20230727T205733Z
UID:8867-1693044000-1693153800@www.singingcreekcenter.org
SUMMARY:Kalapuya Ways at Native Cultural Encampment: Cascadia
DESCRIPTION:Join us at the Native American Cultural Encampment at Cascadia Park\, Aug 26th & 27th. \nKaren Rainsong will be camping with the Indigenous people that weekend and presenting the Kalapuya Ways educational experience. Items of material culture will be on display\, and you can make a paper wolk mask\, and learn to throw the atlatl. \nThe public can come visit for free during the day on Saturday and Sunday. Experience traditional dancing and regalia\, shop from Indigenous vendors\, and learn more about the Native people of Oregon. \nWebsite for the park: https://linnparks.com/parks/cascadia-state-park/ \nAddress: 48241 Cascadia Dr\, Cascadia\, OR 97329 \nTo learn more about Karen’s involvement with this Indigenous group\, please see her blog post: https://www.singingcreekcenter.org/native-american-cultural-encampment-june-2023/
URL:https://www.singingcreekcenter.org/event/kalapuya-ways-at-cascadia/
LOCATION:Cascadia County Park\, 48241 Cascadia Dr\,\, Cascadia\,\, OR\, 97329
CATEGORIES:Community Event
ATTACH;FMTTYPE=image/jpeg:https://www.singingcreekcenter.org/wp-content/uploads/2023/06/Dietz-and-Tess-web.jpg
END:VEVENT
END:VCALENDAR