BEGIN:VCALENDAR
VERSION:2.0
PRODID:-//singingcreekcenter.org - ECPv6.15.20//NONSGML v1.0//EN
CALSCALE:GREGORIAN
METHOD:PUBLISH
X-ORIGINAL-URL:https://www.singingcreekcenter.org
X-WR-CALDESC:Events for singingcreekcenter.org
REFRESH-INTERVAL;VALUE=DURATION:PT1H
X-Robots-Tag:noindex
X-PUBLISHED-TTL:PT1H
BEGIN:VTIMEZONE
TZID:America/Los_Angeles
BEGIN:DAYLIGHT
TZOFFSETFROM:-0800
TZOFFSETTO:-0700
TZNAME:PDT
DTSTART:20220313T100000
END:DAYLIGHT
BEGIN:STANDARD
TZOFFSETFROM:-0700
TZOFFSETTO:-0800
TZNAME:PST
DTSTART:20221106T090000
END:STANDARD
BEGIN:DAYLIGHT
TZOFFSETFROM:-0800
TZOFFSETTO:-0700
TZNAME:PDT
DTSTART:20230312T100000
END:DAYLIGHT
BEGIN:STANDARD
TZOFFSETFROM:-0700
TZOFFSETTO:-0800
TZNAME:PST
DTSTART:20231105T090000
END:STANDARD
BEGIN:DAYLIGHT
TZOFFSETFROM:-0800
TZOFFSETTO:-0700
TZNAME:PDT
DTSTART:20240310T100000
END:DAYLIGHT
BEGIN:STANDARD
TZOFFSETFROM:-0700
TZOFFSETTO:-0800
TZNAME:PST
DTSTART:20241103T090000
END:STANDARD
END:VTIMEZONE
BEGIN:VEVENT
DTSTART;TZID=America/Los_Angeles:20230708T130000
DTEND;TZID=America/Los_Angeles:20230708T153000
DTSTAMP:20260422T234832
CREATED:20230522T041537Z
LAST-MODIFIED:20230522T041541Z
UID:8601-1688821200-1688830200@www.singingcreekcenter.org
SUMMARY:Aragon Alpacas Day for Girl Scouts
DESCRIPTION:Alpaca Farm and Fiber Arts Day (at Aragon Alpacas) with SCEC \nCome play with the alpacas and learn all about their fleece\, what they provide us\, and their unique personalities. Ann\, the owner\, will lead us around her farm and tell stories about these interesting animals. Then we go into the studio to learn about different kinds of animal fibers for spinning and weaving. Learn how to spin on a spinning wheel and make some wet felting around a bar of soap or a river stone. Have a fun day with fiber arts! See our video interview at Aragon Alpacas with Ann: https://youtu.be/HSQlIMFmt1M \nSat\, July 8th\, Time: 1pm – 3:30pmAll supplies includedmax participants: 15min participants: 8 \nCost: $15\, adults freeLevel: Brownies\, Juniors\, CadettesCarpooling is suggested; parking is limited \nSIGNUP on the Girl Scouts website: https://www.girlscoutsosw.org/en/activities/activities-list.html \n 
URL:https://www.singingcreekcenter.org/event/aragon-alpacas-day-for-girl-scouts/
LOCATION:Aragon Alpacas\, 33005 Dillard Rd\, Eugene\, United States
CATEGORIES:Classes
ATTACH;FMTTYPE=image/jpeg:https://www.singingcreekcenter.org/wp-content/uploads/2019/06/kid-with-alpaca.jpg
END:VEVENT
BEGIN:VEVENT
DTSTART;TZID=America/Los_Angeles:20230715T093000
DTEND;TZID=America/Los_Angeles:20230715T163000
DTSTAMP:20260422T234832
CREATED:20230522T040645Z
LAST-MODIFIED:20230522T040830Z
UID:8593-1689413400-1689438600@www.singingcreekcenter.org
SUMMARY:Catch us at Bohemia Mining Days!
DESCRIPTION:Join us Saturday July 15th at Coiner Park in Cottage Grove for the FUN! \nBohemia Mining Days festival returns in 2023\, with tons of great booths\, activities and entertainment. We will be in the kids’ zone\, making corn dollies with kids of all ages. Please come join us! \nWant to volunteer? It’s fun to interact with families at our booth. Let us know if you want to help out. We can provide women’s pioneer clothing costume. 
URL:https://www.singingcreekcenter.org/event/bohemia-mining-days/
LOCATION:Coiner Park\, Cottage Grove\, OR
CATEGORIES:Community Event
ATTACH;FMTTYPE=image/jpeg:https://www.singingcreekcenter.org/wp-content/uploads/2023/05/making-corn-dolls.jpg
END:VEVENT
BEGIN:VEVENT
DTSTART;TZID=America/Los_Angeles:20230717T090000
DTEND;TZID=America/Los_Angeles:20230721T140000
DTSTAMP:20260422T234832
CREATED:20230324T161150Z
LAST-MODIFIED:20230324T161234Z
UID:8494-1689584400-1689948000@www.singingcreekcenter.org
SUMMARY:Pioneer Homesteading Summer Camp July 2023
DESCRIPTION:Pioneer Homesteading Summer Camp July 2023\nJuly 17th – 21st \nEach camp will feature crafts\, games\, stories\, outside exploration\, walking field trips in the park and along the river\, cooking\, and more! Enjoy visits from special guests who will teach us\, trade with us\, or share stories.  Read about the values children learn in our summer camps. \nTimes are Monday- Friday 9am to 2pm. Children aged 6-10 are welcome. Eleven year olds may also register if they are really into the theme and motivated- they may be asked to help out a bit with the younger ones. Children bring their own lunches and water bottle each day. \nCost: $230 per weekSiblings in the same camp: $200 each per week. \nScholarships for low income families are available\, see the form below. Instructor is vaccinated for COVID. Camps  are limited to 10 children.  \nLocation: the Dorena GrangeTime: 9am to 2pm each day(After-care may be available for your child if you need it; contact us for info) \nLearn more and signup on this page: https://www.singingcreekcenter.org/summer-camps/
URL:https://www.singingcreekcenter.org/event/pioneer-homesteading-summer-camp-july-2023/
LOCATION:Dorena Grange\, 34360 Row River Rd\, Cottage Grove\, Oregon\, 97424
CATEGORIES:Spring/Summer Camp
ATTACH;FMTTYPE=image/jpeg:https://www.singingcreekcenter.org/wp-content/uploads/2022/07/kids-nature-web.jpg
END:VEVENT
BEGIN:VEVENT
DTSTART;TZID=America/Los_Angeles:20230720T130000
DTEND;TZID=America/Los_Angeles:20230720T140000
DTSTAMP:20260422T234832
CREATED:20230626T234422Z
LAST-MODIFIED:20230626T235249Z
UID:8642-1689858000-1689861600@www.singingcreekcenter.org
SUMMARY:Letters From the Trail at Riddle Library
DESCRIPTION:Join us at the Riddle Library Thursday July 20th at 1pm! \nLetters From the Trail is a unique program where a costumed interpreter (Mrs. Annabelle Smith from the Oregon Trail) will give a talk and  hand out letters to each child in attendance. These fictional letters were written by boys and girls on the Oregon Trail from 1850 – 1860 detailing their challenges\, hopes and dreams for a better future in Oregon. The letters come with a question and answer sheet for each child to fill out at home about their letter\, helping them use critical thinking skills.  \nCost is free. Join us for a lovely time!
URL:https://www.singingcreekcenter.org/event/letters-from-the-trail-at-riddle-library/
LOCATION:Riddle City Library\, 637 1st Ave\,\, Riddle\, OR\, 97469\, United States
CATEGORIES:Community Event
ATTACH;FMTTYPE=image/jpeg:https://www.singingcreekcenter.org/wp-content/uploads/2023/06/May-2022-Gubser-Elem-LFTT-scaled.jpg
END:VEVENT
BEGIN:VEVENT
DTSTART;TZID=America/Los_Angeles:20230729T100000
DTEND;TZID=America/Los_Angeles:20230729T163000
DTSTAMP:20260422T234832
CREATED:20230727T173938Z
LAST-MODIFIED:20230727T173942Z
UID:8830-1690624800-1690648200@www.singingcreekcenter.org
SUMMARY:Kalapuya Ways at Indigenous Camp Out July 2023
DESCRIPTION:Join us at the Native American Cultural Encampment at Waterloo County Park\, July 29th & 30th! \nKaren Rainsong will be camping with the Indigenous people that weekend and presenting the Kalapuya Ways educational experience. Items of material culture will be on display\, and you can make a paper wolk mask\, and learn to throw the atlatl. \nThe public can come visit for free during the day on Saturday and Sunday. Experience traditional dancing and regalia\, shop from Indigenous vendors\, and learn more about the Native people of Oregon. \nWebsite for the park: https://linnparks.com/parks/waterloo/ \nTo learn more about Karen’s involvement with this Indigenous group\, please see her blog post: https://www.singingcreekcenter.org/native-american-cultural-encampment-june-2023/ \n 
URL:https://www.singingcreekcenter.org/event/kalapuya-ways-at-indigenous-camp/
LOCATION:Waterloo County Park\, 39510 Gross St.\, Waterloo\, OR\, 97355
CATEGORIES:Community Event
ATTACH;FMTTYPE=image/jpeg:https://www.singingcreekcenter.org/wp-content/uploads/2023/06/men-dance.jpg
END:VEVENT
END:VCALENDAR