BEGIN:VCALENDAR
VERSION:2.0
PRODID:-//singingcreekcenter.org - ECPv6.15.20//NONSGML v1.0//EN
CALSCALE:GREGORIAN
METHOD:PUBLISH
X-ORIGINAL-URL:https://www.singingcreekcenter.org
X-WR-CALDESC:Events for singingcreekcenter.org
REFRESH-INTERVAL;VALUE=DURATION:PT1H
X-Robots-Tag:noindex
X-PUBLISHED-TTL:PT1H
BEGIN:VTIMEZONE
TZID:America/Los_Angeles
BEGIN:DAYLIGHT
TZOFFSETFROM:-0800
TZOFFSETTO:-0700
TZNAME:PDT
DTSTART:20220313T100000
END:DAYLIGHT
BEGIN:STANDARD
TZOFFSETFROM:-0700
TZOFFSETTO:-0800
TZNAME:PST
DTSTART:20221106T090000
END:STANDARD
BEGIN:DAYLIGHT
TZOFFSETFROM:-0800
TZOFFSETTO:-0700
TZNAME:PDT
DTSTART:20230312T100000
END:DAYLIGHT
BEGIN:STANDARD
TZOFFSETFROM:-0700
TZOFFSETTO:-0800
TZNAME:PST
DTSTART:20231105T090000
END:STANDARD
BEGIN:DAYLIGHT
TZOFFSETFROM:-0800
TZOFFSETTO:-0700
TZNAME:PDT
DTSTART:20240310T100000
END:DAYLIGHT
BEGIN:STANDARD
TZOFFSETFROM:-0700
TZOFFSETTO:-0800
TZNAME:PST
DTSTART:20241103T090000
END:STANDARD
END:VTIMEZONE
BEGIN:VEVENT
DTSTART;TZID=America/Los_Angeles:20230217T183000
DTEND;TZID=America/Los_Angeles:20230217T203000
DTSTAMP:20260423T074254
CREATED:20230112T181718Z
LAST-MODIFIED:20230131T014632Z
UID:8221-1676658600-1676665800@www.singingcreekcenter.org
SUMMARY:Tea and Tales: Storytelling with Karen Haas
DESCRIPTION:Tea and Tales: Storytelling with Karen Haas\nLocation: the Shelton McMurphey Johnson House in Eugene303 Willamette St\, Eugene\, OR 97401Date: Friday\, February 17thTime: 6:30 pm –  8:30 pmCost: $18 per person \nJoin us for a wonderful family-friendly evening of tea and heartwarming tales of love from history. Karen Haas is a noted storyteller from Washington\, who will charm us with stories (including audience participation parts) for all ages. Also enjoy a tour of the historic SMJ House – the “mansion on the hill”-  after the storytelling! Proceeds benefit the SMJ House and Singing Creek Educational Center. \nEnjoy delicious gluten-free cream puffs from our sponsor\, Elegant Elephant Bakery! \nParking is next to the SMJ House; go up Pearl St. until you see the sign for the parking area\, just behind the YaPoAh Terrace building. \nTickets are advance purchase only on the SMJ website. \nBUY TICKETS NOW \n			\n				\n				\n				\n				\n				About Karen Haas\nKaren Haas enjoys both telling in modern times and bringing the past to life with living history presentations. Her effervescent style engages emotions\, from the sublime to the ridiculous\, in audiences both young and old. Her stories\, both traditional and new\, may bring laughter\, tears\, shivers\, or a deep thought or two\, but will always entertain. Drawing on her experiences as a K-12 music educator\, she incorporates music and sing-alongs into many of her presentations\, often bringing along folk instruments. \nAs well as weaving words\, Karen spins and weaves fibers as she brings traditional crafts to reenactments and presentations. \nShe firmly believes that our stories tell who we are\, where we’ve come from\, and where we’re going. \n			\n			\n				\n				\n				\n				\n				\n				\n				\n				\n				\n				\n			\n				\n				\n				\n				\n				\n			\n			\n				\n				\n				\n				\n			\n				\n				\n				\n				\n				\n				\n				\n				\n				\n				\n				Thank you to our sponsors!
URL:https://www.singingcreekcenter.org/event/tea-and-tales-storytelling-with-karen-haas/
LOCATION:SMJ House\, 303 Willamette St.\, Eugene\,\, OR\, 97401\, United States
CATEGORIES:Community Event
ATTACH;FMTTYPE=image/png:https://www.singingcreekcenter.org/wp-content/uploads/2023/01/banner-Tea-and-Tales-w-Karen-Haas-for-event-listing.png
END:VEVENT
BEGIN:VEVENT
DTSTART;TZID=America/Los_Angeles:20230218T090000
DTEND;TZID=America/Los_Angeles:20230219T170000
DTSTAMP:20260423T074254
CREATED:20230113T182643Z
LAST-MODIFIED:20230114T214559Z
UID:8247-1676710800-1676826000@www.singingcreekcenter.org
SUMMARY:Frontier Heritage Fair SCEC Booth 2023
DESCRIPTION:Join us Feb 18th and 19th at the Lane County Fairgrounds at the annual Frontier Heritage Fair!9am to 5pm on Saturday9am to 4pm on Sunday \nThis indoor family-friendly event features booths\, exhibits\, crafts\, artisans and live music! See the  the frontier\, wild west and Civil War era goods and demonstrations.We will be doing our always popular corn dollie making craft! Create your own boy or girl doll and dress it up with clothing you create. (Donation $1 per doll) \nThere is a small entrance fee to come into the fair but it’s well worth it! We hope to see you there. \nIf you want to volunteer for a shift at our booth you can get in free. Your kids can come along and help if you volunteer. Contact our Director\, Karen Rainsong\, for more info: director@singingcreekcenter.org.
URL:https://www.singingcreekcenter.org/event/frontier-heritage-fair-scec-booth-2023/
LOCATION:OR
CATEGORIES:Community Event
ATTACH;FMTTYPE=image/jpeg:https://www.singingcreekcenter.org/wp-content/uploads/2019/12/boys-making-dolls.jpg
END:VEVENT
END:VCALENDAR