BEGIN:VCALENDAR
VERSION:2.0
PRODID:-//singingcreekcenter.org - ECPv6.15.20//NONSGML v1.0//EN
CALSCALE:GREGORIAN
METHOD:PUBLISH
X-WR-CALNAME:singingcreekcenter.org
X-ORIGINAL-URL:https://www.singingcreekcenter.org
X-WR-CALDESC:Events for singingcreekcenter.org
REFRESH-INTERVAL;VALUE=DURATION:PT1H
X-Robots-Tag:noindex
X-PUBLISHED-TTL:PT1H
BEGIN:VTIMEZONE
TZID:America/Los_Angeles
BEGIN:DAYLIGHT
TZOFFSETFROM:-0800
TZOFFSETTO:-0700
TZNAME:PDT
DTSTART:20210314T100000
END:DAYLIGHT
BEGIN:STANDARD
TZOFFSETFROM:-0700
TZOFFSETTO:-0800
TZNAME:PST
DTSTART:20211107T090000
END:STANDARD
BEGIN:DAYLIGHT
TZOFFSETFROM:-0800
TZOFFSETTO:-0700
TZNAME:PDT
DTSTART:20220313T100000
END:DAYLIGHT
BEGIN:STANDARD
TZOFFSETFROM:-0700
TZOFFSETTO:-0800
TZNAME:PST
DTSTART:20221106T090000
END:STANDARD
BEGIN:DAYLIGHT
TZOFFSETFROM:-0800
TZOFFSETTO:-0700
TZNAME:PDT
DTSTART:20230312T100000
END:DAYLIGHT
BEGIN:STANDARD
TZOFFSETFROM:-0700
TZOFFSETTO:-0800
TZNAME:PST
DTSTART:20231105T090000
END:STANDARD
END:VTIMEZONE
BEGIN:VEVENT
DTSTART;TZID=America/Los_Angeles:20220408T100000
DTEND;TZID=America/Los_Angeles:20220408T110000
DTSTAMP:20260423T231557
CREATED:20220311T052022Z
LAST-MODIFIED:20220311T052026Z
UID:7475-1649412000-1649415600@www.singingcreekcenter.org
SUMMARY:Save the Earth Poster Contest Entry Deadline and Judging
DESCRIPTION:Friday April 8th at 10am is the deadline for submissions to our Save the Earth children’s poster art contest. \nPosters must be 22″ x 28″ and able to be hung on a wall with tape. They must be brought to Creslane Elementary School library on the morning of April 8th\, with the required info on the back. We will have a professional photographer there to photograph them and we will return them to your school or you can pick them up from the library when we are done with them. Judging will happen online; our judges are the board members of SCEC.  \nChildren in grades 2 – 5 in the Cottage Grove/ Creswell/ Dorena areas can apply for this contest either with their classroom or a homeschool group. Contact our Executive Director\, Karen Rainsong\, for more information about how to participate.  \nPlease read all the details in this article on our blog:  \nSave the Earth Poster Contest coming to Cottage Grove!
URL:https://www.singingcreekcenter.org/event/save-the-earth-poster-contest-entry-deadline-and-judging/
LOCATION:OR
CATEGORIES:Community Event
ATTACH;FMTTYPE=image/jpeg:https://www.singingcreekcenter.org/wp-content/uploads/2021/10/save-earth-blog.jpg
ORGANIZER;CN="Karen Rainsong":MAILTO:director@singingcreekcenter.org
END:VEVENT
BEGIN:VEVENT
DTSTART;TZID=America/Los_Angeles:20220423T100000
DTEND;TZID=America/Los_Angeles:20220423T170000
DTSTAMP:20260423T231557
CREATED:20210405T195403Z
LAST-MODIFIED:20220421T174402Z
UID:6615-1650708000-1650733200@www.singingcreekcenter.org
SUMMARY:Green Living Fair at the Armory
DESCRIPTION:Join us to learn all about how to live sustainably!Location is the Armory building in Cottage Grove\,and the cost is FREE.\nTime: 10am to 5pmAddress: 628 E Washington Ave\, Cottage Grove\, OR 97424 \nPlease bring a returnable (10 cent in Oregon) bottle or can for EcoGeneration Recycling to help them fund their recycling efforts in Lane County. We will be collecting these at the entrance. \nSee the article in the Chronicle about this event! \nAlso bid on some wonderful silent auction baskets with themes like Kids Fun\, Spa Day\, Cooking\, Gardening\, and more! Five handmade quilts will be on display for bidding. The silent auction will benefit both Singing Creek Educational Center and EcoGeneration Recycling. \nOur Green Living Fair will include 30+ booths and workshops with freebies\, raffles and giveaways. \nA City Council member will be awarding the prizes to winners of our “Save the Earth” children’s poster contest \, see details here. \nA few of our Vendors (subject to change) \nLane Co. Master RecyclersHealthy Bees\, Healthy GardensAgrarian Sharing NetworkAl Kennedy GardensCottage Grove Climate ActionCoast Fork Watershed CouncilForest WebDiscard UpcyclingPaint CareOmega CleaningPartners for Sustainable SchoolsWe Refill Itand many more! \n			\n			\n				\n				\n				\n				\n				\n				\n				\n				\n				\n				\n			\n				\n				\n				\n				\n				\n			\n				\n				\n				\n				\n				\n			\n				\n				\n				\n				\n				\n			\n			\n				\n				\n				\n				\n			\n				\n				\n				\n				\n				\n				\n				\n				\n				\n				\n				FREE WORKSHOPS (subject to change)\nClick the little blue plus sign to see descriptions \n			\n			\n				\n				\n				\n				\n			\n				\n				\n				\n				\n				\n				\n				\n				\n				\n				\n				\n				\n				\n				\n				\n				Climate Hope: Youth Mental Health Roundtable Discussion - 10am\n				Join us for a roundtable discussion led by Megan Warner\, of BRING Recycling\, beginning with an eco-mindfulness activity and continuing with discussion. Local professionals in mental health will bring questions\, thoughts\, and resources to this discussion. Megan will present some solutions and an Eco-mindfulness toolkit for all to take home.  \n			\n				\n				\n				\n				\n				Save the Earth Poster Contest Awards Ceremony - 11:15am\n				Join a Cottage Grove City Council member and SCEC board members as we award prizes to the local youth who won the poster art contest. The two categories are 2nd -3rd grade\, and 4th – 5th grade. Prizes include new scooters and gift certificates to local businesses. Celebrate the youth and the Earth! Learn more about the contest here: https://www.singingcreekcenter.org/save-the-earth-poster-contest-coming-to-cottage-grove/ \n			\n				\n				\n				\n				\n				EcoGeneration Recycling- Plastics in Lane Co. - 12pm\n				More info soon \n			\n				\n				\n				\n				\n				Film Screening "Plastic Paradise" - 1pm\n				Join EcoGeneration board members with a screening of the movie “Plastic Paradise” which is an independent documentary film that chronicles Angela Sun’s personal journey of discovery to one of the most remote places on Earth\, Midway Atoll\, to uncover the truth behind the mystery of the Great Pacific Garbage Patch. Along the way she encounters scientists\, celebrities\, legislators and activists who shed light on what our society’s vast consumption of disposable plastic is doing to our oceans — and what it may be doing to our health. \n			\n				\n				\n				\n				\n				Recycled Art Project for Kids - 2pm\n				Join local fiber artist and MECCA volunteer\, Kyr Westwind for a fun introduction to circle weaving! We will be using embroidery hoops\, yarn\, and a variety of fabrics and fibers to create unique wall art. Each participant will leave with their own masterpiece made from reclaimed materials. All materials provided\, no experience necessary\, just bring your curiosity and enthusiasm! \n			\n				\n				\n				\n				\n				Home Fermentation Class - 3pm\n				Learn from local brewmaster Stephen about how to make all kinds of home fermented products. Watch and demo and ask questions! Presented by the Coast Fork Feed Store in Cottage Grove. Schedule: \n\n\nFermentation overview \n\n\nFermentation to produce ethanol vs other types of fermentation \n\n\nA brief history of human alcohol production \n\n\n\nMead & its variations \n\n\nAle & Beer (to hop or not to hop) \n\n\nCider & Perry \n\n\nWine vs Fruit Wine \n\n\n\nEasy historical fermentations to make at home \n\n\nYeast \n\n\nActive examples of historical and modern fermentations in progress (Mead/Gruit/Cider/Ale) \n\n\nThe raw ingredients of these examples\, how they’re produced & their availability \n\n\nBasic fruit wine/cider recipe handout with simple instructions/equipment list \n\n\nQ&A \n\n\n			\n				\n				\n				\n				\n				Mindful Nature Drawing - 4pm\n				For ALL ages. All art materials provided free. \nOverview: Mindful observation and creative drawing from nature helps us to connect with ourselves and other living things. Participants get to keep permanent artwork they create. \nWhat and How: Starting with the basics of mindfulness\, participants will have the opportunity to hone awareness through observing and relating to natural forms through creative\, fun drawing activities. Using mindful movement\, breathing\, and the physical feedback loop\, we’ll engage all of our senses while creatively exploring our connection with all living things. After experimenting with a disappearing water-painting technique\, we’ll move on to making drawings on paper to take home. There will be an option to extend the art activity to make a visual statement about one’s own agency as change makers for the planet. \n			\n			\n			\n				\n				\n				\n				\n			\n				\n				\n				\n				\n				\n				\n				\n				\n				\n				\n				Vendors Booths are currently full. If you would like to get on the list for next year\, please email Karen Rainsong: director@singingcreekcenter.org. \n			\n				\n				\n				\n				\n				Business Sponsorships: \nPlease contact us to discuss your business support of this event for next year. Contact Karen Rainsong\, director@singingcreekcenter.org. \n			\n			\n				\n				\n				\n				\n			\n				\n				\n				\n				\n				\n				\n				\n				\n				\n				\n				Thank you to our sponsors and partners!
URL:https://www.singingcreekcenter.org/event/green-living-fair-at-the-armory/
LOCATION:Armory\, 628 E. Washington Ave.\, Cottage Grove\, Oregon\, 97424
CATEGORIES:Community Event
ATTACH;FMTTYPE=image/jpeg:https://www.singingcreekcenter.org/wp-content/uploads/2021/04/logo-with-hero-image-web.jpg
ORGANIZER;CN="Karen Rainsong":MAILTO:director@singingcreekcenter.org
END:VEVENT
END:VCALENDAR