BEGIN:VCALENDAR
VERSION:2.0
PRODID:-//singingcreekcenter.org - ECPv6.15.20//NONSGML v1.0//EN
CALSCALE:GREGORIAN
METHOD:PUBLISH
X-ORIGINAL-URL:https://www.singingcreekcenter.org
X-WR-CALDESC:Events for singingcreekcenter.org
REFRESH-INTERVAL;VALUE=DURATION:PT1H
X-Robots-Tag:noindex
X-PUBLISHED-TTL:PT1H
BEGIN:VTIMEZONE
TZID:America/Los_Angeles
BEGIN:DAYLIGHT
TZOFFSETFROM:-0800
TZOFFSETTO:-0700
TZNAME:PDT
DTSTART:20250309T100000
END:DAYLIGHT
BEGIN:STANDARD
TZOFFSETFROM:-0700
TZOFFSETTO:-0800
TZNAME:PST
DTSTART:20251102T090000
END:STANDARD
BEGIN:DAYLIGHT
TZOFFSETFROM:-0800
TZOFFSETTO:-0700
TZNAME:PDT
DTSTART:20260308T100000
END:DAYLIGHT
BEGIN:STANDARD
TZOFFSETFROM:-0700
TZOFFSETTO:-0800
TZNAME:PST
DTSTART:20261101T090000
END:STANDARD
BEGIN:DAYLIGHT
TZOFFSETFROM:-0800
TZOFFSETTO:-0700
TZNAME:PDT
DTSTART:20270314T100000
END:DAYLIGHT
BEGIN:STANDARD
TZOFFSETFROM:-0700
TZOFFSETTO:-0800
TZNAME:PST
DTSTART:20271107T090000
END:STANDARD
END:VTIMEZONE
BEGIN:VEVENT
DTSTART;TZID=America/Los_Angeles:20260128T110000
DTEND;TZID=America/Los_Angeles:20260128T113000
DTSTAMP:20260421T113233
CREATED:20260126T173853Z
LAST-MODIFIED:20260127T015607Z
UID:12129-1769598000-1769599800@www.singingcreekcenter.org
SUMMARY:Indigenous Program for Littles at Fern Ridge Library
DESCRIPTION:Location:Fern Ridge Library88026 Territorial Hwy Veneta OR 97487 \nWednesday January 28\, 202611amFREE \nJoin us for the Chipmunk Circle for children ages 3 to 5 and learn about indigenous culture with KwisKwis\, a Townsend’s chipmunk stuffy.This engaging and hands-on curriculum will delight your little ones! With story books and simple activities children will begin to learn words and concepts about First Nations culture and healthy relationships with nature. \n\nThe teaching staff at Singing Creek Ed. Center may not necessarily be Native themselves but they are well trained and respectful of other cultures. The series uses items from the Confederated Tribes of Grand Ronde including books\, the stuffy\, and online curriculum. \n\nLearn more about this program here:https://www.singingcreekcenter.org/pre-k-kwiskwis-finds-his-way/
URL:https://www.singingcreekcenter.org/event/indigenous-program-for-littles-at-fern-ridge-library/
LOCATION:Fern Ridge Public Library\, 88026 Territorial Hwy\, Veneta\, OR\, 97487
CATEGORIES:Community Event
ATTACH;FMTTYPE=image/jpeg:https://www.singingcreekcenter.org/wp-content/uploads/2026/01/kwis-kwis-program-for-web.jpg
END:VEVENT
END:VCALENDAR