BEGIN:VCALENDAR
VERSION:2.0
PRODID:-//singingcreekcenter.org - ECPv6.15.20//NONSGML v1.0//EN
CALSCALE:GREGORIAN
METHOD:PUBLISH
X-WR-CALNAME:singingcreekcenter.org
X-ORIGINAL-URL:https://www.singingcreekcenter.org
X-WR-CALDESC:Events for singingcreekcenter.org
REFRESH-INTERVAL;VALUE=DURATION:PT1H
X-Robots-Tag:noindex
X-PUBLISHED-TTL:PT1H
BEGIN:VTIMEZONE
TZID:America/Los_Angeles
BEGIN:DAYLIGHT
TZOFFSETFROM:-0800
TZOFFSETTO:-0700
TZNAME:PDT
DTSTART:20240310T100000
END:DAYLIGHT
BEGIN:STANDARD
TZOFFSETFROM:-0700
TZOFFSETTO:-0800
TZNAME:PST
DTSTART:20241103T090000
END:STANDARD
BEGIN:DAYLIGHT
TZOFFSETFROM:-0800
TZOFFSETTO:-0700
TZNAME:PDT
DTSTART:20250309T100000
END:DAYLIGHT
BEGIN:STANDARD
TZOFFSETFROM:-0700
TZOFFSETTO:-0800
TZNAME:PST
DTSTART:20251102T090000
END:STANDARD
BEGIN:DAYLIGHT
TZOFFSETFROM:-0800
TZOFFSETTO:-0700
TZNAME:PDT
DTSTART:20260308T100000
END:DAYLIGHT
BEGIN:STANDARD
TZOFFSETFROM:-0700
TZOFFSETTO:-0800
TZNAME:PST
DTSTART:20261101T090000
END:STANDARD
END:VTIMEZONE
BEGIN:VEVENT
DTSTART;TZID=America/Los_Angeles:20251104T183000
DTEND;TZID=America/Los_Angeles:20251104T193000
DTSTAMP:20260421T144823
CREATED:20250930T185050Z
LAST-MODIFIED:20250930T185056Z
UID:11780-1762281000-1762284600@www.singingcreekcenter.org
SUMMARY:Indigenous Cultural Presentation at Lebanon Library
DESCRIPTION:Join us for a wonderful cultural presentation with Deitrich Peters of the Confederated Tribes of Grand Ronde!\nJoin us at the Lebanon Public Library with Deitrich Peters of the Grand Ronde Tribe. Deitrich (Deitz) has graciously agreed to share elements of his regalia and will play flute music\, talk about his culture\, and answer questions. SCEC Executive Director Karen Rainsong will attend and display items of Kalapuya material culture. \nGreat for ages 8 and up. \nFREESeating is limited\, please arrive 10 minutes early. \nDate: Saturday\, November 4\, 2025Time: 6:30pm – 7:30pmLibrary Address: 55 Academy St\, Lebanon\, OR 97355
URL:https://www.singingcreekcenter.org/event/indigenous-cultural-presentation-at-lebanon-library/
LOCATION:Lebanon Library\, 55 Academy St.\, Lebanon\, OR\, 97355
CATEGORIES:Community Event
ATTACH;FMTTYPE=image/jpeg:https://www.singingcreekcenter.org/wp-content/uploads/2023/11/deitz-with-feathers-small-for-site.jpg
END:VEVENT
BEGIN:VEVENT
DTSTART;TZID=America/Los_Angeles:20251108T150000
DTEND;TZID=America/Los_Angeles:20251108T160000
DTSTAMP:20260421T144823
CREATED:20250930T184556Z
LAST-MODIFIED:20251103T154605Z
UID:11771-1762614000-1762617600@www.singingcreekcenter.org
SUMMARY:Indigenous Cultural Presentation at Eugene Library
DESCRIPTION:Join us for a wonderful cultural presentation with Deitrich Peters of the Confederated Tribes of Grand Ronde!\nJoin us at the Eugene Public Library with Deitrich Peters of the Grand Ronde Tribe. Deitrich (Deitz) has graciously agreed to share elements of his regalia and will play flute music\, talk about his culture\, and answer questions. SCEC Executive Director Karen Rainsong will attend and display items of Kalapuya material culture. \nGreat for ages 8 and up. \nGenerously sponsored by the Woodard Family Foundation. \nFREESeating is limited\, please arrive 10 minutes early. \nDate: Saturday\, November 8\, 2025Time: 3:00pm – 4:00pmLibrary Address: 100 West 10th Avenue\, Eugene\, OR 97401
URL:https://www.singingcreekcenter.org/event/indigenous-cultural-presentation-at-eugene-library/
LOCATION:Eugene Public Library\, 100 W 10th Ave\,\, Eugene\, OR\, 97401
CATEGORIES:Community Event
ATTACH;FMTTYPE=image/png:https://www.singingcreekcenter.org/wp-content/uploads/2024/12/woman-speaking-to-Deitz-smaller.png
END:VEVENT
BEGIN:VEVENT
DTSTART;TZID=America/Los_Angeles:20251115T143000
DTEND;TZID=America/Los_Angeles:20251115T153000
DTSTAMP:20260421T144823
CREATED:20250930T184144Z
LAST-MODIFIED:20250930T184721Z
UID:11765-1763217000-1763220600@www.singingcreekcenter.org
SUMMARY:Indigenous Cultural Presentation at Cottage Grove Comm. Ctr
DESCRIPTION:Join us for a wonderful cultural presentation with Deitrich Peters of the Confederated Tribes of Grand Ronde!\nJoin us at the Cottage Grove Community Center in November\, in honor of Native American Heritage Month\, with Deitrich Peters of the Grand Ronde Tribe. Deitrich (Deitz) has graciously agreed to share elements of his regalia and will play flute music\, talk about his culture\, and answer questions. SCEC Executive Director Karen Rainsong will attend and display items of Kalapuya material culture. Best for ages 8 and up. \nFREESeating is limited\, please arrive 10 minutes early. \nDate: Saturday November 15\, 2025Time: 2:30pm – 3:30pm \nAddess: Cottage Grove Library and Community Center700 E Gibbs Ave\, Cottage Grove\, OR 97424 \nThank you to our generous funders: The Woodard Family Foundation and the City of Cottage Grove
URL:https://www.singingcreekcenter.org/event/indigenous-cultural-presentation-at-cottage-grove/
LOCATION:Cottage Grove Community Center\, 700 E Gibbs Ave\,\, Cottage Grove\,\, OR\, 97424\, United States
CATEGORIES:Community Event
ATTACH;FMTTYPE=image/jpeg:https://www.singingcreekcenter.org/wp-content/uploads/2024/07/Deitz-at-Cottage-Grove.jpg
END:VEVENT
END:VCALENDAR