BEGIN:VCALENDAR
VERSION:2.0
PRODID:-//singingcreekcenter.org - ECPv6.15.20//NONSGML v1.0//EN
CALSCALE:GREGORIAN
METHOD:PUBLISH
X-ORIGINAL-URL:https://www.singingcreekcenter.org
X-WR-CALDESC:Events for singingcreekcenter.org
REFRESH-INTERVAL;VALUE=DURATION:PT1H
X-Robots-Tag:noindex
X-PUBLISHED-TTL:PT1H
BEGIN:VTIMEZONE
TZID:America/Los_Angeles
BEGIN:DAYLIGHT
TZOFFSETFROM:-0800
TZOFFSETTO:-0700
TZNAME:PDT
DTSTART:20240310T100000
END:DAYLIGHT
BEGIN:STANDARD
TZOFFSETFROM:-0700
TZOFFSETTO:-0800
TZNAME:PST
DTSTART:20241103T090000
END:STANDARD
BEGIN:DAYLIGHT
TZOFFSETFROM:-0800
TZOFFSETTO:-0700
TZNAME:PDT
DTSTART:20250309T100000
END:DAYLIGHT
BEGIN:STANDARD
TZOFFSETFROM:-0700
TZOFFSETTO:-0800
TZNAME:PST
DTSTART:20251102T090000
END:STANDARD
BEGIN:DAYLIGHT
TZOFFSETFROM:-0800
TZOFFSETTO:-0700
TZNAME:PDT
DTSTART:20260308T100000
END:DAYLIGHT
BEGIN:STANDARD
TZOFFSETFROM:-0700
TZOFFSETTO:-0800
TZNAME:PST
DTSTART:20261101T090000
END:STANDARD
END:VTIMEZONE
BEGIN:VEVENT
DTSTART;TZID=America/Los_Angeles:20250311T093000
DTEND;TZID=America/Los_Angeles:20250311T113000
DTSTAMP:20260422T045306
CREATED:20250108T204303Z
LAST-MODIFIED:20250109T032138Z
UID:10833-1741685400-1741692600@www.singingcreekcenter.org
SUMMARY:Lewis and Clark Field Trip for all Homeschoolers
DESCRIPTION:Lewis and Clark: Explorers Field Trip\nCalling all homeschoolers: join us for a fun and imaginitive field trip about the Corp of Discovery and their journey to the Pacific Northwest! \nFor ages 6 – 11\, this field trip features three stations in the museum with an instructor who will teach you about history. You will get your own little paper journal for taking notes and making drawings. Your group will rotate stations every thirty minutes. \nOverview all together: 10 minutesLearn the basics of who sent them\, who went with them\, why they went and more. \nStation one: William ClarkLearn about map making\, investigate a map and use a compass. Draw your own “compass rose” and learn about trade items brought along on the journey for meetings with Native Peoples. \nStation two: Merriweather LewisLearn about plant and animal species collected on the journey. How were these preserved? What animals did they name after themselves? How did they conduct science? Draw and write with a feather quill and ink in your journal. \nStation three: Native AmericansWhat Native American tribes did they encounter along the way? Learn about some encounters that were tense and others that went smoothly. How did Sacajawea help the men on the journey? Learn about Native culture in Oregon at that time and about trade routes. \nYour field trip will last about 1.75 hours. \nCost is $7 per child\, adults are free.There is no admission charge to get into the musuem. \nThis field trip is pre-registration only and we can only take up to 30 children.Please fill out the form below to register.
URL:https://www.singingcreekcenter.org/event/lewis-and-clark-field-trip-for-all-homeschoolers/
LOCATION:Lane County History Museum
CATEGORIES:Classes,Community Event
ATTACH;FMTTYPE=image/jpeg:https://www.singingcreekcenter.org/wp-content/uploads/2025/01/kids-with-Native-items-on-field-trip.jpg
END:VEVENT
BEGIN:VEVENT
DTSTART;TZID=America/Los_Angeles:20250318T110000
DTEND;TZID=America/Los_Angeles:20250318T210000
DTSTAMP:20260422T045306
CREATED:20250112T001650Z
LAST-MODIFIED:20250112T001657Z
UID:10864-1742295600-1742331600@www.singingcreekcenter.org
SUMMARY:Fundraiser at Falling Sky Brewing in Eugene
DESCRIPTION:Join us Tuesday March 18th at Falling Sky Brewing in Eugene and raise a glass to SCEC! We get $1 from each pint of beer sold all day. Come by in the evening for dinner and talk with our Director\, Karen\, and various other SCEC folks. We’d love to share with you about what our plans are for this year (our 10th Anniversary!) \nSee you there:  \n134 Oak AlleyEugene\, OR(541) 505-7096 \nhttps://www.fallingskybrewing.com/
URL:https://www.singingcreekcenter.org/event/fundraiser-at-falling-sky-brewing-in-eugene/
LOCATION:Falling Sky Brewing\, 1334 Oak Alley\, Eugene\, OR
CATEGORIES:Community Event
ATTACH;FMTTYPE=image/webp:https://www.singingcreekcenter.org/wp-content/uploads/2025/01/falling-sky-brewing-image.webp
END:VEVENT
END:VCALENDAR