BEGIN:VCALENDAR
VERSION:2.0
PRODID:-//singingcreekcenter.org - ECPv6.15.20//NONSGML v1.0//EN
CALSCALE:GREGORIAN
METHOD:PUBLISH
X-ORIGINAL-URL:https://www.singingcreekcenter.org
X-WR-CALDESC:Events for singingcreekcenter.org
REFRESH-INTERVAL;VALUE=DURATION:PT1H
X-Robots-Tag:noindex
X-PUBLISHED-TTL:PT1H
BEGIN:VTIMEZONE
TZID:America/Los_Angeles
BEGIN:DAYLIGHT
TZOFFSETFROM:-0800
TZOFFSETTO:-0700
TZNAME:PDT
DTSTART:20230312T100000
END:DAYLIGHT
BEGIN:STANDARD
TZOFFSETFROM:-0700
TZOFFSETTO:-0800
TZNAME:PST
DTSTART:20231105T090000
END:STANDARD
BEGIN:DAYLIGHT
TZOFFSETFROM:-0800
TZOFFSETTO:-0700
TZNAME:PDT
DTSTART:20240310T100000
END:DAYLIGHT
BEGIN:STANDARD
TZOFFSETFROM:-0700
TZOFFSETTO:-0800
TZNAME:PST
DTSTART:20241103T090000
END:STANDARD
BEGIN:DAYLIGHT
TZOFFSETFROM:-0800
TZOFFSETTO:-0700
TZNAME:PDT
DTSTART:20250309T100000
END:DAYLIGHT
BEGIN:STANDARD
TZOFFSETFROM:-0700
TZOFFSETTO:-0800
TZNAME:PST
DTSTART:20251102T090000
END:STANDARD
END:VTIMEZONE
BEGIN:VEVENT
DTSTART;TZID=America/Los_Angeles:20240908T130000
DTEND;TZID=America/Los_Angeles:20240908T150000
DTSTAMP:20260422T153340
CREATED:20231117T220350Z
LAST-MODIFIED:20240904T231555Z
UID:9227-1725800400-1725807600@www.singingcreekcenter.org
SUMMARY:Grandparent's Pioneer Tea 2024
DESCRIPTION:This event is now Full.\nEnjoy a lovely sit down formal tea with your grandparent or grandfriend with Singing Creek Educational Center! \nThis pioneer-themed tea will be at the historic Shelton McMurphey Johnson house\, a Victorian mansion in Eugene. The event will feature two different flights of  tea and treats\, and live Celtic harp music. Each senior aged 60 and up will be invited to select a handmade gift from our gift table. Each attendee can take a paper heart and write the names of their beloved grandparents and “grandfriends” to string up around the room. In this way all our loved ones can be with us at the tea\, whether they are still with us or not. It’s a great way to include relatives that live out of town! Feel free to dress up in historic dress (a fancy hat?) as our servers will also be in historic dress. \nPre-registration required; seating is limited. \nOne hundred percent of the ticket price supports our non-profit and helps us continue our fun history-based programs for kids and families in Oregon. \nPrevious tea events have been located at the Camas Country Mill Schoolhouse in Junction City and the Dr. Snapp House in Cottage Grove. We are excited to bring you a tea party in the SMJ House (they are wonderful partners of SCEC!) \nCelebrate National Grandparent’s Day on Sunday September 8th! \nDate: Sunday\, September 8th 2024Time: 1pm- 3pmCost:$35 per adult (age 13 and up)$25 for children (ages 12 and under) \nAddress of SMJ House: 303 Willamette St. Eugene OR \nFor questions please contact: director@singingcreekcenter.org\, 541 968-1986 \n Thank you to Market of Choice and Sundance Natural Foods for supporting this event! \nJoin us next year; seats are now full for 2024.
URL:https://www.singingcreekcenter.org/event/grandparents-pioneer-tea-2024/
LOCATION:SMJ House\, 303 Willamette St.\, Eugene\,\, OR\, 97401\, United States
CATEGORIES:Community Event
ATTACH;FMTTYPE=image/png:https://www.singingcreekcenter.org/wp-content/uploads/2021/04/tea-firls.png
END:VEVENT
BEGIN:VEVENT
DTSTART;TZID=America/Los_Angeles:20240927T133000
DTEND;TZID=America/Los_Angeles:20240927T143000
DTSTAMP:20260422T153341
CREATED:20240731T172221Z
LAST-MODIFIED:20240731T205921Z
UID:10240-1727443800-1727447400@www.singingcreekcenter.org
SUMMARY:Acorn Circle: "Let's Go Eeling" at Springfield Library 2024
DESCRIPTION:SESSION ONE“Let’s Go Eeling” Storybook and Make a Basket\nThis FUN free learning session will include watching a short video\, hearing a storybook about catching eels\, discussion about the main idea of the story\, and a craft where you can make your own small basket with ribbons to take home. Get an acorn for your basket! Curriculum by the Confederated Tribes of Grand Ronde\, adaptation and teaching by the staff of Singing Creek Educational Center. Teachers and parents are welcome to attend. \nSupported by the Woodard Family Foundation\, the City of Cottage Grove\, Spirit Mountain Community Fund\, Three Rivers Foundation and participating libraries. \nBest for ages 6 – 10\, but children of all ages are welcome. \nLocation: Springfield LibraryDate: Friday September 27th\, 2024Time: 1:30pm – 2:30pm
URL:https://www.singingcreekcenter.org/event/acorn-circle-eeling-at-sprfld/
LOCATION:Springfield Public Library\, 225 5th Street\, Springfield\, OR\, 97477-4636
CATEGORIES:Community Event
ATTACH;FMTTYPE=image/jpeg:https://www.singingcreekcenter.org/wp-content/uploads/2023/10/lets-go-eeling-featured-image.jpg
END:VEVENT
END:VCALENDAR