BEGIN:VCALENDAR
VERSION:2.0
PRODID:-//singingcreekcenter.org - ECPv6.15.20//NONSGML v1.0//EN
CALSCALE:GREGORIAN
METHOD:PUBLISH
X-WR-CALNAME:singingcreekcenter.org
X-ORIGINAL-URL:https://www.singingcreekcenter.org
X-WR-CALDESC:Events for singingcreekcenter.org
REFRESH-INTERVAL;VALUE=DURATION:PT1H
X-Robots-Tag:noindex
X-PUBLISHED-TTL:PT1H
BEGIN:VTIMEZONE
TZID:America/Los_Angeles
BEGIN:DAYLIGHT
TZOFFSETFROM:-0800
TZOFFSETTO:-0700
TZNAME:PDT
DTSTART:20230312T100000
END:DAYLIGHT
BEGIN:STANDARD
TZOFFSETFROM:-0700
TZOFFSETTO:-0800
TZNAME:PST
DTSTART:20231105T090000
END:STANDARD
BEGIN:DAYLIGHT
TZOFFSETFROM:-0800
TZOFFSETTO:-0700
TZNAME:PDT
DTSTART:20240310T100000
END:DAYLIGHT
BEGIN:STANDARD
TZOFFSETFROM:-0700
TZOFFSETTO:-0800
TZNAME:PST
DTSTART:20241103T090000
END:STANDARD
BEGIN:DAYLIGHT
TZOFFSETFROM:-0800
TZOFFSETTO:-0700
TZNAME:PDT
DTSTART:20250309T100000
END:DAYLIGHT
BEGIN:STANDARD
TZOFFSETFROM:-0700
TZOFFSETTO:-0800
TZNAME:PST
DTSTART:20251102T090000
END:STANDARD
END:VTIMEZONE
BEGIN:VEVENT
DTSTART;TZID=America/Los_Angeles:20240713T090000
DTEND;TZID=America/Los_Angeles:20240713T170000
DTSTAMP:20260422T190302
CREATED:20240403T154701Z
LAST-MODIFIED:20240403T154705Z
UID:9779-1720861200-1720890000@www.singingcreekcenter.org
SUMMARY:Living History Day at Fort Umpqua- Come see us!
DESCRIPTION:Come see us at our booth at the Living History Days at Fort Umpqua\, in Elkton\, OR. \nWe will have a booth with items of Kalapuya Native material culture. Learn about camas\, cedar\, fire\, cordage\, tools\, obsidian and more. Also kids can color a paper mask of an animal in a Native style design to take home! \nMore info coming soon. \nPlease visit ECEC website here: https://elktonbutterflies.com/
URL:https://www.singingcreekcenter.org/event/living-history-day-at-fort-umpqua-come-see-us/
LOCATION:Elkton Community Education Center\, 15850 State Highway 38 W\, Elkton\, OR\, 97436
CATEGORIES:Community Event
ATTACH;FMTTYPE=image/jpeg:https://www.singingcreekcenter.org/wp-content/uploads/2024/04/fort-umpua-featured.jpg
END:VEVENT
BEGIN:VEVENT
DTSTART;TZID=America/Los_Angeles:20240715T100000
DTEND;TZID=America/Los_Angeles:20240715T120000
DTSTAMP:20260422T190302
CREATED:20240527T222223Z
LAST-MODIFIED:20240626T194518Z
UID:9950-1721037600-1721044800@www.singingcreekcenter.org
SUMMARY:Flower Fairies Day at Grow Ability Farm
DESCRIPTION:Flower Fairies Day!\nCelebrate summer flowers with us at Grow Ability Farm! Teams of children will pick their own flowers among the gorgeous rows of blooms. The owner will teach us how to make a perfect bouquet which you can take home in a mason jar (bring one.) Then make a wall hanging made of twigs\, yarn and flowers to decorate your home or fairy garden. Learn why pollinators are important and how we can plant wildflowers to feed them. A day of beauty and bliss among the blossoms! \nDate: Monday\, July 15th\, 10am – 12pmAges 6 – 12 can be registered for this event.Cost: $30 each child\, adults are free. (Toddlers and babies are free and must be carefully supervised at all times.) \nLocation: 75045 CG Reservoir Rd. Cottage Grove\, OR 97424 \nMax of 15 participating children \nBring a sack lunch and a water bottle. And wear your Fairy clothing! Children of all genders are welcome. If you are allergic to bee stings you might not want to attend. In the morning hours\, the bees may be less active\, but you will likely still see them busy with their work of pollinating during your visit.  \nLet us know if you need accommodations of any kind. For more info contact our director\, Karen Rainsong: director@singingcreekcenter.org. \nREGISTER with the form below. Pre-registration and payment is required. Tickets are transferable but there are no refunds.
URL:https://www.singingcreekcenter.org/event/flower-fairies-day-at-grow-ability-farm/
LOCATION:Grow Ability Farm\, 75045 CG Reservoir Rd.\, Cottage Grove\, OR\, 9744
CATEGORIES:Community Event
ATTACH;FMTTYPE=image/jpeg:https://www.singingcreekcenter.org/wp-content/uploads/2024/05/little-girl-picking-flowers.jpg
END:VEVENT
BEGIN:VEVENT
DTSTART;TZID=America/Los_Angeles:20240718T110000
DTEND;TZID=America/Los_Angeles:20240718T140000
DTSTAMP:20260422T190302
CREATED:20240307T005916Z
LAST-MODIFIED:20240701T192018Z
UID:9699-1721300400-1721311200@www.singingcreekcenter.org
SUMMARY:Girl Scouts Day: Native Ways with Deitrich Peters
DESCRIPTION:SCEC is partnering with Native American Cultural Encampments to offer this special event. \nGirl Scouts Day only on Thurs. July 18th\, at Waterloo County Park in Lebanon\, Oregon\, with Deitrich Peters\, a Kalapuya elder\, and his family. Girls and parents will be learning directly from Native people about culture\, crafts and lifeways.Learn to put up a tipi\, with the guidance Native people\, and try the big drum. Then make a beaded craft\, and watch some pow-wow style dancing. Ask questions and learn from Deitz and his family.Earn your Native American Heritage badge in an authentic and informative way\, and afterwards enjoy the river and the park!Bring a water bottle and a sack lunch. \nCost: $22.50 for girls\, adults are freeLocation: 39510 Gross St\, Lebanon\, OR 97355(Look for the tipis!) \nBest for ages 6 and up.Min girls: 10Max girls: 25 \nRegister on the Girl Scouts website: https://www.girlscoutsosw.org/
URL:https://www.singingcreekcenter.org/event/girl-scouts-day-native-ways-with-deitrich-peters/
LOCATION:Waterloo County Park\, 39510 Gross St.\, Waterloo\, OR\, 97355
CATEGORIES:Classes,Community Event
ATTACH;FMTTYPE=image/jpeg:https://www.singingcreekcenter.org/wp-content/uploads/2024/01/July-collage-NA-campout.jpg
END:VEVENT
BEGIN:VEVENT
DTSTART;TZID=America/Los_Angeles:20240719T100000
DTEND;TZID=America/Los_Angeles:20240721T180000
DTSTAMP:20260422T190302
CREATED:20240129T183119Z
LAST-MODIFIED:20240626T214517Z
UID:9512-1721383200-1721584800@www.singingcreekcenter.org
SUMMARY:Waterloo County Park Native Encampment
DESCRIPTION:Join us at the Native American Cultural Encampment in July at Waterloo County Park in Lebanon\, Oregon\, presented by the Native American Cultural Encampments with Deitrich Peters and friends. Learn how to put up a tipi\, try making your own plant cordage\, make a leather pouch\, buy some Native made items\, buy a raffle ticket\, enjoy a free meal on Sunday afternoon\, and see some amazing pow-wow style dancing! Deitz will explain about elements of the regalia worn by the dancers and what they symbolize (cultural and personal significance). This is a great way to get to know Native people and culture in a relaxed\, informal and friendly way.Learn more here: https://naculturalencampment.org/ \nSCEC will have educational opportunities for children and families from 10 – 6 on Saturday and Sunday. Try the atlatl (spear throwing tool) in the field and do some free crafts. We look forward to sharing indigenous culture with you. \nThe public are welcome to attend each day\, 10am – 6pm. \nAddress: 39510 Gross St\, Lebanon\, OR 97355 \nThis is an alcohol and drug-free event. Children are welcome. Please keep pets leashed and under your control at all times.
URL:https://www.singingcreekcenter.org/event/waterloo-county-park-native-encampment/
LOCATION:Waterloo County Park\, 39510 Gross St.\, Waterloo\, OR\, 97355
CATEGORIES:Community Event
ATTACH;FMTTYPE=image/jpeg:https://www.singingcreekcenter.org/wp-content/uploads/2024/01/July-collage-NA-campout.jpg
END:VEVENT
END:VCALENDAR