BEGIN:VCALENDAR
VERSION:2.0
PRODID:-//singingcreekcenter.org - ECPv6.15.20//NONSGML v1.0//EN
CALSCALE:GREGORIAN
METHOD:PUBLISH
X-ORIGINAL-URL:https://www.singingcreekcenter.org
X-WR-CALDESC:Events for singingcreekcenter.org
REFRESH-INTERVAL;VALUE=DURATION:PT1H
X-Robots-Tag:noindex
X-PUBLISHED-TTL:PT1H
BEGIN:VTIMEZONE
TZID:America/Los_Angeles
BEGIN:DAYLIGHT
TZOFFSETFROM:-0800
TZOFFSETTO:-0700
TZNAME:PDT
DTSTART:20210314T100000
END:DAYLIGHT
BEGIN:STANDARD
TZOFFSETFROM:-0700
TZOFFSETTO:-0800
TZNAME:PST
DTSTART:20211107T090000
END:STANDARD
BEGIN:DAYLIGHT
TZOFFSETFROM:-0800
TZOFFSETTO:-0700
TZNAME:PDT
DTSTART:20220313T100000
END:DAYLIGHT
BEGIN:STANDARD
TZOFFSETFROM:-0700
TZOFFSETTO:-0800
TZNAME:PST
DTSTART:20221106T090000
END:STANDARD
BEGIN:DAYLIGHT
TZOFFSETFROM:-0800
TZOFFSETTO:-0700
TZNAME:PDT
DTSTART:20230312T100000
END:DAYLIGHT
BEGIN:STANDARD
TZOFFSETFROM:-0700
TZOFFSETTO:-0800
TZNAME:PST
DTSTART:20231105T090000
END:STANDARD
END:VTIMEZONE
BEGIN:VEVENT
DTSTART;TZID=America/Los_Angeles:20221008T170000
DTEND;TZID=America/Los_Angeles:20221008T200000
DTSTAMP:20260424T040157
CREATED:20220915T224853Z
LAST-MODIFIED:20220920T181358Z
UID:8060-1665248400-1665259200@www.singingcreekcenter.org
SUMMARY:Fall FUNraiser at Covered Bridge Brewery
DESCRIPTION:It’s a “FUNraiser”!\nJoin us for a great night celebrating Singing Creek Educational Center at Covered Bridge Brewery in Cottage Grove! We are honoring our long term staff\, and presenting a bit about where we’ve been and where we are headed as an organization. \nWe will have live music on the stage out back where there is some great ambiance and lots of great drink options! Enjoy the food trucks too. Come on out with your whole family and buy raffle tickets for some great baskets full of gifts and prizes. \nSaturday Oct 8th\, 5pm to 8pmMusic: TBDCost is FREEBring cash for raffle tickets! \n$1 from every drink sold goes to support SCEC\, which is a non profit in Cottage Grove.
URL:https://www.singingcreekcenter.org/event/fall-fundraiser-at-covered-bridge-brewery/
LOCATION:Covered Bridge Brewery\, 926 E Main St\,\, Cottage Grove\,\, OR\, 97424
CATEGORIES:Community Event
ATTACH;FMTTYPE=image/png:https://www.singingcreekcenter.org/wp-content/uploads/2022/09/covered-bridge-brewery-front-1200px-tiny.png
ORGANIZER;CN="Karen Rainsong":MAILTO:director@singingcreekcenter.org
END:VEVENT
BEGIN:VEVENT
DTSTART;TZID=America/Los_Angeles:20221031T150000
DTEND;TZID=America/Los_Angeles:20221031T180000
DTSTAMP:20260424T040157
CREATED:20210406T021159Z
LAST-MODIFIED:20221026T174323Z
UID:6632-1667228400-1667239200@www.singingcreekcenter.org
SUMMARY:Halloween Games Booth Downtown
DESCRIPTION:Come visit our booth in downtown Cottage Grove at All America Square (Opal Whiteley Park) on October 31st at 3pm! \nWe will have carnival style games (ring toss onto bottles) and the pocket lady! Win prizes! For just 50cents a turn you can win fun nature prizes like polished stones\, seashells\, and colorful felt flower clips.  \nAlso in the park will be halloween books read by a volunteer with the mobile bike library.  \nThis is a candy-free and smaller event\, an alternative to the Hootinanny at Bohemia Park which has thousands of kids and lots of candy.  \nJoin us for some spooky fun and wear your costume! \n  \nThis event is a fundraiser for Singing Creek Educational Center. \n 
URL:https://www.singingcreekcenter.org/event/halloween-2022/
LOCATION:OR
CATEGORIES:Community Event
ATTACH;FMTTYPE=image/jpeg:https://www.singingcreekcenter.org/wp-content/uploads/2019/09/halloween-image-for-website.jpg
ORGANIZER;CN="Karen Rainsong":MAILTO:director@singingcreekcenter.org
END:VEVENT
END:VCALENDAR