BEGIN:VCALENDAR
VERSION:2.0
PRODID:-//singingcreekcenter.org - ECPv6.15.20//NONSGML v1.0//EN
CALSCALE:GREGORIAN
METHOD:PUBLISH
X-WR-CALNAME:singingcreekcenter.org
X-ORIGINAL-URL:https://www.singingcreekcenter.org
X-WR-CALDESC:Events for singingcreekcenter.org
REFRESH-INTERVAL;VALUE=DURATION:PT1H
X-Robots-Tag:noindex
X-PUBLISHED-TTL:PT1H
BEGIN:VTIMEZONE
TZID:America/Los_Angeles
BEGIN:DAYLIGHT
TZOFFSETFROM:-0800
TZOFFSETTO:-0700
TZNAME:PDT
DTSTART:20200308T100000
END:DAYLIGHT
BEGIN:STANDARD
TZOFFSETFROM:-0700
TZOFFSETTO:-0800
TZNAME:PST
DTSTART:20201101T090000
END:STANDARD
BEGIN:DAYLIGHT
TZOFFSETFROM:-0800
TZOFFSETTO:-0700
TZNAME:PDT
DTSTART:20210314T100000
END:DAYLIGHT
BEGIN:STANDARD
TZOFFSETFROM:-0700
TZOFFSETTO:-0800
TZNAME:PST
DTSTART:20211107T090000
END:STANDARD
BEGIN:DAYLIGHT
TZOFFSETFROM:-0800
TZOFFSETTO:-0700
TZNAME:PDT
DTSTART:20220313T100000
END:DAYLIGHT
BEGIN:STANDARD
TZOFFSETFROM:-0700
TZOFFSETTO:-0800
TZNAME:PST
DTSTART:20221106T090000
END:STANDARD
END:VTIMEZONE
BEGIN:VEVENT
DTSTART;TZID=America/Los_Angeles:20210619T120000
DTEND;TZID=America/Los_Angeles:20210619T140000
DTSTAMP:20260425T072001
CREATED:20210422T162816Z
LAST-MODIFIED:20210515T170856Z
UID:6811-1624104000-1624111200@www.singingcreekcenter.org
SUMMARY:Opal Whiteley History Tour with Steve Williamson
DESCRIPTION:The Life and Times of Opal Whiteley- Guided Tour\nJoin us at noon on Saturday\, June 19th for a guided caravan tour of Opal Whiteley’s life and places– with Steve Williamson\, a local expert on Opal Whiteley. Steve has done lots of research on her and our local history. See the Opal memorial website here to learn more about this famous pioneer girl. \nJoin our Opal Caravan for a fun drive and walking tour of places where Opal Whiteley lived and wrote about. We will start in historic downtown Cottage Grove and travel to Walden\, where she wrote her famous diary. You will also get to see sites where famous movies like Animal House\, The General and Stand By Me were filmed. Find great places to hike or bike along the beautiful Row River Trail. The Caravan will last at least an hour. \nMeet at the Snapp House at 360 S. River Rd\, Cottage Grove\, OR 97424. Park in the main lot and pay your fee\, and receive your map\, then follow Steve! \nCost: $10 per adult\, children 15 and under are free. \nPlease bring cash or a check made out to Singing Creek Educational Center. The funds from this event helps support our living history programming for families and we thank you for any additional amount you can contribute. \n			\n			\n				\n				\n				\n				\n			\n				\n				\n				\n				\n				\n				\n				\n				\n				\n				\n				New to Opal Whiteley? Watch our video below and then join us for the caravan tour!
URL:https://www.singingcreekcenter.org/event/opal-whiteley-history-tour-with-steve-williamson/
LOCATION:Snapp House\, 360 S. River Rd.\, Cottage Grove\, Oregon\, 97424
CATEGORIES:Community Event
ATTACH;FMTTYPE=image/jpeg:https://www.singingcreekcenter.org/wp-content/uploads/2021/04/Opal-history-tour-featured-image.jpg
ORGANIZER;CN="Karen Rainsong":MAILTO:director@singingcreekcenter.org
END:VEVENT
BEGIN:VEVENT
DTSTART;TZID=America/Los_Angeles:20210626T100000
DTEND;TZID=America/Los_Angeles:20210626T120000
DTSTAMP:20260425T072001
CREATED:20210406T171514Z
LAST-MODIFIED:20210614T230802Z
UID:6647-1624701600-1624708800@www.singingcreekcenter.org
SUMMARY:Homeschool Family Day
DESCRIPTION:THIS EVENT IS ONLY FOR our homeschool families that were a part of our online program. \nJoin us for a fun morning at the Snapp House doing old-fashioned crafts and games\, and find out more about our summer camps and fall events! This is a great time to connect outside in nature\, since we are located in a park next to the river. Bring a picnic lunch and a water bottle (there is no drinking fountain at the Snapp house.) \nAlso this is a great time to talk to our Executive Director about volunteering with us or joining the Board of Directors. Preview summer camps with fun games and crafts. Please wear  a mask if you are not fully vacinated. Children are not required to wear a mask at this time. We do have hand sanitizer and a bathroom. \nTime: 10:00am to noonAddress: 360 S. River Road\, Cottage Grove\, OR.You may park in the big parking lot directly in front of the house. \nPlease RSVP if you were a member of the online homeschool this past year (Sept 2020 to May 2021). Email Karen\, our E.D. to RSVP if you will be attending. \nALSO join us at noon for a guided caravan tour of Opal Whiteley’s life and places– with Steve Williamson\, a local expert on Opal Whiteley. Steve has done lots of research on her and our local history. Take your own car and stop at points of interest\, get out\, and hear him talk about the land\, the town’s history\, Opal’s life and more. The cost for this event for everyone else is $10 a person but for your family (our homeschoolers) it’s FREE.
URL:https://www.singingcreekcenter.org/event/homeschool-family-day/
LOCATION:Snapp House\, 360 S. River Rd.\, Cottage Grove\, Oregon\, 97424
CATEGORIES:Community Event
ATTACH;FMTTYPE=image/jpeg:https://www.singingcreekcenter.org/wp-content/uploads/2021/04/girls-picking-flowers-by-river.jpg
ORGANIZER;CN="Karen Rainsong":MAILTO:director@singingcreekcenter.org
END:VEVENT
END:VCALENDAR