BEGIN:VCALENDAR
VERSION:2.0
PRODID:-//singingcreekcenter.org - ECPv6.15.20//NONSGML v1.0//EN
CALSCALE:GREGORIAN
METHOD:PUBLISH
X-WR-CALNAME:singingcreekcenter.org
X-ORIGINAL-URL:https://www.singingcreekcenter.org
X-WR-CALDESC:Events for singingcreekcenter.org
REFRESH-INTERVAL;VALUE=DURATION:PT1H
X-Robots-Tag:noindex
X-PUBLISHED-TTL:PT1H
BEGIN:VTIMEZONE
TZID:America/Los_Angeles
BEGIN:DAYLIGHT
TZOFFSETFROM:-0800
TZOFFSETTO:-0700
TZNAME:PDT
DTSTART:20240310T100000
END:DAYLIGHT
BEGIN:STANDARD
TZOFFSETFROM:-0700
TZOFFSETTO:-0800
TZNAME:PST
DTSTART:20241103T090000
END:STANDARD
BEGIN:DAYLIGHT
TZOFFSETFROM:-0800
TZOFFSETTO:-0700
TZNAME:PDT
DTSTART:20250309T100000
END:DAYLIGHT
BEGIN:STANDARD
TZOFFSETFROM:-0700
TZOFFSETTO:-0800
TZNAME:PST
DTSTART:20251102T090000
END:STANDARD
BEGIN:DAYLIGHT
TZOFFSETFROM:-0800
TZOFFSETTO:-0700
TZNAME:PDT
DTSTART:20260308T100000
END:DAYLIGHT
BEGIN:STANDARD
TZOFFSETFROM:-0700
TZOFFSETTO:-0800
TZNAME:PST
DTSTART:20261101T090000
END:STANDARD
END:VTIMEZONE
BEGIN:VEVENT
DTSTART;TZID=America/Los_Angeles:20250712T130000
DTEND;TZID=America/Los_Angeles:20250712T153000
DTSTAMP:20260419T062949
CREATED:20250122T185240Z
LAST-MODIFIED:20251214T180259Z
UID:10895-1752325200-1752334200@www.singingcreekcenter.org
SUMMARY:Girl Scouts Fiber Arts Day 2025
DESCRIPTION:Alpaca Farm and Fiber Arts Day (at Aragon Alpacas) with SCEC \nCANCELLED \nCome play with the alpacas and learn all about their fleece\, what they provide us\, and their unique personalities. Ann\, the owner\, will lead us around her farm and tell stories about these interesting animals. Then we go into the studio to learn about different kinds of animal fibers for spinning and weaving. Learn how to spin on a spinning wheel and make some wet felting around a bar of soap. Have a fun day with fiber arts! All female self-identified children ages 6 and up are welcome to participate. \nFor Girl Scouts: Earn your Fiber Arts badge (not included.) \nSee our video interview at Aragon Alpacas with Ann: https://youtu.be/HSQlIMFmt1M \nSaturday\, July 12th\, 1pm – 3:30pmLocation: Aragon Alpacas33005 Dillard Rd. Eugene OR  \nAll supplies included \nCost: $25\, adults freeGirl Scouts Level: Brownies\, Juniors\, CadettesCarpooling is suggested; parking is limited \nPre-Registration only. \nSIGNUP using the form below. \n			\n				\n				\n				\n				\n				\n			\n			\n				\n				\n				\n				\n			\n				\n				\n				\n				\n				\n				\n				\n				\n				\n				\n				\n			\n			\n				\n				\n				\n				\n				\n				\n				\n				\n				\n				Thank you so much to Ann and Mike Dockendorf for hosting this wonderful event!
URL:https://www.singingcreekcenter.org/event/girl-scouts-fiber-arts-day-2025/
LOCATION:Aragon Alpacas\, 33005 Dillard Rd\, Eugene\, United States
CATEGORIES:Classes,Community Event
ATTACH;FMTTYPE=image/jpeg:https://www.singingcreekcenter.org/wp-content/uploads/2024/01/girl-scout-w-alpaca.jpg
END:VEVENT
END:VCALENDAR