BEGIN:VCALENDAR
VERSION:2.0
PRODID:-//singingcreekcenter.org - ECPv6.15.20//NONSGML v1.0//EN
CALSCALE:GREGORIAN
METHOD:PUBLISH
X-WR-CALNAME:singingcreekcenter.org
X-ORIGINAL-URL:https://www.singingcreekcenter.org
X-WR-CALDESC:Events for singingcreekcenter.org
REFRESH-INTERVAL;VALUE=DURATION:PT1H
X-Robots-Tag:noindex
X-PUBLISHED-TTL:PT1H
BEGIN:VTIMEZONE
TZID:America/Los_Angeles
BEGIN:DAYLIGHT
TZOFFSETFROM:-0800
TZOFFSETTO:-0700
TZNAME:PDT
DTSTART:20240310T100000
END:DAYLIGHT
BEGIN:STANDARD
TZOFFSETFROM:-0700
TZOFFSETTO:-0800
TZNAME:PST
DTSTART:20241103T090000
END:STANDARD
BEGIN:DAYLIGHT
TZOFFSETFROM:-0800
TZOFFSETTO:-0700
TZNAME:PDT
DTSTART:20250309T100000
END:DAYLIGHT
BEGIN:STANDARD
TZOFFSETFROM:-0700
TZOFFSETTO:-0800
TZNAME:PST
DTSTART:20251102T090000
END:STANDARD
BEGIN:DAYLIGHT
TZOFFSETFROM:-0800
TZOFFSETTO:-0700
TZNAME:PDT
DTSTART:20260308T100000
END:DAYLIGHT
BEGIN:STANDARD
TZOFFSETFROM:-0700
TZOFFSETTO:-0800
TZNAME:PST
DTSTART:20261101T090000
END:STANDARD
END:VTIMEZONE
BEGIN:VEVENT
DTSTART;TZID=America/Los_Angeles:20250423T090000
DTEND;TZID=America/Los_Angeles:20250531T150000
DTSTAMP:20260419T101501
CREATED:20241212T030015Z
LAST-MODIFIED:20241212T030021Z
UID:10784-1745398800-1748703600@www.singingcreekcenter.org
SUMMARY:Spring Outdoor School Teaching- Kalapuya Ways
DESCRIPTION:Each year in Spring and Fall\, SCEC teaches the Kalapuya Ways program for Outdoor School in the Dorena area\, for hundreds of children. \nWe provide a 45 minute unit on the First Peoples of the Willamette Valley area\, including either a stick dice game activity or throwing atlatls in the field (if the weather is good.) Children at outdoor school rotate between activities including our teaching. \nWe have been providing this education for Grove Christian Camp for many years\, and are happy to once again be participating in Spring 2025. 
URL:https://www.singingcreekcenter.org/event/spring-outdoor-school-teaching-kalapuya-ways/
LOCATION:OR
CATEGORIES:Classes
ATTACH;FMTTYPE=image/png:https://www.singingcreekcenter.org/wp-content/uploads/2024/12/students-with-atlatls-and-KR.png
END:VEVENT
BEGIN:VEVENT
DTSTART;TZID=America/Los_Angeles:20250525T130000
DTEND;TZID=America/Los_Angeles:20250525T150000
DTSTAMP:20260419T101501
CREATED:20250322T170513Z
LAST-MODIFIED:20250322T170521Z
UID:11161-1748178000-1748185200@www.singingcreekcenter.org
SUMMARY:Kalapuya Ways Presentation and Hike
DESCRIPTION:Learn about the Kalapuya Indigenous people\, past and present\, with instructor Karen Rainsong. This presentation and guided hike is best for adults and teens. Bring some cash as a donation to the Friend’s of Hendricks park for this presentation. Hike will include some gentle uphill climbs and is not generally considered wheelchair friendly\, although the opening talk in the park is accessible. \nSee items of material culture\, and listen to a Kalapuya story (permission for Karen to tell this story has been given by Esther Stutzman\, a local Kalapuya elder.) Karen has been learning about and from Indigenous people for over 18 years. \nSee more info on their website: https://friendsofhendrickspark.org/
URL:https://www.singingcreekcenter.org/event/kalapuya-ways-presentation-and-hike/
LOCATION:Hendrick’s Park\, Summit Ave &\, Skyline Blvd\,\, Eugene\, OR\, 97403
CATEGORIES:Classes,Community Event
ATTACH;FMTTYPE=image/jpeg:https://www.singingcreekcenter.org/wp-content/uploads/2025/03/Kalapuya-ways-at-Hendricks-park.jpg
END:VEVENT
END:VCALENDAR