BEGIN:VCALENDAR
VERSION:2.0
PRODID:-//singingcreekcenter.org - ECPv6.15.20//NONSGML v1.0//EN
CALSCALE:GREGORIAN
METHOD:PUBLISH
X-ORIGINAL-URL:https://www.singingcreekcenter.org
X-WR-CALDESC:Events for singingcreekcenter.org
REFRESH-INTERVAL;VALUE=DURATION:PT1H
X-Robots-Tag:noindex
X-PUBLISHED-TTL:PT1H
BEGIN:VTIMEZONE
TZID:America/Los_Angeles
BEGIN:DAYLIGHT
TZOFFSETFROM:-0800
TZOFFSETTO:-0700
TZNAME:PDT
DTSTART:20230312T100000
END:DAYLIGHT
BEGIN:STANDARD
TZOFFSETFROM:-0700
TZOFFSETTO:-0800
TZNAME:PST
DTSTART:20231105T090000
END:STANDARD
BEGIN:DAYLIGHT
TZOFFSETFROM:-0800
TZOFFSETTO:-0700
TZNAME:PDT
DTSTART:20240310T100000
END:DAYLIGHT
BEGIN:STANDARD
TZOFFSETFROM:-0700
TZOFFSETTO:-0800
TZNAME:PST
DTSTART:20241103T090000
END:STANDARD
BEGIN:DAYLIGHT
TZOFFSETFROM:-0800
TZOFFSETTO:-0700
TZNAME:PDT
DTSTART:20250309T100000
END:DAYLIGHT
BEGIN:STANDARD
TZOFFSETFROM:-0700
TZOFFSETTO:-0800
TZNAME:PST
DTSTART:20251102T090000
END:STANDARD
END:VTIMEZONE
BEGIN:VEVENT
DTSTART;TZID=America/Los_Angeles:20241116T130000
DTEND;TZID=America/Los_Angeles:20241116T153000
DTSTAMP:20260419T211621
CREATED:20240103T214007Z
LAST-MODIFIED:20241112T220241Z
UID:9349-1731762000-1731771000@www.singingcreekcenter.org
SUMMARY:Cancelled - Native American Heritage Day for Girl Scouts
DESCRIPTION:Cancelled due to lack of sign ups.\nLearn all about the Kalapuya Indigenous people of the Willamette Valley region and enjoy storytelling and music from a Native American tribal member. Explore Native art of the Columbia River area and make a craft to take home. We will learn about tools\, trade\, foods\, medicinal plants\, housing\, language and more. Then we will learn about some Native American leaders and what they have accomplished today. This is a brownies and juniors level class. Earn your Native American Heritage Month patch with us at Singing Creek Educational Center in Cottage Grove. \nThis will be our third year offering this program. We work closely with local Tribal members to make sure our curriculum is culturally responsive. \nSat Nov 16\, Time: 1pm – 3:30pm \nAll supplies includedmax participants: 20min participants: 10 \nCost: $25\, adults freeLevel:  Brownies and JuniorsCarpooling is suggested\, parking is limited \nRegistration below
URL:https://www.singingcreekcenter.org/event/native-american-heritage-day-for-girl-scouts/
LOCATION:Cottage Grove Community Center\, 700 E Gibbs Ave\,\, Cottage Grove\,\, OR\, 97424\, United States
CATEGORIES:Classes
ATTACH;FMTTYPE=image/jpeg:https://www.singingcreekcenter.org/wp-content/uploads/2024/01/girl-scouts-native-salmon.jpg
END:VEVENT
END:VCALENDAR