BEGIN:VCALENDAR
VERSION:2.0
PRODID:-//singingcreekcenter.org - ECPv6.15.20//NONSGML v1.0//EN
CALSCALE:GREGORIAN
METHOD:PUBLISH
X-WR-CALNAME:singingcreekcenter.org
X-ORIGINAL-URL:https://www.singingcreekcenter.org
X-WR-CALDESC:Events for singingcreekcenter.org
REFRESH-INTERVAL;VALUE=DURATION:PT1H
X-Robots-Tag:noindex
X-PUBLISHED-TTL:PT1H
BEGIN:VTIMEZONE
TZID:America/Los_Angeles
BEGIN:DAYLIGHT
TZOFFSETFROM:-0800
TZOFFSETTO:-0700
TZNAME:PDT
DTSTART:20220313T100000
END:DAYLIGHT
BEGIN:STANDARD
TZOFFSETFROM:-0700
TZOFFSETTO:-0800
TZNAME:PST
DTSTART:20221106T090000
END:STANDARD
BEGIN:DAYLIGHT
TZOFFSETFROM:-0800
TZOFFSETTO:-0700
TZNAME:PDT
DTSTART:20230312T100000
END:DAYLIGHT
BEGIN:STANDARD
TZOFFSETFROM:-0700
TZOFFSETTO:-0800
TZNAME:PST
DTSTART:20231105T090000
END:STANDARD
BEGIN:DAYLIGHT
TZOFFSETFROM:-0800
TZOFFSETTO:-0700
TZNAME:PDT
DTSTART:20240310T100000
END:DAYLIGHT
BEGIN:STANDARD
TZOFFSETFROM:-0700
TZOFFSETTO:-0800
TZNAME:PST
DTSTART:20241103T090000
END:STANDARD
END:VTIMEZONE
BEGIN:VEVENT
DTSTART;TZID=America/Los_Angeles:20231103T130000
DTEND;TZID=America/Los_Angeles:20231103T160000
DTSTAMP:20260422T130628
CREATED:20231024T204648Z
LAST-MODIFIED:20231024T204653Z
UID:9163-1699016400-1699027200@www.singingcreekcenter.org
SUMMARY:Monthly Hands-On Homeschool session
DESCRIPTION:Our regular monthly meeting of our History Homeschool at the SMJ House\, on Friday Nov 3rd\, 1pm -4pm.  \nThis month’s theme: Fiber arts and animals! \nLearn all about weaving\, spinning\, sewing and carding\, plus about animals that give us fibers for clothing and more. Make a little basket to take home. For more info:  \nHands-On Homeschool
URL:https://www.singingcreekcenter.org/event/monthly-hands-on-homeschool-session/
LOCATION:SMJ House\, 303 Willamette St.\, Eugene\,\, OR\, 97401\, United States
CATEGORIES:Classes,Private Group
ATTACH;FMTTYPE=image/jpeg:https://www.singingcreekcenter.org/wp-content/uploads/2023/07/ann-teaching-smj-house-2023.jpg
END:VEVENT
END:VCALENDAR