BEGIN:VCALENDAR
VERSION:2.0
PRODID:-//singingcreekcenter.org - ECPv6.15.20//NONSGML v1.0//EN
CALSCALE:GREGORIAN
METHOD:PUBLISH
X-WR-CALNAME:singingcreekcenter.org
X-ORIGINAL-URL:https://www.singingcreekcenter.org
X-WR-CALDESC:Events for singingcreekcenter.org
REFRESH-INTERVAL;VALUE=DURATION:PT1H
X-Robots-Tag:noindex
X-PUBLISHED-TTL:PT1H
BEGIN:VTIMEZONE
TZID:America/Los_Angeles
BEGIN:DAYLIGHT
TZOFFSETFROM:-0800
TZOFFSETTO:-0700
TZNAME:PDT
DTSTART:20220313T100000
END:DAYLIGHT
BEGIN:STANDARD
TZOFFSETFROM:-0700
TZOFFSETTO:-0800
TZNAME:PST
DTSTART:20221106T090000
END:STANDARD
BEGIN:DAYLIGHT
TZOFFSETFROM:-0800
TZOFFSETTO:-0700
TZNAME:PDT
DTSTART:20230312T100000
END:DAYLIGHT
BEGIN:STANDARD
TZOFFSETFROM:-0700
TZOFFSETTO:-0800
TZNAME:PST
DTSTART:20231105T090000
END:STANDARD
BEGIN:DAYLIGHT
TZOFFSETFROM:-0800
TZOFFSETTO:-0700
TZNAME:PDT
DTSTART:20240310T100000
END:DAYLIGHT
BEGIN:STANDARD
TZOFFSETFROM:-0700
TZOFFSETTO:-0800
TZNAME:PST
DTSTART:20241103T090000
END:STANDARD
END:VTIMEZONE
BEGIN:VEVENT
DTSTART;TZID=America/Los_Angeles:20231005T153000
DTEND;TZID=America/Los_Angeles:20231005T163000
DTSTAMP:20260422T145128
CREATED:20230808T213917Z
LAST-MODIFIED:20231004T174352Z
UID:8905-1696519800-1696523400@www.singingcreekcenter.org
SUMMARY:Acorn Circle Native teaching: Creswell Library Oct 5
DESCRIPTION:Join us for the kickoff of our Acorn Circle Program at the Creswell Public Library!\nWe will be teaching curriculum for kids from the Confederated Tribes of Grand Ronde\, including a craft activity to take home. See all the details here: \nAcorn Circle Native American \n \n 
URL:https://www.singingcreekcenter.org/event/acorn-circle-native-teaching-creswell-library-oct-5/
LOCATION:Creswell Public Library\, 64 W Oregon Ave\,\, Creswell\,\, OR\, 97426
CATEGORIES:Classes,Community Event
ATTACH;FMTTYPE=image/jpeg:https://www.singingcreekcenter.org/wp-content/uploads/2023/08/acorn-Circlefeatured-image.jpg
END:VEVENT
BEGIN:VEVENT
DTSTART;TZID=America/Los_Angeles:20231014T130000
DTEND;TZID=America/Los_Angeles:20231014T153000
DTSTAMP:20260422T145128
CREATED:20230726T212503Z
LAST-MODIFIED:20230726T213121Z
UID:8760-1697288400-1697297400@www.singingcreekcenter.org
SUMMARY:Pioneer Homesteading for Girl Scouts Fall 2023
DESCRIPTION:Learn what it was like to be an Oregon settler in 1890 at the Shelton McMurphey Johnson House in Eugene.  Pioneer dress-up clothes and bonnets are available or bring your own. Fun activities and authentic “chores” and crafts await you in this class where you can earn your Playing the Past badge in a truly unique and hands-on way. Activities may include: churning butter\, grinding grain\, finger crocheting\, sewing\, square dancing\, quill pen writing\, etc. Girl Scout badge earned: Junior Playing the Past (badge not included with registration). \nFor JuniorsAll supplies included \nRegister on the website for the Girl Scouts of Oregonhttps://www.girlscoutsosw.org/ \n			\n			\n				\n				\n				\n				\n				\n				\n				\n				\n				\n				\n			\n			\n				\n				\n				\n				\n			\n				\n				\n				\n				\n				\n				\n				\n				\n				\n				\n				\n			\n			\n				\n				\n				\n				\n				\n				\n				\n				\n				\n				About the Venue\nShelton McMurphey Johnson House is a 7\,000 square foot Victorian House that is owned by the City of Eugene and operated as a museum by Shelton McMurphey Johnson Associates\, a 501c3 non-profit organization. The Museum was opened in 1994 with just one floor available for viewing by the public. Now open 6 days a week and furnished on all three floors\, the Museum is a beautiful example of what life might have looked like in the 1930’s for the Shelton McMurphey Family. \n 
URL:https://www.singingcreekcenter.org/event/homesteading-for-girl-scouts-fall-2023/
LOCATION:SMJ House\, 303 Willamette St.\, Eugene\,\, OR\, 97401\, United States
CATEGORIES:Classes,pioneer events
ATTACH;FMTTYPE=image/jpeg:https://www.singingcreekcenter.org/wp-content/uploads/2023/07/ann-teaching-smj-house-2023.jpg
END:VEVENT
END:VCALENDAR