BEGIN:VCALENDAR
VERSION:2.0
PRODID:-//singingcreekcenter.org - ECPv6.15.20//NONSGML v1.0//EN
CALSCALE:GREGORIAN
METHOD:PUBLISH
X-ORIGINAL-URL:https://www.singingcreekcenter.org
X-WR-CALDESC:Events for singingcreekcenter.org
REFRESH-INTERVAL;VALUE=DURATION:PT1H
X-Robots-Tag:noindex
X-PUBLISHED-TTL:PT1H
BEGIN:VTIMEZONE
TZID:America/Los_Angeles
BEGIN:DAYLIGHT
TZOFFSETFROM:-0800
TZOFFSETTO:-0700
TZNAME:PDT
DTSTART:20210314T100000
END:DAYLIGHT
BEGIN:STANDARD
TZOFFSETFROM:-0700
TZOFFSETTO:-0800
TZNAME:PST
DTSTART:20211107T090000
END:STANDARD
BEGIN:DAYLIGHT
TZOFFSETFROM:-0800
TZOFFSETTO:-0700
TZNAME:PDT
DTSTART:20220313T100000
END:DAYLIGHT
BEGIN:STANDARD
TZOFFSETFROM:-0700
TZOFFSETTO:-0800
TZNAME:PST
DTSTART:20221106T090000
END:STANDARD
BEGIN:DAYLIGHT
TZOFFSETFROM:-0800
TZOFFSETTO:-0700
TZNAME:PDT
DTSTART:20230312T100000
END:DAYLIGHT
BEGIN:STANDARD
TZOFFSETFROM:-0700
TZOFFSETTO:-0800
TZNAME:PST
DTSTART:20231105T090000
END:STANDARD
END:VTIMEZONE
BEGIN:VEVENT
DTSTART;TZID=America/Los_Angeles:20220906T173000
DTEND;TZID=America/Los_Angeles:20220906T193000
DTSTAMP:20260423T124642
CREATED:20220816T014541Z
LAST-MODIFIED:20220817T220406Z
UID:7907-1662485400-1662492600@www.singingcreekcenter.org
SUMMARY:Homestead Arts: Sew a bag!
DESCRIPTION:Homestead Arts: Sew a Bag!\nAdults and kids 8 years old and up. Cost: $15 – all supplies included.Location: Dr. Snapp House (Singing Creek Educational Center)360 S. River Road\, Cottage Grove\, OR \nLet’s learn to hand-sew! We provide all the fabrics\, thread\, needles and the instruction. Make a cute small shoulder bag\, with a basic fabric strap\, a pocket and a button closure. Kids under 12 must come with an adult. Our instructor has been teaching this bag making class at SCEC summer camp for many years. Feel free to bring a dinner snack to this class. \nPre-registration is required. Use the form below to sign up for this class. \n			\n			\n				\n				\n				\n				\n				\n				\n				\n				\n				\n				\n			\n			\n				\n				\n				\n				\n			\n				\n				\n				\n				\n				\n				\n				\n				\n				\n				\n				\n			\n			\n				\n				\n				\n				\n				\n				\n				\n				\n				\n				About Your Instructor\nKaren has a B.A. from Cal State University Northridge in Art\, and a Certified Naturalist Certificate from the Siskiyou Field Institute in Oregon. She is a graphic designer\, photographer\, and passionate about history in general and Oregon history in particular. She is also a mother and an active part of the community. She is the Executive Director of SCEC\, which she founded in 2007. \nShe has always loved nature and natural interpretation. Throughout her years living in Eugene she has taught children in both traditional school settings and non-formal outdoor settings. Some of her favorite jobs included teaching natural history and local history at Homesource home-schooling center\, teaching many different types of art and natural history courses for Lane Arts Council\, and teaching as an Audobon In the Schools instructor and at Whole Earth Nature School. We are lucky to have her! \nHer style is relaxed and fun\, with a focus on empowering you to do your best.
URL:https://www.singingcreekcenter.org/event/homestead-arts-sew-a-bag/
LOCATION:Snapp House\, 360 S. River Rd.\, Cottage Grove\, Oregon\, 97424
CATEGORIES:Classes
ATTACH;FMTTYPE=image/jpeg:https://www.singingcreekcenter.org/wp-content/uploads/2022/08/IMG_20180822_105529783.jpg
ORGANIZER;CN="Karen Rainsong":MAILTO:director@singingcreekcenter.org
END:VEVENT
BEGIN:VEVENT
DTSTART;TZID=America/Los_Angeles:20220920T180000
DTEND;TZID=America/Los_Angeles:20220920T200000
DTSTAMP:20260423T124642
CREATED:20220816T004646Z
LAST-MODIFIED:20220817T164604Z
UID:7875-1663696800-1663704000@www.singingcreekcenter.org
SUMMARY:Homestead Arts: Soap Making Class
DESCRIPTION:Homestead Arts: Soap Making Class\nAdults and teens 13 years old and up. Cost: $26 – all supplies included. Location: Dr. Snapp House (Singing Creek Educational Center) 360 S. River Road\, Cottage Grove\, OR  \nLearn the basics of making bar soap from scratch. We will discuss the chemistry of saponification\, properties of different base oils and local sources\, and fragrance oils and other additives while we make a batch of soap. You will also learn how to make liquid soap and two forms of laundry soap. Take home a share of the soap we produce. \nPre-registration is required. Use the form below to sign up for this class.  \n			\n			\n				\n				\n				\n				\n				\n				\n				\n				\n				\n				\n			\n			\n				\n				\n				\n				\n			\n				\n				\n				\n				\n				\n				\n				\n				\n				\n				\n				\n			\n			\n				\n				\n				\n				\n				\n				\n				\n				\n				\n				About Your Instructor\nKevin Prier has a BS in biology from the University of Oregon and a doctoral dissertation in neurobiology at the University of Basel\, Switzerland. With an extensive background in the sciences and math and more than 10 years tutoring and teaching experience from grade school to college level\, he tutors science\, math\, and German at the elementary through college level and also works as a medical interpreter in German and French. His own children have been entirely home schooled. He has been teaching them science and math along with children from other home-schooled families\, and was potions master for Homeschool Hogwarts for four years\, teaching chemistry as Professor Abraxas. Kevin also teaches urban homesteading classes for adults through community centers in Eugene and Springfield\, with workshops on gardening and foraging; fermenting sauerkraut\, kimchi\, and other vegetables; cheese and sausage making; soap making; and more. \nSuburban Homecraft: suburbanhomecraft.comNews\, tips\, and upcoming events on our Facebook page: www.facebook.com/suburbanhomecraft
URL:https://www.singingcreekcenter.org/event/homestead-arts-soap-making-class-2/
LOCATION:Snapp House\, 360 S. River Rd.\, Cottage Grove\, Oregon\, 97424
CATEGORIES:Classes
ATTACH;FMTTYPE=image/jpeg:https://www.singingcreekcenter.org/wp-content/uploads/2022/08/coconut-soap-with-floral-fragrance.jpg
ORGANIZER;CN="Karen Rainsong":MAILTO:director@singingcreekcenter.org
END:VEVENT
BEGIN:VEVENT
DTSTART;TZID=America/Los_Angeles:20220927T160000
DTEND;TZID=America/Los_Angeles:20220927T180000
DTSTAMP:20260423T124642
CREATED:20220817T210339Z
LAST-MODIFIED:20220818T010045Z
UID:7991-1664294400-1664301600@www.singingcreekcenter.org
SUMMARY:Homestead Arts: Knitting Circle
DESCRIPTION:Love to Knit\, crochet\, felt\, or sew?\nJoin us for a fun afternoon of fibers arts projects! Come and bring whatever project you are working on and we will provide tea. Chat with old friends or make some new ones! Kids are welcome from ages 6 and up. We have plenty of needles\, thread\, yarn and scissors. \nTuesday September 27th\, 4pm – 6pm \nCOST IS FREE. We will put out a donation jar if you can help contribute to our non-profit. \nPlease RSVP by emailing Karen\, our Director\, at director@singingcreekcenter.org.
URL:https://www.singingcreekcenter.org/event/homestead-arts-knitting-circle/
LOCATION:Snapp House\, 360 S. River Rd.\, Cottage Grove\, Oregon\, 97424
CATEGORIES:Classes
ATTACH;FMTTYPE=image/jpeg:https://www.singingcreekcenter.org/wp-content/uploads/2022/08/knitting-circle-day.jpg
ORGANIZER;CN="Karen Rainsong":MAILTO:director@singingcreekcenter.org
END:VEVENT
END:VCALENDAR