BEGIN:VCALENDAR
VERSION:2.0
PRODID:-//singingcreekcenter.org - ECPv6.15.20//NONSGML v1.0//EN
CALSCALE:GREGORIAN
METHOD:PUBLISH
X-ORIGINAL-URL:https://www.singingcreekcenter.org
X-WR-CALDESC:Events for singingcreekcenter.org
REFRESH-INTERVAL;VALUE=DURATION:PT1H
X-Robots-Tag:noindex
X-PUBLISHED-TTL:PT1H
BEGIN:VTIMEZONE
TZID:UTC
BEGIN:STANDARD
TZOFFSETFROM:+0000
TZOFFSETTO:+0000
TZNAME:UTC
DTSTART:20190101T000000
END:STANDARD
END:VTIMEZONE
BEGIN:VEVENT
DTSTART;TZID=UTC:20200410T180000
DTEND;TZID=UTC:20200410T200000
DTSTAMP:20260425T114545
CREATED:20191229T113657Z
LAST-MODIFIED:20200327T004240Z
UID:4344-1586541600-1586548800@www.singingcreekcenter.org
SUMMARY:Homestead Arts: Garden Prep and Seed Starting
DESCRIPTION:Due to the Coronavirus we have to cancel this event. We hope to reschedule! Please check back.\nGet your garden ready for planting and start your tomato seeds inside so they are ready when the weather warms up. Gardening basics and more advanced techniques will include starts vs. direct sowing\, co-planting\, beneficial insects and how to attract them\, composting\, soil amendments\, and maximizing limited space. Locally adapted seeds included with class. \n			\n				\n				\n				\n				\n				\n			\n			\n				\n				\n				\n				\n			\n				\n				\n				\n				\n				\n				\n				\n				\n				\n				\n				\n			\n			\n				\n				\n				\n				\n				\n				\n				\n				\n				\n				Kevin Prier lives in Eugene and is the father of two homeschooled children. He teaches urban homesteading classes for adults through community centers in Eugene and Springfield\, with workshops on gardening and foraging; fermenting sauerkraut\, kimchi\, and other vegetables; cheese and sausage making; soap making; and more. See his Suburban Homecraft website here: https://suburbanhomecraft.com/
URL:https://www.singingcreekcenter.org/event/homestead-arts-garden-prep-and-seed-starting/
LOCATION:Dr. Snapp House\, 360 S. River Rd.\, Cottage Grove\, OR
CATEGORIES:Classes
ATTACH;FMTTYPE=image/jpeg:https://www.singingcreekcenter.org/wp-content/uploads/2019/12/starting-plants-web.jpg
ORGANIZER;CN="Karen Rainsong":MAILTO:director@singingcreekcenter.org
END:VEVENT
BEGIN:VEVENT
DTSTART;TZID=UTC:20200418T130000
DTEND;TZID=UTC:20200418T153000
DTSTAMP:20260425T114545
CREATED:20191213T140026Z
LAST-MODIFIED:20200327T004143Z
UID:4275-1587214800-1587223800@www.singingcreekcenter.org
SUMMARY:Pioneer Scribe – Early Settlers Letter Writing for Girl Scouts
DESCRIPTION:Due to the Coronavirus we have to cancel this event. We hope to reschedule! Please check back.\nFor Girl Scouts: \nLearn about early letter writing in Oregon history\, including getting your very own handwritten letter from a child on the Oregon Trail! (These were written by SCEC\, some based on true accounts.) We will read our letters to each other\, discuss them\, and write a short adventure story about the child in the letter. Then you can dress up in our pioneer costumes and give yourself a new pioneer name. Create and write a poem about your pioneer girl persona and complete it with a drawing. It’s fun to learn about history while earning your Scribe badge! \nOur education center is in the historic Dr. Snapp house built in 1898. More details to follow! \nSign up and pay on the Girl Scouts website:http://www.girlscoutsosw.org/
URL:https://www.singingcreekcenter.org/event/pioneer-scribe-for-girl-scouts/
LOCATION:Dr. Snapp House\, 360 S. River Rd.\, Cottage Grove\, OR
CATEGORIES:Classes,pioneer events
ATTACH;FMTTYPE=image/jpeg:https://www.singingcreekcenter.org/wp-content/uploads/2019/11/Sophia-writing-jefferson-letter-at-camp-Summer-2019.jpg
ORGANIZER;CN="Karen Rainsong":MAILTO:director@singingcreekcenter.org
END:VEVENT
END:VCALENDAR