BEGIN:VCALENDAR
VERSION:2.0
PRODID:-//singingcreekcenter.org - ECPv6.15.20//NONSGML v1.0//EN
CALSCALE:GREGORIAN
METHOD:PUBLISH
X-ORIGINAL-URL:https://www.singingcreekcenter.org
X-WR-CALDESC:Events for singingcreekcenter.org
REFRESH-INTERVAL;VALUE=DURATION:PT1H
X-Robots-Tag:noindex
X-PUBLISHED-TTL:PT1H
BEGIN:VTIMEZONE
TZID:UTC
BEGIN:STANDARD
TZOFFSETFROM:+0000
TZOFFSETTO:+0000
TZNAME:UTC
DTSTART:20190101T000000
END:STANDARD
END:VTIMEZONE
BEGIN:VEVENT
DTSTART;TZID=UTC:20200313T180000
DTEND;TZID=UTC:20200313T200000
DTSTAMP:20260425T131928
CREATED:20191229T112439Z
LAST-MODIFIED:20200327T004418Z
UID:4327-1584122400-1584129600@www.singingcreekcenter.org
SUMMARY:Homestead Arts: Fruit Tree Grafting
DESCRIPTION:Due to the Coronavirus we have to cancel this event. We hope to reschedule! Please check back.\nLearn how to graft new varieties of fruit onto existing trees or new rootstock for custom fruit trees. We’ll have scion (fruit tree cuttings suitable for grafting) from several rare and interesting varieties of apple\, pear\, and Asian pear to choose from and semi-dwarf rootstock. $5 material fee includes one grafted fruit tree to take home. More available at $4 each. Take home extra scion to graft for $1/stick (includes grafting tape and metal label). \n			\n				\n				\n				\n				\n				\n			\n			\n				\n				\n				\n				\n			\n				\n				\n				\n				\n				\n				\n				\n				\n				\n				\n				\n			\n			\n				\n				\n				\n				\n				\n				\n				\n				\n				\n				Kevin Prier lives in Eugene and is the father of two homeschooled children. He teaches urban homesteading classes for adults through community centers in Eugene and Springfield\, with workshops on gardening and foraging; fermenting sauerkraut\, kimchi\, and other vegetables; cheese and sausage making; soap making; and more. See his Suburban Homecraft website here: https://suburbanhomecraft.com/
URL:https://www.singingcreekcenter.org/event/homestead-arts-fruit-tree-grafting/
LOCATION:Dr. Snapp House\, 360 S. River Rd.\, Cottage Grove\, OR
CATEGORIES:Classes
ATTACH;FMTTYPE=image/jpeg:https://www.singingcreekcenter.org/wp-content/uploads/2019/12/tree-grafting.jpg
ORGANIZER;CN="Karen Rainsong":MAILTO:director@singingcreekcenter.org
END:VEVENT
BEGIN:VEVENT
DTSTART;TZID=UTC:20200328T130000
DTEND;TZID=UTC:20200328T150000
DTSTAMP:20260425T131928
CREATED:20200211T071412Z
LAST-MODIFIED:20201229T093732Z
UID:4516-1585400400-1585407600@www.singingcreekcenter.org
SUMMARY:Homestead Arts: Felted Placemats 2020
DESCRIPTION:Due to the Coronavirus we have to cancel this event. We hope to reschedule! Please check back.\nSaturday\, March 28th\, 1pm – 3pm(Sprink Break activity!) at Singing Creek Educational Center360 S. River Rd\, Cottage Grove\, ORCost: $10 eachAges: 5 and up (sibs can attend)Pre-registration required \nMake a fun and colorful placemat with wool rovings! We’ll use soap and warm water\, agitate the wool and create a pretty placemat or decoration. \nOur Homestead Arts series features a different traditional handicraft each month. This is a great chance to talk to us about our programs\, tour the site\, and get a preview of our pioneer summer camps.
URL:https://www.singingcreekcenter.org/event/homestead-arts-felted-placemats-2020-2/
LOCATION:Dr. Snapp House\, 360 S. River Rd.\, Cottage Grove\, OR
CATEGORIES:Classes
ATTACH;FMTTYPE=image/jpeg:https://www.singingcreekcenter.org/wp-content/uploads/2020/02/felted-placemats-girls-small.jpg
ORGANIZER;CN="Karen Rainsong":MAILTO:director@singingcreekcenter.org
END:VEVENT
END:VCALENDAR