BEGIN:VCALENDAR
VERSION:2.0
PRODID:-//singingcreekcenter.org - ECPv6.15.20//NONSGML v1.0//EN
CALSCALE:GREGORIAN
METHOD:PUBLISH
X-WR-CALNAME:singingcreekcenter.org
X-ORIGINAL-URL:https://www.singingcreekcenter.org
X-WR-CALDESC:Events for singingcreekcenter.org
REFRESH-INTERVAL;VALUE=DURATION:PT1H
X-Robots-Tag:noindex
X-PUBLISHED-TTL:PT1H
BEGIN:VTIMEZONE
TZID:UTC
BEGIN:STANDARD
TZOFFSETFROM:+0000
TZOFFSETTO:+0000
TZNAME:UTC
DTSTART:20190101T000000
END:STANDARD
END:VTIMEZONE
BEGIN:VEVENT
DTSTART;TZID=UTC:20200109T080000
DTEND;TZID=UTC:20200109T170000
DTSTAMP:20260425T164612
CREATED:20191229T122604Z
LAST-MODIFIED:20191229T122643Z
UID:4370-1578556800-1578589200@www.singingcreekcenter.org
SUMMARY:Homeschool: Enrollment Continues
DESCRIPTION:Our homeschool classes for boys and girls are accepting new enrollments. Classes continue until end of May.  \nSee this page for more details: https://www.singingcreekcenter.org/history-homeschool/
URL:https://www.singingcreekcenter.org/event/homeschool-enrollment-continues/
LOCATION:Dr. Snapp House\, 360 S. River Rd.\, Cottage Grove\, OR
CATEGORIES:Classes
ATTACH;FMTTYPE=image/jpeg:https://www.singingcreekcenter.org/wp-content/uploads/2019/09/Homeschool-2019-image-for-site.jpg
ORGANIZER;CN="Karen Rainsong":MAILTO:director@singingcreekcenter.org
END:VEVENT
BEGIN:VEVENT
DTSTART;TZID=UTC:20200110T180000
DTEND;TZID=UTC:20200110T200000
DTSTAMP:20260425T164612
CREATED:20191219T114351Z
LAST-MODIFIED:20191229T005457Z
UID:4295-1578679200-1578686400@www.singingcreekcenter.org
SUMMARY:Homestead Arts: Sauerkraut & Kombucha
DESCRIPTION:Learn fermentation basics as we turn a head (or several) of cabbage into sauerkraut and take home a pint to ferment and enjoy. A special modified technique lets you ferment directly in the jar. We will also make a batch of kombucha and there will be kombucha SCOBY to take home for anyone who wants it. \nThis is part of our Homestead Arts monthly series.For teens and adults only.Pre-register only and pay online with Paypal unless you make other arrangements with us.Cost: $20 class plus $2 materials fee
URL:https://www.singingcreekcenter.org/event/homestead-arts-sauerkraut-kombucha/
LOCATION:Dr. Snapp House\, 360 S. River Rd.\, Cottage Grove\, OR
CATEGORIES:Classes
ATTACH;FMTTYPE=image/jpeg:https://www.singingcreekcenter.org/wp-content/uploads/2019/12/sauerkraut-image-free.jpg
ORGANIZER;CN="Karen Rainsong":MAILTO:director@singingcreekcenter.org
END:VEVENT
BEGIN:VEVENT
DTSTART;TZID=UTC:20200124T130000
DTEND;TZID=UTC:20200124T150000
DTSTAMP:20260425T164612
CREATED:20191116T033934Z
LAST-MODIFIED:20201229T095041Z
UID:4189-1579870800-1579878000@www.singingcreekcenter.org
SUMMARY:Letters From the Trail Presentation and Class
DESCRIPTION:Join us for a wonderful FREE presentation and class at the Cottage Grove Community Center on Friday\, Jan 24th\, at 1pm.\nWe will hear Mrs. Annabelle Smith tell of her adventures on the Oregon Trail and take questions from the audience. She will bring handwritten letters from boys and girls on the Oregon Trail. Each child will receive a letter and a questionnaire to fill out about their letter. \nThis literature/reading curriculum has been designed by our Executive Director and meets the standards for Fourth Grade in reading\, comprehension\, and writing. The class will be led by an instructor who will pass out the letters and guide you in answering the questions. Your child’s “homework”\, should you choose to do it\, is to write a handwritten letter back to the author in your own words\, using your imagination. Then\, if you like\, mail us a copy and we will post them to our website. \nThis presentation and curriculum is available for teachers to book in their own classrooms for a fee of $50. Mrs. Annabelle Smith will come to you and bring the letters\, and do the presentation for your students. We will email the teacher the curriculum one week ahead of time. For more information\, see this page: https://www.singingcreekcenter.org/letters-trail-program/ \nPlease RSVP to let us know you will be coming so we know how many letters and questionnaires to bring. \nDetails:This class is geared towards home-schoolers\, since they won’t have access to this program in a regular classroom setting. But anyone with a child is welcome to come. Children must be accompanied by an adult. This program is best for children ages 8 – 12. If you bring younger siblings please be prepared to take them outside if they are disruptive. \nSee you on the trail! \n  \n  \n 
URL:https://www.singingcreekcenter.org/event/letters-from-the-trail-presentation-and-class/
LOCATION:Cottage Grove Community Center\, 700 E Gibbs Ave\,\, Cottage Grove\,\, OR\, 97424\, United States
CATEGORIES:Classes,Community Event,pioneer events
ATTACH;FMTTYPE=image/jpeg:https://www.singingcreekcenter.org/wp-content/uploads/2019/01/letters-from-the-trail-image-for-events2.jpg
ORGANIZER;CN="Karen Rainsong":MAILTO:director@singingcreekcenter.org
END:VEVENT
END:VCALENDAR