BEGIN:VCALENDAR
VERSION:2.0
PRODID:-//singingcreekcenter.org - ECPv6.15.20//NONSGML v1.0//EN
CALSCALE:GREGORIAN
METHOD:PUBLISH
X-ORIGINAL-URL:https://www.singingcreekcenter.org
X-WR-CALDESC:Events for singingcreekcenter.org
REFRESH-INTERVAL;VALUE=DURATION:PT1H
X-Robots-Tag:noindex
X-PUBLISHED-TTL:PT1H
BEGIN:VTIMEZONE
TZID:UTC
BEGIN:STANDARD
TZOFFSETFROM:+0000
TZOFFSETTO:+0000
TZNAME:UTC
DTSTART:20180101T000000
END:STANDARD
END:VTIMEZONE
BEGIN:VEVENT
DTSTART;TZID=UTC:20191102T130000
DTEND;TZID=UTC:20191102T153000
DTSTAMP:20260425T193534
CREATED:20190615T014609Z
LAST-MODIFIED:20191012T040959Z
UID:3629-1572699600-1572708600@www.singingcreekcenter.org
SUMMARY:Girls Scouts Only: Pioneer Girls Early Settlers
DESCRIPTION:Go back in time and live like an Oregon settler in 1890 at the historic Dr. Snapp House. Built in 1886\, this home is in a park next to the Coast Fork Willamette River. Pioneer dress-up clothes and bonnets are available or bring your own. Fun activities and authentic “chores” and crafts await you in this class where you can earn your Playing the Past badge in a truly unique and hands-on way. Activities may include: churning butter\, grinding grain\, finger crocheting\, sewing\, square dancing\, quill pen writing\, make a pioneer toy and more! Girl Scout badge earned: Junior Playing the Past (badge not included with registration). For Juniors level Girl Scouts Only. Signup on their website at \nhttp://www.girlscoutsosw.org/ \nFees are charged by Girl Scouts.
URL:https://www.singingcreekcenter.org/event/girls-scouts-only-pioneer-girls-early-settlers/
LOCATION:Dr. Snapp House\, 360 S. River Rd.\, Cottage Grove\, OR
CATEGORIES:Classes,pioneer events
ATTACH;FMTTYPE=image/jpeg:https://www.singingcreekcenter.org/wp-content/uploads/2017/08/girls.jpg
ORGANIZER;CN="Karen Rainsong":MAILTO:director@singingcreekcenter.org
END:VEVENT
BEGIN:VEVENT
DTSTART;TZID=UTC:20191105T180000
DTEND;TZID=UTC:20191105T200000
DTSTAMP:20260425T193534
CREATED:20191010T082354Z
LAST-MODIFIED:20191010T082739Z
UID:4118-1572976800-1572984000@www.singingcreekcenter.org
SUMMARY:Homestead Arts Class: Balms and Salves
DESCRIPTION:Even with a local apothecary\, early settlers relied mainly on their local herb gardens to provide basic medicine. Learn to make a variety of healing skin creams\, lip balms\, herbal salves and tinctures for gifts or a treat for yourself. Take home some lip balm and herbal skin cream. \nClass is taught by Kevin Prier\, and is held at the Snapp House in Cottage Grove\, at 360 S. River Road. \nAll supplies and instruction included. For teens and adults only\, please. Pre-registration required using the form below. \n \n 
URL:https://www.singingcreekcenter.org/event/homestead-arts-class-balms-and-salves/
LOCATION:Dr. Snapp House\, 360 S. River Rd.\, Cottage Grove\, OR
CATEGORIES:Classes
ATTACH;FMTTYPE=image/jpeg:https://www.singingcreekcenter.org/wp-content/uploads/2019/10/Balms-smaller-for-web.jpg
ORGANIZER;CN="Karen Rainsong":MAILTO:director@singingcreekcenter.org
END:VEVENT
END:VCALENDAR