BEGIN:VCALENDAR
VERSION:2.0
PRODID:-//singingcreekcenter.org - ECPv6.15.20//NONSGML v1.0//EN
CALSCALE:GREGORIAN
METHOD:PUBLISH
X-WR-CALNAME:singingcreekcenter.org
X-ORIGINAL-URL:https://www.singingcreekcenter.org
X-WR-CALDESC:Events for singingcreekcenter.org
REFRESH-INTERVAL;VALUE=DURATION:PT1H
X-Robots-Tag:noindex
X-PUBLISHED-TTL:PT1H
BEGIN:VTIMEZONE
TZID:UTC
BEGIN:STANDARD
TZOFFSETFROM:+0000
TZOFFSETTO:+0000
TZNAME:UTC
DTSTART:20180101T000000
END:STANDARD
END:VTIMEZONE
BEGIN:VEVENT
DTSTART;TZID=UTC:20191015T180000
DTEND;TZID=UTC:20191015T200000
DTSTAMP:20260425T211104
CREATED:20190915T084804Z
LAST-MODIFIED:20191012T040127Z
UID:4062-1571162400-1571169600@www.singingcreekcenter.org
SUMMARY:Homestead Arts: Cheese Making Class
DESCRIPTION:CLASS IS FULL- PLEASE CHECK BACK AGAIN IN SPRINGBefore reliable refrigeration\, anyone with a cow would know the process to turn any excess milk into cheese so it wouldn’t spoil. We will make a fresh hard cheese from whole milk and a cheese culture\, and learn about different hard and soft cheese cultures and processes. We will go through the entire process from cultured milk to formed cheese ready for the press. We will also go over how to make yogurt and kefir. \nThis class is taught by our instructor Kevin Prier\, at the Snapp House at 360 S. River Road in Cottage Grove\, OR. \nFor more information call Karen at 541 968-1986.
URL:https://www.singingcreekcenter.org/event/homestead-arts-cheese-making-class/
LOCATION:Dr. Snapp House\, 360 S. River Rd.\, Cottage Grove\, OR
CATEGORIES:Classes
ATTACH;FMTTYPE=image/jpeg:https://www.singingcreekcenter.org/wp-content/uploads/2019/09/cheese-wheel-lighter-bigger.jpg
ORGANIZER;CN="Karen Rainsong":MAILTO:director@singingcreekcenter.org
END:VEVENT
END:VCALENDAR